BEGIN:VCALENDAR
VERSION:2.0
PRODID:-//Conscious Paris - ECPv6.15.20//NONSGML v1.0//EN
CALSCALE:GREGORIAN
METHOD:PUBLISH
X-WR-CALNAME:Conscious Paris
X-ORIGINAL-URL:https://consciousparis.com
X-WR-CALDESC:Évènements pour Conscious Paris
REFRESH-INTERVAL;VALUE=DURATION:PT1H
X-Robots-Tag:noindex
X-PUBLISHED-TTL:PT1H
BEGIN:VTIMEZONE
TZID:Europe/Paris
BEGIN:DAYLIGHT
TZOFFSETFROM:+0100
TZOFFSETTO:+0200
TZNAME:CEST
DTSTART:20220327T010000
END:DAYLIGHT
BEGIN:STANDARD
TZOFFSETFROM:+0200
TZOFFSETTO:+0100
TZNAME:CET
DTSTART:20221030T010000
END:STANDARD
BEGIN:DAYLIGHT
TZOFFSETFROM:+0100
TZOFFSETTO:+0200
TZNAME:CEST
DTSTART:20230326T010000
END:DAYLIGHT
BEGIN:STANDARD
TZOFFSETFROM:+0200
TZOFFSETTO:+0100
TZNAME:CET
DTSTART:20231029T010000
END:STANDARD
BEGIN:DAYLIGHT
TZOFFSETFROM:+0100
TZOFFSETTO:+0200
TZNAME:CEST
DTSTART:20240331T010000
END:DAYLIGHT
BEGIN:STANDARD
TZOFFSETFROM:+0200
TZOFFSETTO:+0100
TZNAME:CET
DTSTART:20241027T010000
END:STANDARD
END:VTIMEZONE
BEGIN:VEVENT
DTSTART;TZID=Europe/Paris:20231009T193000
DTEND;TZID=Europe/Paris:20231009T210000
DTSTAMP:20260424T194140
CREATED:20230616T074729Z
LAST-MODIFIED:20231006T154121Z
UID:23470-1696879800-1696885200@consciousparis.com
SUMMARY:Soirée d’ouverture du cycle Art & Méditation ✹ I Rencontre avec Soizic Michelot
DESCRIPTION:Soirée d’ouverture\nLes moines marcheurs écrivaient des poèmes\, les ermites composaient des chants spontanés\, d’autres s’adonnaient à la peinture\nou à la calligraphie. Parce que la méditation est une démarche intérieure et parce qu’elle se situe sur une brèche entre visible et invisible\, matériel et immatériel\, l’art a toujours été son relais privilégié d’expression. Aujourd’hui encore\, des artistes\ncontemporains puisent leurs élans créatifs dans les approches contemplatives. \nEn ouverture du cycle Art et Méditation\, cette conférence sera l’occasion de présenter le cycle complet  Art & Méditation\, de s’immerger dans l’univers de la pratique méditative et d’explorer les liens qui unissent si intimement ces deux approches. Cette conférence sera suivie de la signature de “Méditer à travers l’art” et d’un temps d’échange convivial autour d’un verre. \nÀ propos de Soizic Michelot \nAprès des études d’histoire de l’art\, de littérature et de cinéma\, Soizic Michelot passe sept ans dans un monastère bouddhiste dont trois ans en retraite traditionnelle. Également formée aux approches laïques de pleine conscience\, elle consacre aujourd’hui son temps à l’enseignement de la méditation (en secteur hospitalier\, à la faculté et auprès du grand public) et à l’écriture. Elle est l’auteure de Méditer à travers l’art – 100 œuvres pour faire l’expérience de la pleine conscience (Ed. Albin Michel\, 2021) et co-auteure de Pour un renouveau contemplatif dans l’art contemporain. Ses recherches actuelles portent sur les zones d’indivision entre art\, écologie\, impact sociétal et pratique méditative. \nLe cycle Art & Méditation\nLe cycle complet  Art & Méditation comprend la soirée d’inauguration suivie de 4 matinées en présence de Soizic Michelot et ses invités. \nDimanche 12 novembre à 11 h I La méditation\, une invitation à la beauté  \nLors de cette première conférence-atelier consacrée aux liens qui unissent l’art à la méditation\, Soizic Michelot nous invitera de façon poétique et immersive à nous interroger sur la notion de beauté. Où il sera question de perception du réel\, d’épiphanie profane (selon les mots de Philippe Filliot)\, d’absence de division entre les dimensions sacrées et profanes de l’existence et de la méditation comme moyen de disponibilité et de (re)sensibilisation. \n*** \nDimanche 26 novembre à 11 h. La méditation et les approches contemplatives dans l’art contemporain \nLors de ce second volet du cycle de conférences-ateliers consacrés aux liens qui unissent l’art à la méditation\, Soizic Michelot nous\ninvitera à nous immerger dans les œuvres de différents artistes contemporains\, tous méditants. Où il sera question de qualité de présence\, d’attention et d’intention\, de sentiment océanique\, d’écologie poétique et d’activisme contemplatif. \n*** \nDimanche 10 décembre à 11 h. La méditation\, un art sans œuvre \n“Je crois qu’il est possible de créer\, sans même écrire un mot ni peindre un tableau\, simplement en façonnant sa vie intérieure ” écrit\nEtty Hillesum. Lors de ce troisième volet du cycle Art et Méditation\, Soizic Michelot nous invitera à aborder la méditation comme une création sans objet ou un art sans œuvre. La méditation comme un processus permanent de création. Où il sera question de créativité dans toutes les dimensions du quotidien\, d’habiter le présent et ses illusions de répétition\, de prendre des risques\, de danser le changement… \n*** \nDimanche 17 décembre à 11h. Un dialogue entre démarche artistique et méditative avec les artistes Charwei Tsai\, Julien Signolet et Mathias Durand \nPour clôturer le cycle de conférences-ateliers consacrés aux liens qui unissent l’art à la méditation\, Soizic Michelot invitera trois artistes contemporains pour un temps de dialogue vivant sur les interactions entre démarche artistique et démarche méditative. \nCharwei Tsai calligraphie le sutra du cœur sur des écorces\, des feuilles\, des champignons\, du tofu… Représentée par la Galerie Mor Charpentier à Paris\, ses performances contemplatives explorent des questions centrales : comment la science et la technologie nous aident à ralentir ? À toucher la terre ? À déconstruire l’habitude de nous identifier comme des entités permanentes et indépendantes ? \nJulien Signolet sculpte des nuages dans de l’albâtre. Sa dernière installation\, exposée dans la sacristie au Collège des Bernardins au printemps 2023\, interroger sur l’Immuable impermanence de toute chose. « La chair comme le nuage se meut\, se mêle et meurt puis retourne à la terre pour naître à nouveau ». \nMathias Durand est compositeur multi-instrumentiste. Il fait de l’écoute une qualité primordiale pour être dans la présence de chaque instant\, de chaque note\, de chaque résonance. Auprès de Julien Signolet\, il a réalisé la création sonore de l’installation « III » présentée au Collège des Bernardins au printemps 2023.
URL:https://consciousparis.com/evenement/soireeouvertureartetmeditation/
LOCATION:Conscious\, 12 rue de Normandie\, Paris\, 75003
CATEGORIES:Philosophie, littérature & psychologie,SOIRÉES
ATTACH;FMTTYPE=image/jpeg:https://consciousparis.com/wp-content/uploads/2023/06/Mediter-a-travers-lart-.jpg
ORGANIZER;CN="Conscious Paris":MAILTO:info@consciousparis.com
END:VEVENT
BEGIN:VEVENT
DTSTART;TZID=Europe/Paris:20231012T190000
DTEND;TZID=Europe/Paris:20231012T220000
DTSTAMP:20260424T194140
CREATED:20230616T074729Z
LAST-MODIFIED:20240115T162848Z
UID:23478-1697137200-1697148000@consciousparis.com
SUMMARY:Opening ✹ I Djabril Boukhenaïssi • Morgane Baroghel-Crucq
DESCRIPTION:Djabril Bouhenaïssi \n\n\n\n\n\nDiplômé de l’Ecole Nationale Supérieure des Beaux-arts de Paris depuis 2018\, Djabril Boukhenaïssi poursuit sa recherche à travers la peinture\, le pastel et la gravure. Son travail est essentiellement nourri par la littérature et la musique et s’articule autour des notions de disparitions et de fragilité. Dans son travail\, l’artiste reconstruit des images sensibles dont nous faisons l’expérience et qui\, comme pour tout un chacun\, nourrissent notre rapport au monde. Si la peinture qu’il présente semble indécise\, comme à mi-chemin d’une représentation aboutie\, c’est qu’elle cherche à évoquer des événements qui sont eux-même évanescents\, fragiles\, mal dessinés et mal inscrits dans notre propre intériorité. C’est le cas d’un souvenir d’enfance\, d’un paysage entr’aperçu\, de la rêverie induite par un morceau de musique ou encore du visage d’un ami disparu. Autant d’événements logés dans les interstices de notre mémoire\, qui s’y sont sédimentés et amoncelés\, et qui échappent dès lors qu’on cherche à les saisir. \nMorgane Baroghel-Crucq \nDiplomée du département textile de l’ENSCI depuis 2009\, Morgane Baroghel-Crucq – par son approche sensible de l’expérimentation textile – pose un regard contemporain sur un savoir-faire millénaire : le tissage. Morgane Baroghel-Crucq est artiste et artisane textile. Elle croise fils et matériaux sur métier à tisser\, tisse des étoffes-tableaux\, des œuvres-matières. C’est une contemplative. Elle aime observer dans le silence la Vie et ses paysages\, puis dessiner avec les fils les mouvements des roches\, des strates\, tisser l’impermanence de la lumière sur l’horizon. Au-delà de l’esthétique\, c’est le processus qui inspire sa démarche : la force du vent qui sculpte les dunes\, le ruissellement de l’eau qui écrit dans la roche. Le tissage est l’art du lien\, de la connexion\, du croisement. Chaque fil de chaîne dépendant de chaque fil de trame pour assurer la solidité de l’ensemble. Comme dans un tissu\, l’interdépendance des éléments qui créent la Vie et ses paysages la fascine\, dans sa globalité et ses cycles. Diplômée du département textile de l’ENSCI en 2009\, Morgane Baroghel-Crucq pose un regard contemporain sur le savoir-faire millénaire qu’est le tissage par une approche sensible et expérimentale. Ses réalisations s’inscrivent à la rencontre du design\, de l’artisanat et de l’art. Elles sont œuvres personnelles et développements exclusifs sur-mesure\, destinés aux professionnels ou particuliers sensibles à l’excellence du geste\, aux projets de décoration d’exception.
URL:https://consciousparis.com/evenement/opening-%e2%9c%b9-i-djabril-boukhenaissi-morgane-baroghel-crucq/
LOCATION:Conscious\, 12 rue de Normandie\, Paris\, 75003
CATEGORIES:Arts & architecture,SOIRÉES
ATTACH;FMTTYPE=image/webp:https://consciousparis.com/wp-content/uploads/2023/07/expositions_consciousparis-scaled-1.webp
ORGANIZER;CN="Conscious Paris":MAILTO:info@consciousparis.com
END:VEVENT
BEGIN:VEVENT
DTSTART;TZID=Europe/Paris:20231016T193000
DTEND;TZID=Europe/Paris:20231016T203000
DTSTAMP:20260424T194140
CREATED:20230809T093100Z
LAST-MODIFIED:20231012T135119Z
UID:23415-1697484600-1697488200@consciousparis.com
SUMMARY:Art contemporain I Paysages & monde vivant
DESCRIPTION:Longtemps cantonné au rôle de décor\, le paysage s’est largement émancipé au XIXème siècle grâce aux romantiques\, et plus tard aux impressionnistes\, qui ont su capter la force de la nature et représenter ses différents cataclysmes. Qu’en est-il deux siècles plus tard ? L’idée de Nature a fait place à celle du vivant comme monde à part entière. En effectuant cette reconnexion\, les artistes ont matérialisé différentes prises de conscience sociétales\, politiques et écologiques. \nConférence animée par Morgane Evrard \nPassionnée de musées\, Morgane Evrard étudie l’histoire de l’art et la muséologie sur les bancs de l’université Panthéon Sorbonne et de l’Ecole du Louvre. Elle ressort diplômée d’un Master de recherche durant lequel elle s’est spécialisée dans l’influence de l’orientalisme sur la peinture religieuse et d’un Master professionnel dont le mémoire portait sur la communication des musées parisiens. Sa carrière professionnelle l’amène à devenir chargée de communication du Domaine de Chantilly\, puis professeure d’histoire de l’art\, du design et du luxe à l’école Conte. Depuis\, Morgane Evrard s’est parallèlement engagée dans la médiation afin de transmettre son amour du patrimoine à tous les types de publics. \nLe cycle. Soirées Art contemporain  \nPendant 10 soirées\, CONSCIOUS vous propose d’approfondir vos connaissances en art contemporain. En présence de Morgane Evrard et Paul-Bernard Nouraud\, apprenez et échangez ensemble sur l’art de notre époque. Les soirées ont lieu les lundis soir de 19h30 à 20h30. \nDates et horaires  \nSoirée introductive \n\nLundi 18 septembre à 19 h\n\nSéances  \n\nLundi 16 octobre 2023 à 19h30 I Paysages et monde vivant – Conférence animée par Morgane Evrard\nLundi 13 novembre 2023 à 19h30 l L’art contemporain et la gourmandise – Conférence animée par Morgane Evrard\nLundi 11 décembre 2023 I Art et musique : un accord parfait ? – Conférence animée par Morgane Evrard\nLundi 8 janvier à 19h30 I Les artistes contemporains sont-ils engagés ? – Conférence animée par Paul-Bernard Nouraud\nLundi 5 février à 19h30 I Comment représenter les migrations contemporaines ? – Conférence animée par Paul-Bernard Nouraud\nLundi 18 mars à 19h30 I L’art contemporain se souvient-il de l’histoire de l’art ? – Conférence animée par Paul-Bernard Nouraud\nLundi 22 avril à 19h30 I L’art contemporain se souvient-il du passé ? – Conférence animée par Paul-Bernard Nouraud\nLundi 13 mai à 19h30 : L ’art actuel est-il postcolonial ? – Conférence animée par Paul-Bernard Nouraud\nLundi 10 juin I L’Art actuel a-t-il un genre ? – Conférence animée par Paul-Bernard Nouraud\n\n 
URL:https://consciousparis.com/evenement/art-contemporain-i-paysages-monde-vivant/
LOCATION:Conscious\, 12 rue de Normandie\, Paris\, 75003
CATEGORIES:Arts & architecture,SOIRÉES
ATTACH;FMTTYPE=image/webp:https://consciousparis.com/wp-content/uploads/2023/07/pleiade_consciousparis.webp
ORGANIZER;CN="Conscious Paris":MAILTO:info@consciousparis.com
END:VEVENT
BEGIN:VEVENT
DTSTART;TZID=Europe/Paris:20231018T193000
DTEND;TZID=Europe/Paris:20231018T203000
DTSTAMP:20260424T194140
CREATED:20230614T114454Z
LAST-MODIFIED:20240115T162707Z
UID:23146-1697657400-1697661000@consciousparis.com
SUMMARY:EN 2023 I Fossé intergénérationnel\, mythe ou réalité ?
DESCRIPTION:En 2023\, quel constat peut-on tirer sur le gap générationnel ? \nLa crise sanitaire\, la réforme des retraites et la crise écologique sont autant d’éléments qui semblent effectivement creuser les écarts entre générations. Ces éléments sont il réellement les déclencheurs de ce conflit ? Ou ne peut on pas prétendre à un conflit qui a toujours été présent au sein de nos sociétés ? Peut-on seulement et doit-on parler de “conflits” ? \nSofiane Zaizoune recevra Léa Falco\, auteure du livre “Faire écologie ensemble” et Anthony Cortes\, co-auteur du livre “L’affrontement qui vient : de l’éco-résistance à l’éco-terrorisme ?” pour débattre à ce propos. \n  \nLes invités \nLéa Falco \nNée en 1998\, Léa Falco est diplômée de Sciences Po Paris et porte-parole de Pour un réveil écologique\, collectif d’étudiants et de jeunes actifs qui souhaitent accélérer la transformation écologique dans l’enseignement supérieur et les entreprises. Ancienne chroniqueuse dans l’émission « Les Grandes Gueules » sur RMC\, elle enchaîne depuis les interventions publiques\, que ce soit dans les médias ou lors de colloques\, et est très suivie sur les réseaux sociaux. Depuis septembre 2022\, elle travaille à la formation des agents publics aux enjeux écologiques. “Faire écologie ensemble” est son premier essai. \nAnthony Cortes \nAnthony Cortes est journaliste indépendant. Auteur de deux livres\, il a d’abord sillonné les campagnes françaises pendant un an et demi pour écrire une grande enquête sur le sursaut de la ruralité – “Le Réveil de la France oubliée” (éd. du Rocher\, 2021) – avant de s’intéresser au militantisme écologique pour “L’affrontement qui vient : de l’éco-résistance à l’éco-terrorisme ?”\, cosigné avec Sébastien Leurquin. \n  \nSpécialiste Enjeux Sociétaux \nSofiane Zaizoune est journaliste chez Madame Figaro où il couvre les rubriques Business et Société. Son travail porte sur le monde du travail\, les dirigeants économiques ou politiques\, l’évolution de nos modes de vie\, la santé\, la sexualité ou l’écologie
URL:https://consciousparis.com/evenement/en-2023-i-conflit-intergenerationnel-mythe-ou-realite/
LOCATION:Conscious\, 12 rue de Normandie\, Paris\, 75003
CATEGORIES:Géopolitique, histoire & enjeux sociétaux,SOIRÉES
ATTACH;FMTTYPE=image/webp:https://consciousparis.com/wp-content/uploads/2023/06/ANTHONY-CORTES-SOFIANE-ZAIZOUNE-LEA-FALCO.webp
ORGANIZER;CN="Conscious Paris":MAILTO:info@consciousparis.com
END:VEVENT
BEGIN:VEVENT
DTSTART;TZID=Europe/Paris:20231031T193000
DTEND;TZID=Europe/Paris:20231031T203000
DTSTAMP:20260424T194140
CREATED:20230621T104414Z
LAST-MODIFIED:20230923T130237Z
UID:23014-1698780600-1698784200@consciousparis.com
SUMMARY:Entre travail de mémoire & désir de mémoire
DESCRIPTION:Entre travail de mémoire et désir de mémoire\, CONSCIOUS vous invite à échanger avec Yaël Holveck-Uzan et Laurent Wajnberg\, auteurs du livre « Un dimanche à Auschwitz ».  \nUne rencontre entre images et mots\, à travers 60 photographies en noir et blanc prises lors d’un voyage sur le site d’Auschwitz et des extraits d’entretiens avec 20 visiteurs. Une approche contemporaine de la mémoire\, vingt ans après la publication du livre et l’exposition qui l’a accompagné\, dans une histoire qui n’en finit pas de se transmettre sous des formes réinventées.
URL:https://consciousparis.com/evenement/se-souvenir-rencontre-avec-yael-holveck-laurent-wajnberg/
LOCATION:Conscious\, 12 rue de Normandie\, Paris\, 75003
CATEGORIES:Arts & architecture,Philosophie, littérature & psychologie,SOIRÉES
ATTACH;FMTTYPE=image/webp:https://consciousparis.com/wp-content/uploads/2023/06/Undimancheaauschwitz_yaelholveck_consciousparis.webp
ORGANIZER;CN="Conscious Paris":MAILTO:info@consciousparis.com
END:VEVENT
END:VCALENDAR