BEGIN:VCALENDAR
VERSION:2.0
PRODID:-//Conscious Paris - ECPv6.15.20//NONSGML v1.0//EN
CALSCALE:GREGORIAN
METHOD:PUBLISH
X-WR-CALNAME:Conscious Paris
X-ORIGINAL-URL:https://consciousparis.com
X-WR-CALDESC:Évènements pour Conscious Paris
REFRESH-INTERVAL;VALUE=DURATION:PT1H
X-Robots-Tag:noindex
X-PUBLISHED-TTL:PT1H
BEGIN:VTIMEZONE
TZID:Europe/Paris
BEGIN:DAYLIGHT
TZOFFSETFROM:+0100
TZOFFSETTO:+0200
TZNAME:CEST
DTSTART:20220327T010000
END:DAYLIGHT
BEGIN:STANDARD
TZOFFSETFROM:+0200
TZOFFSETTO:+0100
TZNAME:CET
DTSTART:20221030T010000
END:STANDARD
BEGIN:DAYLIGHT
TZOFFSETFROM:+0100
TZOFFSETTO:+0200
TZNAME:CEST
DTSTART:20230326T010000
END:DAYLIGHT
BEGIN:STANDARD
TZOFFSETFROM:+0200
TZOFFSETTO:+0100
TZNAME:CET
DTSTART:20231029T010000
END:STANDARD
BEGIN:DAYLIGHT
TZOFFSETFROM:+0100
TZOFFSETTO:+0200
TZNAME:CEST
DTSTART:20240331T010000
END:DAYLIGHT
BEGIN:STANDARD
TZOFFSETFROM:+0200
TZOFFSETTO:+0100
TZNAME:CET
DTSTART:20241027T010000
END:STANDARD
END:VTIMEZONE
BEGIN:VEVENT
DTSTART;TZID=Europe/Paris:20231108T193000
DTEND;TZID=Europe/Paris:20231108T203000
DTSTAMP:20260424T181324
CREATED:20230614T114454Z
LAST-MODIFIED:20231115T121753Z
UID:23329-1699471800-1699475400@consciousparis.com
SUMMARY:EN 2023 I Gouverner\, c'est aimer ?
DESCRIPTION:Face aux violences urbaines\, faut-il s’interroger sur le rôle et l’exercice du pouvoir ? Peut-on dire que les gouvernements successifs ont perdu l’art de manier les hommes ? \nAfin de tenter de répondre à cette question d’actualité\, Conscious vous invite à une soirée réflexion en présence d’Yves Marek. \nL’invité  \nAmbassadeur chargé des mines antipersonnel\, est aussi président du centre national du patrimoine de la chanson\, membre de l’Académie des sciences d’Outre-Mer\, il a été aussi président de la Fédération française des échecs. Ancien conseiller du ministre de la Culture et conseiller culturel du président du Sénat il a été l’artisan de la renaissance de la politique d’exposition du musée du Luxembourg. Yves Marek\, qui fut conseiller ou directeur de cabinet de sept ministres de droite et de gauche\, Délégué général des Amis de Jacques Chirac\, a été un acteur et un observateur attentif du jeu politique. \nL’ouvrage \nCe livre part du constat que jusqu’à la Révolution française\, il y avait des moralistes et des conseillers des Princes\, des hommes d’Etat qui écrivaient sur l’art de gouverner les hommes. Depuis\, on feint de croire que les hommes sont parfaits et que les gouvernants sont des personnes chargées de résoudre des problèmes et dont on doit s’assurer qu’ils n’abusent pas de leur pouvoir et qu’ils sont honnêtes. Il y a beaucoup de juges de morale et plus de moralistes humanistes. Et pourtant la politique et la conduite des affaires de l’Etat obéissent toujours aux mêmes lois universelles du comportement humain\, décrites non seulement par des hommes d’Etat mais aussi par les plus grands romanciers. L’ambition de ce livre est\, en exposant cette sagesse millénaire\, de réhabiliter l’art de gouverner comme un acte de tendresse parce qu’il suppose non pas de traiter des dossiers mais de maîtriser l’art de manier les hommes. L’originalité de ce livre est aussi que ramenant la politique au coeur des passions humaines et de la nature humaine\, il s’appuie non seulement sur les pensées des politiques mais sur le regard pénétrants des grands écrivains ou des mystiques. Un concentré d’intelligence\, d’expérience\, de culture et de sagesse.
URL:https://consciousparis.com/evenement/en-2023-gouvernetaimer-debat/
LOCATION:Conscious\, 12 rue de Normandie\, Paris\, 75003
CATEGORIES:Géopolitique, histoire & enjeux sociétaux,SOIRÉES
ATTACH;FMTTYPE=image/webp:https://consciousparis.com/wp-content/uploads/2023/06/Yves-marek-I-Gouverner-cest-aimer_consciousparis.webp
ORGANIZER;CN="Conscious Paris":MAILTO:info@consciousparis.com
END:VEVENT
BEGIN:VEVENT
DTSTART;TZID=Europe/Paris:20231113T193000
DTEND;TZID=Europe/Paris:20231113T203000
DTSTAMP:20260424T181324
CREATED:20230809T093100Z
LAST-MODIFIED:20240115T162919Z
UID:23422-1699903800-1699907400@consciousparis.com
SUMMARY:Art contemporain I La gourmandise
DESCRIPTION:Autrefois péché capital\, aujourd’hui symbole de l’enfance\,  la gourmandise a longtemps revêtu diverses facettes. Dès l’Antiquité\, les scènes de festins incarnaient la richesse  tandis qu’au XVIIème siècle\, les natures mortes de nourriture symbolisaient la brièveté de la vie.  Aujourd’hui\, que signifient ces représentations alimentaires ? Derrière l’inévitable rappel du temps\, l’art contemporain nous invite à se questionner sur la responsabilisation du citoyen face à la surproduction alimentaire dans une société de consommation décomplexée. \nConférence animée par Morgane Evrard \nPassionnée de musées\, Morgane Evrard étudie l’histoire de l’art et la muséologie sur les bancs de l’université Panthéon Sorbonne et de l’Ecole du Louvre. Elle ressort diplômée d’un Master de recherche durant lequel elle s’est spécialisée dans l’influence de l’orientalisme sur la peinture religieuse et d’un Master professionnel dont le mémoire portait sur la communication des musées parisiens. Sa carrière professionnelle l’amène à devenir chargée de communication du Domaine de Chantilly\, puis professeure d’histoire de l’art\, du design et du luxe à l’école Conte. Depuis\, Morgane Evrard s’est parallèlement engagée dans la médiation afin de transmettre son amour du patrimoine à tous les types de publics. \n  \nLe Cycle I Soirées Art Contemporain  \nPendant 10 soirées\, CONSCIOUS vous propose d’approfondir vos connaissances en art contemporain. En présence de Morgane Evrard et Paul-Bernard Nouraud\, apprenez et échangez ensemble sur l’art de notre époque. Les soirées ont lieu les lundis soir de 19h30 à 20h30. \nDates et horaires  \nSoirée introductive \n\nLundi 18 septembre à 19 h\n\nSéances  \n\nLundi 16 octobre 2023 à 19h30 I Paysages et monde vivant – Conférence animée par Morgane Evrard\nLundi 13 novembre 2023 à 19h30 l L’art contemporain et la gourmandise – Conférence animée par Morgane Evrard\nLundi 11 décembre 2023 I Art et musique : un accord parfait ? – Conférence animée par Morgane Evrard\nLundi 8 janvier à 19h30 I Les artistes contemporains sont-ils engagés ? – Conférence animée par Paul-Bernard Nouraud\nLundi 5 février à 19h30 I Comment représenter les migrations contemporaines ? – Conférence animée par Paul-Bernard Nouraud\nLundi 18 mars à 19h30 I L’art contemporain se souvient-il de l’histoire de l’art ? – Conférence animée par Paul-Bernard Nouraud\nLundi 22 avril à 19h30 I L’art contemporain se souvient-il du passé ? – Conférence animée par Paul-Bernard Nouraud\nLundi 13 mai à 19h30 : L ’art actuel est-il postcolonial ? – Conférence animée par Paul-Bernard Nouraud\nLundi 10 juin I L’Art actuel a-t-il un genre ? – Conférence animée par Paul-Bernard Nouraud
URL:https://consciousparis.com/evenement/art-contemporain-i-la-gourmandise/
LOCATION:Conscious\, 12 rue de Normandie\, Paris\, 75003
CATEGORIES:Arts & architecture,SOIRÉES
ORGANIZER;CN="Conscious Paris":MAILTO:info@consciousparis.com
END:VEVENT
BEGIN:VEVENT
DTSTART;TZID=Europe/Paris:20231129T193000
DTEND;TZID=Europe/Paris:20231129T203000
DTSTAMP:20260424T181324
CREATED:20230614T114454Z
LAST-MODIFIED:20240115T162757Z
UID:23517-1701286200-1701289800@consciousparis.com
SUMMARY:EN 2023 I Comment qualifier les rapports entre la France et la Chine ?
DESCRIPTION:Après trois années de confinement maximum contre le Covid\, la Chine a besoin de tranquillité sur le plan économique. La conjoncture chinoise rencontre en effet de nombreuses difficultés en 2023: production industrielle en baisse\, chômage croissant.. Sur le plan diplomatique\, en s’abstenant de condamner la Russie pour son offensive en Ukraine\, elle s’isole de nombreux pays occidentaux. Quels sont actuellement les rapports entre la France et la Chine ? \nConscious invite Pierre Haski\, chroniqueur Géopolitique sur France Inter\, président de Reporters Sans Frontières et ancien correspondant à Pékin de Libération\, pour discuter de ce sujet d’actualité. \nSpécialiste Géopolitique \nPierre Haski est un journaliste spécialiste des questions géopolitiques. Il a été correspondant de médias français en Afrique du Sud\, au Moyen Orient et en Chine. En 1981 il a rejoint « Libération » pour travailler sur les thématiques internationales. Il a aussi été chef du service international puis directeur-adjoint de ce même journal. En 2000\, le journal l’envoie à Pékin comme correspondant et il y reste cinq ans. Là-bas\, il tient le blog « Mon journal de Chine » où il s’exprime avec des propos libres ce qui entraîne la fermeture du blog par les autorités chinoises.
URL:https://consciousparis.com/evenement/en-2023-i-comment-qualifier-les-rapports-entre-la-france-et-la-chine/
LOCATION:Conscious\, 12 rue de Normandie\, Paris\, 75003
CATEGORIES:Géopolitique, histoire & enjeux sociétaux,SOIRÉES
ATTACH;FMTTYPE=image/png:https://consciousparis.com/wp-content/uploads/2023/06/Invitation-personnelle-I-Mercredi-29-novembre-a-19h30.pdf.png
ORGANIZER;CN="Conscious Paris":MAILTO:info@consciousparis.com
END:VEVENT
END:VCALENDAR