BEGIN:VCALENDAR
VERSION:2.0
PRODID:-//Conscious Paris - ECPv6.15.20//NONSGML v1.0//EN
CALSCALE:GREGORIAN
METHOD:PUBLISH
X-ORIGINAL-URL:https://consciousparis.com
X-WR-CALDESC:Évènements pour Conscious Paris
REFRESH-INTERVAL;VALUE=DURATION:PT1H
X-Robots-Tag:noindex
X-PUBLISHED-TTL:PT1H
BEGIN:VTIMEZONE
TZID:Europe/Paris
BEGIN:DAYLIGHT
TZOFFSETFROM:+0100
TZOFFSETTO:+0200
TZNAME:CEST
DTSTART:20220327T010000
END:DAYLIGHT
BEGIN:STANDARD
TZOFFSETFROM:+0200
TZOFFSETTO:+0100
TZNAME:CET
DTSTART:20221030T010000
END:STANDARD
BEGIN:DAYLIGHT
TZOFFSETFROM:+0100
TZOFFSETTO:+0200
TZNAME:CEST
DTSTART:20230326T010000
END:DAYLIGHT
BEGIN:STANDARD
TZOFFSETFROM:+0200
TZOFFSETTO:+0100
TZNAME:CET
DTSTART:20231029T010000
END:STANDARD
BEGIN:DAYLIGHT
TZOFFSETFROM:+0100
TZOFFSETTO:+0200
TZNAME:CEST
DTSTART:20240331T010000
END:DAYLIGHT
BEGIN:STANDARD
TZOFFSETFROM:+0200
TZOFFSETTO:+0100
TZNAME:CET
DTSTART:20241027T010000
END:STANDARD
END:VTIMEZONE
BEGIN:VEVENT
DTSTART;TZID=Europe/Paris:20231206T193000
DTEND;TZID=Europe/Paris:20231206T203000
DTSTAMP:20260424T165302
CREATED:20230908T144506Z
LAST-MODIFIED:20240217T140520Z
UID:24719-1701891000-1701894600@consciousparis.com
SUMMARY:Art contemporain I Rencontre avec Jean-Miguel Pire I La place de l'art dans un temps libre enfin fécond
DESCRIPTION:Le collectif YAC est heureux de vous convier à un temps de discussion en compagnie de Pierre de Montesquiou et Jean-Miguel Pire à propos de l’ouvrage L’Otium : Art\, Éducation\, démocratie. \n  \nÀ propos d’Otium : Art\, éducation\, démocratie \nDans l’antiquité\, l’Otium était considéré comme l’un des moments les plus désirables de l’existence. Libéré des tâches vitales\, affranchis des préjugés\, des croyances et des intérêts\, les hommes libres pouvaient s’y livrer à la culture du for intérieur\, du goût\, du jugement\, à la quête désintéressée du sens\, de la beauté\, des valeurs\, de la vérité. Cette part d’humanité menacée par l’injonction d’efficacité que nous impose le marché\, peut être précisément désignée par l’otium. Loin de toute nostalgie\, il s’agit d’éclairer les sources d’une liberté et d’une créativité aujourd’hui compromises par l’hégémonie du marché. Il s’agit aussi d’identifier la responsabilité de l’État démocratique dans l’accès de tous à ce loisir studieux et émancipateur. \n  \nLe spécialiste \nFondateur et l’éditeur de Our Choices\, média vidéo et audio sur l’art contemporain\, Pierre de Montesquiou se spécialise dans les longs formats d’interviews\, en particulier d’artistes contemporains qu’il interroge sur leur parcours et leurs influences. Il s’intéresse particulièrement à la façon dont l’art contribue à la compréhension de soi\, au développement du jugement et de l’empathie. Et\, plus largement\, à comment l’art permet une différente lecture du monde actuel. \nPierre de Montesquiou a interviewé un large éventail d’artistes internationaux tels que : George Condo\, Laurent Grasso\, Sean Scully\, Katharina Grosse\, Apichatpong Weerasethakul\, Urs Fischer\, Antoine D’Agata etc… Ses entretiens ont pu être vus dans des institutions comme la Fondation Fernet Branca\, le Musée National de Monaco ou le Musée Maillol. \n  \nL’invité \nSociologue et historien\, chercheur à l’Ecole Pratique des Hautes Études (EPHE)\, ses travaux portent sur l’histoire des politiques culturelles. En particulier\, il étudie la place de l’art dans l’éducation et les enjeux existentiels d’un usage fécond du temps libre. Il a notamment publié Guizot et le gouvernement des esprits (2002)\, Musée indiscipliné. Enjeux républicains de la transmission artistique (2018)\, Otium. Art\, éducation\, démocratie (2020)\, L’otium du peuple. A la reconquête du temps libre (2024) .
URL:https://consciousparis.com/evenement/yacclub-jeanmiguelpire-pierredemontesquiou/
LOCATION:Conscious\, 12 rue de Normandie\, Paris\, 75003
CATEGORIES:Arts & architecture,SOIRÉES
ATTACH;FMTTYPE=image/jpeg:https://consciousparis.com/wp-content/uploads/2023/09/ok-I-Soiree-Yac-x-conscious.jpg
ORGANIZER;CN="Conscious Paris":MAILTO:info@consciousparis.com
END:VEVENT
BEGIN:VEVENT
DTSTART;TZID=Europe/Paris:20231213T193000
DTEND;TZID=Europe/Paris:20231213T203000
DTSTAMP:20260424T165302
CREATED:20230614T114454Z
LAST-MODIFIED:20231215T142335Z
UID:23518-1702495800-1702499400@consciousparis.com
SUMMARY:EN 2023 I Quelle est la réalité des conflits dans le nouveau monde ?
DESCRIPTION:Aujourd’hui\, le monde dans lequel nous vivons est au coeur d’échanges et de flux de diverses natures: financiers\, d’informations et humains. Le phénomène de mondialisation entraine une lecture des conflits de moins en moins évidente. Ces derniers nous semblent en effet à la fois proches et lointains. Nous pourrions dès lors nous demander quelle est la réalité de ces conflits. En sommes-nous réellement conscients ? Quelle pourrait être la cause de notre détachement face à ceux-ci ? Comment faire pour y remédier ? Au sein de ces questions se trouve aussi\, en filigranes\, celle de la “bonne” sélection d’informations face à ces flux gargantuesques. Pierre Haski recevra Thomas Gomart\, Docteur en Histoire des relations internationales et Directeur de l’Institut français des relations internationales. \n  \nPierre Haski recevra Thomas Gomart\, Docteur en Histoire des relations internationales et Directeur de l’Institut français des relations internationales pour débattre à ce propos. \n  \nL’invité \nDocteur en histoire des relations internationales (Paris I Panthéon-Sorbonne) et diplômé EMBA (HEC)\, Thomas Gomart est le directeur de l’Institut français des relations internationales\, après avoir été directeur du développement stratégique (2010-2015) et directeur du Centre Russie/Nei (2004-2013). Avant de rejoindre l’Ifri\, Thomas Gomart a été allocataire-moniteur à l’Université de Marne-la-Vallée (1996-1999)\, officier appelé au ministère de la Défense (2000)\, Lavoisier Fellow à l’Institut d’État des relations internationales (Université-MGIMO – Moscou\, 2001)\, Visiting Fellow à l’Institut d’études de sécurité (Union européenne – Paris\, 2002) et Marie Curie Fellow au Department of War Studies (King’s College – Londres\, 2003). Ses travaux actuels portent sur la gouvernance numérique\, la politique étrangère française\, le risque pays\, la Russie et les think tanks. Il a récemment publié L’Affolement du monde. 10 enjeux géopolitiques (Tallandier\, 2019)\, Guerres invisibles : nos prochains défis géopolitiques (Tallandier\, 2021)\, Les Ambitions inavouées: Ce que préparent les grandes puissances (Tallandier\, 2023). \nSpécialiste Géopolitique \nPierre Haski est un journaliste spécialiste des questions géopolitiques. Il a été correspondant de médias français en Afrique du Sud\, au Moyen Orient et en Chine. En 1981 il a rejoint « Libération » pour travailler sur les thématiques internationales. Il a aussi été chef du service international puis directeur-adjoint de ce même journal. En 2000\, le journal l’envoie à Pékin comme correspondant et il y reste cinq ans. Là-bas\, il tient le blog « Mon journal de Chine » où il s’exprime avec des propos libres ce qui entraîne la fermeture du blog par les autorités chinoises. Il est aujourd’hui éditorialiste géopolitique sur France Inter et effectue la chronique « Géopolitique » dans la première matinale de France. Il est également président de Reporters Sans Frontières. \n  \nCes échanges sont toujours suivies d’un moment convivial autour d’un apéritif et une sélection de vins confiée à Marie Roger\,  ancienne sommelière d’un restaurant parisien étoilé.
URL:https://consciousparis.com/evenement/en-2023-i-quelle-est-la-realite-des-conflits-dans-le-nouveau-monde/
LOCATION:Conscious\, 12 rue de Normandie\, Paris\, 75003
CATEGORIES:Géopolitique, histoire & enjeux sociétaux,SOIRÉES
ATTACH;FMTTYPE=image/jpeg:https://consciousparis.com/wp-content/uploads/2023/06/Pierre-Aski-et-Thomas-Gomart-.jpg
ORGANIZER;CN="Conscious Paris":MAILTO:info@consciousparis.com
END:VEVENT
END:VCALENDAR