BEGIN:VCALENDAR
VERSION:2.0
PRODID:-//Conscious Paris - ECPv6.15.20//NONSGML v1.0//EN
CALSCALE:GREGORIAN
METHOD:PUBLISH
X-WR-CALNAME:Conscious Paris
X-ORIGINAL-URL:https://consciousparis.com
X-WR-CALDESC:Évènements pour Conscious Paris
REFRESH-INTERVAL;VALUE=DURATION:PT1H
X-Robots-Tag:noindex
X-PUBLISHED-TTL:PT1H
BEGIN:VTIMEZONE
TZID:Europe/Paris
BEGIN:DAYLIGHT
TZOFFSETFROM:+0100
TZOFFSETTO:+0200
TZNAME:CEST
DTSTART:20230326T010000
END:DAYLIGHT
BEGIN:STANDARD
TZOFFSETFROM:+0200
TZOFFSETTO:+0100
TZNAME:CET
DTSTART:20231029T010000
END:STANDARD
BEGIN:DAYLIGHT
TZOFFSETFROM:+0100
TZOFFSETTO:+0200
TZNAME:CEST
DTSTART:20240331T010000
END:DAYLIGHT
BEGIN:STANDARD
TZOFFSETFROM:+0200
TZOFFSETTO:+0100
TZNAME:CET
DTSTART:20241027T010000
END:STANDARD
BEGIN:DAYLIGHT
TZOFFSETFROM:+0100
TZOFFSETTO:+0200
TZNAME:CEST
DTSTART:20250330T010000
END:DAYLIGHT
BEGIN:STANDARD
TZOFFSETFROM:+0200
TZOFFSETTO:+0100
TZNAME:CET
DTSTART:20251026T010000
END:STANDARD
END:VTIMEZONE
BEGIN:VEVENT
DTSTART;TZID=Europe/Paris:20240205T193000
DTEND;TZID=Europe/Paris:20240205T203000
DTSTAMP:20260424T132746
CREATED:20230809T093100Z
LAST-MODIFIED:20240208T133703Z
UID:23507-1707161400-1707165000@consciousparis.com
SUMMARY:Art contemporain I Comment représenter les migrations contemporaines ?
DESCRIPTION:La représentation des migrations contemporaines semble poser une question d’échelle. Faut-il installer des objets\, rapporter des récits\, ou peindre comme avant. Du monumental à l’intime\, comment représenter les migrations contemporaines ? \nConférence animée par Paul-Bernard Nouraud \nPaul Bernard-Nouraud est historien d’art\, diplômé de l’EHESS et de l’Université Paris I\, et guide-conférencier national. Il est spécialisé dans l’histoire de la peinture et de la photographie. Pour Des Mots et des Arts\, il anime les cycles « Un tableau par le détail »\, « Musées du monde »\, « Une histoire technique de la peinture »\, « L’histoire de l’art par les gestes et les postures »\, ainsi que de nombreuses autres conférences thématiques. Il est par ailleurs membre du comité de rédaction de la revue Mémoires en jeu et collabore régulièrement au journal en ligne “En attendant Nadeau”. \n  \nLe Cycle – Soirées Art Contemporain  \nPendant 10 soirées\, CONSCIOUS vous propose d’approfondir vos connaissances en art contemporain.En présence de Mathilde Evrard et Paul-Bernard Nouraud\, apprenez et échangez ensemble sur l’art de notre époque. Les soirées ont lieu les lundis soir de 19h30 à 20h30. \nDates et horaires  \nSoirée introductive \n\nLundi 18 septembre à 19 h\n\nSéances  \n\nLundi 16 octobre 2023 à 19h30 I Paysages et monde vivant – Conférence animée par Morgane Evrard\nLundi 13 novembre 2023 à 19h30 l L’art contemporain et la gourmandise – Conférence animée par Morgane Evrard\nLundi 11 décembre 2023 : Art et musique : un accord parfait ? – Conférence animée par Morgane Evrard\nLundi 8 janvier à 19h30 : Les artistes contemporains sont-ils engagés ? – Conférence animée par Paul-Bernard Nouraud\n\n\nLundi 5 février à 19h30 : Comment représenter les migrations contemporaines ? – Conférence animée par Paul-Bernard Nouraud\nLundi 18 mars à 19h30 : L’art contemporain se souvient-il de l’histoire de l’art ? – Conférence animée par Paul-Bernard Nouraud\nLundi 22 avril à 19h30 : L’art contemporain se souvient-il du passé ? – Conférence animée par Paul-Bernard Nouraud\nLundi 13 mai à 19h30 : L ’art actuel est-il postcolonial ? – Conférence animée par Paul-Bernard Nouraud\nLundi 10 juin : L’Art actuel a-t-il un genre ? – Conférence animée par Paul-Bernard Nouraud\n\n  \n  \n  \n 
URL:https://consciousparis.com/evenement/art-contemporain-i-comment-representer-les-migrations-contemporaines/
LOCATION:Conscious\, 12 rue de Normandie\, Paris\, 75003
CATEGORIES:Arts & architecture,SOIRÉES
ORGANIZER;CN="Conscious Paris":MAILTO:info@consciousparis.com
END:VEVENT
BEGIN:VEVENT
DTSTART;TZID=Europe/Paris:20240207T193000
DTEND;TZID=Europe/Paris:20240207T210000
DTSTAMP:20260424T132746
CREATED:20230616T074729Z
LAST-MODIFIED:20240201T144545Z
UID:23350-1707334200-1707339600@consciousparis.com
SUMMARY:EN 2024 I Quêtes spirituelles actuelles : bienfaits ou dérives de notre époque ?
DESCRIPTION:Les religions n’intéressent plus que les intégristes ? Et que dire de toutes ces néospiritualités – Retraites chamaniques\, cercles de sorcières\, culte de Gaïa\, reiki\, jeûne\, tarot et stage Vipassana – en plein essor ? \nEntre 2011 et 2021\, le nombre de personnes déclarant le chamanisme comme étant leur religion est passé de 650 à 8 000. Qu’est-ce cela révèle de notre sociéte ? Quels en sont les bienfaits et les dérives ? \nSofiane Zaizoune invitera  Marc Bonomelli et Denise Lombardi pour débattre à ce propos. \n  \nLes invités \nMarc Bonomelli \nSpécialiste des religions et des mouvements spirituels contemporains\, Marc Bonomelli est journaliste. Il a travaillé pour de nombreux médias dont Le Monde des Religions\, Les Inrocks\, ou Vice. En 2022\, après des mois d’immersion auprès des nouveaux explorateurs du sacré\, il publie Les Nouvelles Routes du Soi (Arkhé). \nDenise Lombardi \nAnthropologue d’origine italienne\, Denise Lombardi est docteure associée au laboratoire Groupe Sociétés Religions et Laïcités. Elle est l’autrice de nombreux articles scientifiques sur le néo- hamanisme et signe ici son premier livre en novembre 2023 (Éditions du Cerf) – Le néo-chamanisme : une religion qui monte ?  \nSpécialiste Enjeux sociétaux \nSofiane Zaizoune est journaliste chez Madame Figaro où il couvre les rubriques Business et Société.Son travail porte sur le monde du travail\, les dirigeants économiques ou politiques\, l’évolution de nos modes de vie\, la santé\, la sexualité ou l’écologie.
URL:https://consciousparis.com/evenement/quetesspirituelles/
LOCATION:Conscious\, 12 rue de Normandie\, Paris\, 75003
CATEGORIES:Géopolitique, histoire & enjeux sociétaux,SOIRÉES
ATTACH;FMTTYPE=image/webp:https://consciousparis.com/wp-content/uploads/2023/06/nouvelles-spiritualite204129s.webp
ORGANIZER;CN="Conscious Paris":MAILTO:info@consciousparis.com
END:VEVENT
BEGIN:VEVENT
DTSTART;TZID=Europe/Paris:20240208T193000
DTEND;TZID=Europe/Paris:20240208T203000
DTSTAMP:20260424T132746
CREATED:20240110T160623Z
LAST-MODIFIED:20240213T122143Z
UID:25150-1707420600-1707424200@consciousparis.com
SUMMARY:L’art et la poésie à l’heure du Symbiocène : quels enjeux pour un nouveau monde ?
DESCRIPTION:Les invités\nLe duo de Stéphane Guiran et Katarzyna Kot est né au Domaine de Chaumont-sur-Loire\, dans le cadre de la saison d’art 2022. De cette rencontre a germé la volonté de s’engager sur une voie de création commune\, en méditant avec la Terre et en proposant un autre regard sur les défis que nous connaissons avec les changements climatiques. Leur duo envisage demain comme un nouveau chapitre qui s’ouvre\, offrant la possibilité d’imaginer d’autres façons d’être au monde. Leurs œuvres\, en résonance avec le concept de symbiocène de Glenn Albrecht\, naissent de l’écoute de la mémoire et de la fragilité des Grands Vivants de notre planète (glaciers\, forêts\,rivières\, montagnes…). La nuit est une page blanche est leur premier opus. En 2024\, ils poursuivront leur recherche créative avec la forêt primaire de Bialowieza en Pologne\, une des toutes dernières d’Europe. \nCyril Dion mène depuis vingt ans le chemin d’un homme engagé contre la crise climatique\, pour un monde plus juste. D’abord reconnu pour son action militante et associative (notamment à travers Les Colibris\, avec Pierre Rabhi) il prend la parole dès 2015 en tant que réalisateur avec de nombreux documentaires à succès (Demain\, Animal\, Un monde nouveau…) et comme écrivain (Imago en 2017) et essayiste (Petit Manuel de Résistance contemporaine en 2018). \nLa poésie\, qu’il pratique depuis l’âge de 17 ans\, est un fil sensible qui relie les différentes dimensions de son engagement pour un autre monde. Son premier recueil\, Assis sur le fil\, est publié́ en 2014 aux éditions de la Table Ronde. Avec Actes Sud\, il publie en 2022 à l’Orée du danger\, recueil où il cherche la lueur de l’aube sans cesser de rappeler les éléments du désastre. En 2023\, il propose Résistances Poétiques\, une expérience poétique portée par la musique de Sébastien Hoog. \n\nEnsemble\, Cyril Dion et le duo G & K ont publié chez Les heures brèves La nuit est une page blanche\, un recueil de poèmes\, photographies et dessins autour d’une performance artistique faite sur un glacier\, le Grand Vivant Vatnajökull\, en Islande. \nLe débat sera modéré par Joan Pronnier\, qui représente COAL\, association créée en 2008\, qui mobilise les artistes et les acteurs culturels sur les enjeux sociétaux et environnementaux et qui promeut le rôle incontournable de la création et de la culture dans les prises de conscience\, la transformation des territoires\, et la mise en œuvre de solutions concrètes. \n  \nCredits photos :  \n À gauche – Cyril Dion : Photo © William WEST\, AFP / Au centre – G+K : © Blackmagictea / À droite – Joan Pronnier \n  \n  \n 
URL:https://consciousparis.com/evenement/lart-et-la-poesie-a-lheure-du-symbiocene-quels-enjeux-pour-un-nouveau-monde/
LOCATION:Conscious\, 12 rue de Normandie\, Paris\, 75003
CATEGORIES:Arts & architecture,Philosophie, littérature & psychologie,SOIRÉES
ATTACH;FMTTYPE=image/webp:https://consciousparis.com/wp-content/uploads/2024/01/Dion-GK-Pronnier-1.webp
ORGANIZER;CN="Conscious Paris":MAILTO:info@consciousparis.com
END:VEVENT
BEGIN:VEVENT
DTSTART;TZID=Europe/Paris:20240215T193000
DTEND;TZID=Europe/Paris:20240215T210000
DTSTAMP:20260424T132746
CREATED:20231202T124823Z
LAST-MODIFIED:20240217T125832Z
UID:24969-1708025400-1708030800@consciousparis.com
SUMMARY:En 2024 I Le ressentiment dans l'histoire : comment y mettre fin ?
DESCRIPTION:Matrice des conflits\, le ressentiment conduit à des engrenages incessants. On le voit à l’oeuvre dans le Caucase\, au Proche Orient ou en Afrique… Dans le Sahel\, la Russie fait son miel sur le ressentiment colonial qui attise la montée du sentiment anti-français. Mais comment mettre fin au ressentiment ? \nLes invités\nRenaud Girard \nRenaud Girard est correspondant de guerre et géopoliticien français. Spécialiste reconnu des crises et des conflits mondiaux\, il est le chroniqueur international du Figaro. Il a écrit plusieurs essais consacrés aux affaires internationales parmi lesquelles figure “Quelle diplomatie pour la France ?” \nElgas \nChercheur associé à l’IRIS\, Elgas est journaliste et doctorant à l’université de Caen en Normandie. Né en 1988 à Saint-Louis du Sénégal\, il a grandi à Ziguinchor. Diplômé de communication et de sciences politiques\, il s’évertue à décrire l’Afrique sans fards et sans complaisance dans ses ouvrages. Les bons ressentiments\, essai sur le malaise post-colonial (Editions Riveneuve) est son dernier livre. \nLe spécialiste\nFrédéric Pennel  \nFrédéric Pennel est journaliste indépendant. Il écrit pour Marianne\, Slate\, le HuffPost ou Ca m’intéresse Histoire. Il est l’auteur du livre Guerre des langues – Le français n’a pas dit son dernier mot. Animateur du podcast A la lumière de l’histoire\, il analyse le poids du passé dans les évènements actuels.
URL:https://consciousparis.com/evenement/en-2024-i-le-ressentiment-dans-lhistoire-comment-y-mettre-fin/
LOCATION:Conscious\, 12 rue de Normandie\, Paris\, 75003
CATEGORIES:Géopolitique, histoire & enjeux sociétaux,SOIRÉES
ATTACH;FMTTYPE=image/jpeg:https://consciousparis.com/wp-content/uploads/2023/12/Renaud-Girard-Frederic-Pennel-Helias.jpg
END:VEVENT
BEGIN:VEVENT
DTSTART;TZID=Europe/Paris:20240221T193000
DTEND;TZID=Europe/Paris:20240221T210000
DTSTAMP:20260424T132746
CREATED:20240106T182354Z
LAST-MODIFIED:20240223T182217Z
UID:25128-1708543800-1708549200@consciousparis.com
SUMMARY:Arts & sociologie I L'otium du peuple : A la reconquête du temps libre
DESCRIPTION:Conscious vous convie à un temps de discussion en présence d’Astrid de Villaines et Jean-Miguel Pire autour de son récent ouvrage L’otium du peuple. \n  \nÀ propos de “L’otium du peuple : A la reconquête du temps libre” \nAujourd’hui\, tout s’accélère et nous agrippe dans un rythme devenu fou. Le temps de la réflexion est le grand sacrifié de ce nouveau chaos. Jugé avec les critères de la productivité\, il passe pour un luxe inutile. Nous le vaporisons donc allègrement dans les interminables séances de scrolling qui vampirisent nos loisirs. Addicts au shoot émotionnel des écrans\, nous dépensons désormais sans compter notre temps de cerveau disponible. \nComment nous désintoxiquer de ce nouvel opium ? Comment refaire du temps libre un havre où\, à nouveau\, réfléchir\, imaginer\, contempler\, comprendre ? Décisives pour notre autonomie\, ces facultés ne doivent plus être la part superflue de l’existence. Loin d’être réduit\, comme souvent\, à l’oisiveté\, le loisir pourrait ainsi se refonder sur l’otium – le “loisir fécond” que la pensée antique hissait au sommet des activités humaines. Prodigieux espace d’invention existentielle\, ce temps libéré des urgences et des calculs\, permettait à ses bénéficiaires la quête du for intérieur\, de la sagesse\, du bien commun. \nLe moment semble venu de nous réapproprier cet usage émancipateur et responsable du temps libre. Révélant sa profonde actualité\, Bourdieu considérait le loisir fécond comme une possibilité anthropologique universelle et\, Foucault\, comme l’outil d’un souci de soi soucieux d’autrui. Longtemps réservé à quelques-uns\, l’otium pourrait bien être le mot capable de traduire ce désir éperdu de durée et de profondeur qui saisit parfois nos errances digitales. Après des siècles d’oubli\, il pourrait enfin devenir l’otium de tous\, l’otium du peuple. \nLa spécialiste \nAstrid de Villaines et journaliste politique et autrice. Après avoir passé sept ans à La Chaîne Parlementaire\, ayant suivi la campagne à la présidentielle de Jean-Luc Mélenchon\, elle est désormais cheffe du service politique du HuffPost. Elle est également productrice et animatrice de l’émission “Sens politique” sur France Culture. \nL’invité \nSociologue et historien\, chercheur à l’Ecole Pratique des Hautes Études (EPHE)\, ses travaux portent sur l’histoire des politiques culturelles. En particulier\, il étudie la place de l’art dans l’éducation et les enjeux existentiels d’un usage fécond du temps libre. Il a notamment publié Guizot et le gouvernement des esprits (2002)\, Musée indiscipliné. Enjeux républicains de la transmission artistique (2018)\, Otium. Art\, éducation\, démocratie (2020)\, L’otium du peuple. A la reconquête du temps libre (2024) .
URL:https://consciousparis.com/evenement/lotium-du-peuple/
LOCATION:Conscious\, 12 rue de Normandie\, Paris\, 75003
CATEGORIES:Arts & architecture,Philosophie, littérature & psychologie,SOIRÉES
ATTACH;FMTTYPE=image/png:https://consciousparis.com/wp-content/uploads/2024/01/Soiree-JM-Pire-A-Villaine.png
ORGANIZER;CN="Conscious Paris":MAILTO:info@consciousparis.com
END:VEVENT
END:VCALENDAR