BEGIN:VCALENDAR
VERSION:2.0
PRODID:-//Conscious Paris - ECPv6.15.20//NONSGML v1.0//EN
CALSCALE:GREGORIAN
METHOD:PUBLISH
X-ORIGINAL-URL:https://consciousparis.com
X-WR-CALDESC:Évènements pour Conscious Paris
REFRESH-INTERVAL;VALUE=DURATION:PT1H
X-Robots-Tag:noindex
X-PUBLISHED-TTL:PT1H
BEGIN:VTIMEZONE
TZID:Europe/Paris
BEGIN:DAYLIGHT
TZOFFSETFROM:+0100
TZOFFSETTO:+0200
TZNAME:CEST
DTSTART:20230326T010000
END:DAYLIGHT
BEGIN:STANDARD
TZOFFSETFROM:+0200
TZOFFSETTO:+0100
TZNAME:CET
DTSTART:20231029T010000
END:STANDARD
BEGIN:DAYLIGHT
TZOFFSETFROM:+0100
TZOFFSETTO:+0200
TZNAME:CEST
DTSTART:20240331T010000
END:DAYLIGHT
BEGIN:STANDARD
TZOFFSETFROM:+0200
TZOFFSETTO:+0100
TZNAME:CET
DTSTART:20241027T010000
END:STANDARD
BEGIN:DAYLIGHT
TZOFFSETFROM:+0100
TZOFFSETTO:+0200
TZNAME:CEST
DTSTART:20250330T010000
END:DAYLIGHT
BEGIN:STANDARD
TZOFFSETFROM:+0200
TZOFFSETTO:+0100
TZNAME:CET
DTSTART:20251026T010000
END:STANDARD
END:VTIMEZONE
BEGIN:VEVENT
DTSTART;TZID=Europe/Paris:20240318T193000
DTEND;TZID=Europe/Paris:20240318T203000
DTSTAMP:20260422T062252
CREATED:20230809T093100Z
LAST-MODIFIED:20240309T152817Z
UID:23509-1710790200-1710793800@consciousparis.com
SUMMARY:L’art contemporain se souvient-il de l’histoire de l’art ?
DESCRIPTION:Longtemps l’histoire de l’art moderniste a paru sans mémoire. Comme si le libre jeu des formes\, gage de l’autonomie de l’art vis-à-vis du réel\, devait en passer par la table rase pour être véritablement de l’art. Pourtant\, citations et hommages sont aujourd’hui innombrables. L’art contemporain se souvient-il de l’histoire de l’art ? \nConférence animée par Paul Bernard-Nouraud \nPaul Bernard-Nouraud est historien d’art\, diplômé de l’EHESS et de l’Université Paris I\, et guide-conférencier national. Il est spécialisé dans l’histoire de la peinture et de la photographie. Pour Des Mots et des Arts\, il anime les cycles « Un tableau par le détail »\, « Musées du monde »\, « Une histoire technique de la peinture »\, « L’histoire de l’art par les gestes et les postures »\, ainsi que de nombreuses autres conférences thématiques. Il est par ailleurs membre du comité de rédaction de la revue Mémoires en jeu et collabore régulièrement au journal en ligne “En attendant Nadeau.”.  \n  \nLe Cycle I Soirées Art Contemporain  \nPendant 10 soirées\, CONSCIOUS vous propose d’approfondir vos connaissances en art contemporain.En présence de Mathilde Evrard et Paul-Bernard Nouraud\, apprenez et échangez ensemble sur l’art de notre époque. Les soirées ont lieu les lundis soir de 19h30 à 20h30. \nDates et horaires  \nSoirée introductive \n\nLundi 18 septembre à 19 h\n\nSéances  \n\nLundi 16 octobre 2023 à 19h30 I Paysages et monde vivant – Conférence animée par Morgane Evrard\nLundi 13 novembre 2023 à 19h30 l L’art contemporain et la gourmandise – Conférence animée par Morgane Evrard\nLundi 11 décembre 2023 I Art et musique : un accord parfait ? – Conférence animée par Morgane Evrard\nLundi 8 janvier à 19h30 I Les artistes contemporains sont-ils engagés ? – Conférence animée par Paul-Bernard Nouraud\n\n\nLundi 5 février à 19h30 I Comment représenter les migrations contemporaines ? – Conférence animée par Paul-Bernard Nouraud\nLundi 18 mars à 19h30 I L’art contemporain se souvient-il de l’histoire de l’art ? – Conférence animée par Paul-Bernard Nouraud\nLundi 22 avril à 19h30 I L’art contemporain se souvient-il du passé ? – Conférence animée par Paul-Bernard Nouraud\nLundi 13 mai à 19h30 : L ’art actuel est-il postcolonial ? – Conférence animée par Paul-Bernard Nouraud\nLundi 10 juin I L’Art actuel a-t-il un genre ? – Conférence animée par Paul-Bernard Nouraud\n\n  \n  \n 
URL:https://consciousparis.com/evenement/art-contemporain-i-lart-contemporain-se-souvient-il-de-lhistoire-de-lart/
LOCATION:Conscious\, 12 rue de Normandie\, Paris\, 75003
CATEGORIES:Arts & architecture,SOIRÉES
ORGANIZER;CN="Conscious Paris":MAILTO:info@consciousparis.com
END:VEVENT
BEGIN:VEVENT
DTSTART;TZID=Europe/Paris:20240320T193000
DTEND;TZID=Europe/Paris:20240320T203000
DTSTAMP:20260422T062252
CREATED:20240103T142812Z
LAST-MODIFIED:20240322T103651Z
UID:25113-1710963000-1710966600@consciousparis.com
SUMMARY:Histoire • Les clans politiques : la face cachée d'une ascension
DESCRIPTION:À propos\n  \nDerrière les hommes et les femmes politiques se trouvent des clans politiques. Des cercles d’une poignée de proches\, souvent éloignés de la lumière\, qui partent à l’assaut du pouvoir. Pour François Mitterrand\, c’est une poignée d’illustres inconnus qui a porté l’un des leurs au pouvoir. Pour Charles de Gaulle\, ce sont des “barons du gaullisme” qui ont tenté de maintenir la flamme du Général au-delà de sa mort\, quitte à embarrasser grandement les leaders du parti gaulliste… \n  \nLes invités\nSébatien Le Fol \nSébastien Le Fol est journaliste\, il a été directeur adjoint du Figaro\, directeur de la rédaction du Point\, il est éditorialiste au Télégramme. Il est l’auteur de ” En Bande organisée” où il raconte la relation des quatre hommes qui ont porté Mitterrand au pouvoir. \nPierre Manenti \nNormalien\, passé par Sciences Po Strasbourg\, diplômé en histoire et en relations internationales\, il a été collaborateur parlementaire à l’Assemblée nationale et au Sénat.\nAnciennement conseiller en charge de la transition écologique territoriale (2018-2020) puis conseiller politique\, chargé des élus et des territoires au ministère du Logement (2020-2022). Passionné de politique\, d’histoire et de généalogie\, il s’intéresse au gaullisme depuis plusieurs années et a ainsi publié « Histoire du gaullisme social ». \n  \nLe spécialiste\nFrédéric Pennel \nFrédéric Pennel est journaliste indépendant. Il écrit pour Marianne\, Slate\, le HuffPost ou Ca m’intéresse Histoire. Il est l’auteur du livre Guerre des langues – Le français n’a pas dit son dernier mot. Animateur du podcast A la lumière de l’histoire\, il analyse le poids du passé dans les évènements actuels.
URL:https://consciousparis.com/evenement/histoire-focus-sur-les-plans-politiques/
LOCATION:Conscious\, 12 rue de Normandie\, Paris\, 75003
CATEGORIES:Géopolitique, histoire & enjeux sociétaux,SOIRÉES
ATTACH;FMTTYPE=image/png:https://consciousparis.com/wp-content/uploads/2023/08/Stephane-le-Foll-Frederic-Pennel-Pierre-Manenti.png
ORGANIZER;CN="Conscious Paris":MAILTO:info@consciousparis.com
END:VEVENT
BEGIN:VEVENT
DTSTART;TZID=Europe/Paris:20240325T193000
DTEND;TZID=Europe/Paris:20240325T203000
DTSTAMP:20260422T062252
CREATED:20230809T093100Z
LAST-MODIFIED:20240309T153028Z
UID:23430-1711395000-1711398600@consciousparis.com
SUMMARY:Art et musique : un accord parfait ?
DESCRIPTION:La synesthésie\, ou l’art de convoquer plusieurs sens simultanément\, n’a pas manqué d’interroger les artistes\, en particulier au XXème siècle. A l’instar de Kandinsky\, dont les œuvres abstraites convoquaient des sons\, des tensions ou des rythmes\, comment les artistes contemporains se sont-ils emparés de la musique pour pousser les limites de leur propre pratique ? Cette soirée propose de revenir sur l’art du temps et de l’espace au XXème et XXIème siècle. \nConférence animée par Morgane Evrard \nPassionnée de musées\, Morgane Evrad étudie l’histoire de l’art et la muséologie sur les bancs de l’université Panthéon Sorbonne et de l’Ecole du Louvre. Elle ressort diplômée d’un Master de recherche durant lequel elle s’est spécialisée dans l’influence de l’orientalisme sur la peinture religieuse et d’un Master professionnel dont le mémoire portait sur la communication des musées parisiens. Sa carrière professionnelle l’amène à devenir chargée de communication du Domaine de Chantilly\, puis professeure d’histoire de l’art\, du design et du luxe à l’école Conte. Depuis\, Morgane Evrard s’est parallèlement engagée dans la médiation afin de transmettre son amour du patrimoine à tous les types de publics. \n  \nLe Cycle I Soirées Art Contemporain  \nPendant 10 soirées\, CONSCIOUS vous propose d’approfondir vos connaissances en art contemporain. En présence de Morgane Evrard et Paul-Bernard Nouraud\, apprenez et échangez ensemble sur l’art de notre époque. Les soirées ont lieu les lundis soir de 19h30 à 20h30. \nDates et horaires  \nSoirée introductive \n\nLundi 18 septembre à 19 h\n\nSéances  \n\nLundi 16 octobre 2023 à 19h30 : Paysages et monde vivant – Conférence animée par Morgane Evrard\nLundi 13 novembre 2023 à 19h30 : L’art contemporain et la gourmandise – Conférence animée par Morgane Evrard\nLundi 8 janvier 2024 à 19h30 : Les artistes contemporains sont-ils engagés ? – Conférence animée par Paul-Bernard Nouraud\nLundi 5 février 2024 à 19h30 : Comment représenter les migrations contemporaines ? – Conférence animée par Paul-Bernard Nouraud\nLundi 18 mars 2024 à 19h30 : L’art contemporain se souvient-il de l’histoire de l’art ? – Conférence animée par Paul-Bernard Nouraud\nLundi 25 mars 2024  : Art et musique : un accord parfait ? – Conférence animée par Morgane Evrard\nLundi 22 avril 2024 à 19h30  : L’art contemporain se souvient-il du passé ? – Conférence animée par Paul-Bernard Nouraud\nLundi 13 mai 2024 à 19h30  : L ’art actuel est-il postcolonial ? – Conférence animée par Paul-Bernard Nouraud\nLundi 10 juin 2024 : L’Art actuel a-t-il un genre ? – Conférence animée par Paul-Bernard Nouraud
URL:https://consciousparis.com/evenement/art-contemporain-musique/
LOCATION:Conscious\, 12 rue de Normandie\, Paris\, 75003
CATEGORIES:Arts & architecture,SOIRÉES
ORGANIZER;CN="Conscious Paris":MAILTO:info@consciousparis.com
END:VEVENT
BEGIN:VEVENT
DTSTART;TZID=Europe/Paris:20240327T193000
DTEND;TZID=Europe/Paris:20240327T203000
DTSTAMP:20260422T062252
CREATED:20230614T114454Z
LAST-MODIFIED:20240329T180905Z
UID:22877-1711567800-1711571400@consciousparis.com
SUMMARY:EN 2024 • Comment les nouvelles technologies bouleversent les relations internationales ?
DESCRIPTION:Avec le phénomène de la mondialisation\, les nouvelles technologies jouent un rôle désormais central dans la compétition économique\, diplomatique et politique entre les états. Elles influencent la croissance économique et sont désormais un outil stratégique puissant de la diplomatie. Face aux conflits internationaux\, quelles en sont les conséquences ? Peut-parler d’arme géopolitique ? \n  \nPierre Haski recevra Asma Mhalla\, spécialiste des enjeux géopolitiques de la tech\, pour débattre à ce propos. \n  \nL’invitée \nSpécialiste des enjeux politiques et géopolitiques de la Tech\, Asma Mhalla est membre du LAP (Laboratoire d’Anthropologie Politique) de l’EHESS/CNRS et enseignante à Columbia GC\, Sciences Po et l’École Polytechnique. Ses travaux portent notamment sur les nouvelles formes de pouvoir et de puissance entre Etats et Géants Technologiques (BigTech) dans le champ civil et militaire (guerres hybrides)\, les enjeux démocratiques et de gouvernance des réseaux sociaux\, les dimensions géopolitiques et idéologiques de l’IA ainsi que la souveraineté technologique. \nSpécialiste Géopolitique \nPierre Haski est un journaliste spécialiste des questions géopolitiques. Il a été correspondant de médias français en Afrique du Sud\, au Moyen Orient et en Chine. En 1981 il a rejoint « Libération » pour travailler sur les thématiques internationales. Il a aussi été chef du service international puis directeur-adjoint de ce même journal. En 2000\, le journal l’envoie à Pékin comme correspondant et il y reste cinq ans. Là-bas\, il tient le blog « Mon journal de Chine » où il s’exprime avec des propos libres ce qui entraîne la fermeture du blog par les autorités chinoises.
URL:https://consciousparis.com/evenement/en-2024-i-conflit-relationsinternationales/
LOCATION:Conscious\, 12 rue de Normandie\, Paris\, 75003
CATEGORIES:Géopolitique, histoire & enjeux sociétaux,SOIRÉES
ATTACH;FMTTYPE=image/webp:https://consciousparis.com/wp-content/uploads/2023/06/Pierre-Aski-et-Asma-Mallah-white.webp
ORGANIZER;CN="Conscious Paris":MAILTO:info@consciousparis.com
END:VEVENT
END:VCALENDAR