BEGIN:VCALENDAR
VERSION:2.0
PRODID:-//Conscious Paris - ECPv6.15.20//NONSGML v1.0//EN
CALSCALE:GREGORIAN
METHOD:PUBLISH
X-ORIGINAL-URL:https://consciousparis.com
X-WR-CALDESC:Évènements pour Conscious Paris
REFRESH-INTERVAL;VALUE=DURATION:PT1H
X-Robots-Tag:noindex
X-PUBLISHED-TTL:PT1H
BEGIN:VTIMEZONE
TZID:Europe/Paris
BEGIN:DAYLIGHT
TZOFFSETFROM:+0100
TZOFFSETTO:+0200
TZNAME:CEST
DTSTART:20230326T010000
END:DAYLIGHT
BEGIN:STANDARD
TZOFFSETFROM:+0200
TZOFFSETTO:+0100
TZNAME:CET
DTSTART:20231029T010000
END:STANDARD
BEGIN:DAYLIGHT
TZOFFSETFROM:+0100
TZOFFSETTO:+0200
TZNAME:CEST
DTSTART:20240331T010000
END:DAYLIGHT
BEGIN:STANDARD
TZOFFSETFROM:+0200
TZOFFSETTO:+0100
TZNAME:CET
DTSTART:20241027T010000
END:STANDARD
BEGIN:DAYLIGHT
TZOFFSETFROM:+0100
TZOFFSETTO:+0200
TZNAME:CEST
DTSTART:20250330T010000
END:DAYLIGHT
BEGIN:STANDARD
TZOFFSETFROM:+0200
TZOFFSETTO:+0100
TZNAME:CET
DTSTART:20251026T010000
END:STANDARD
END:VTIMEZONE
BEGIN:VEVENT
DTSTART;TZID=Europe/Paris:20240604T190000
DTEND;TZID=Europe/Paris:20240604T203000
DTSTAMP:20260422T015031
CREATED:20240427T145127Z
LAST-MODIFIED:20240618T162656Z
UID:26259-1717527600-1717533000@consciousparis.com
SUMMARY:Promenade dans Venise  • Une lecture de textes proposée par Vincent Figureau
DESCRIPTION:Venise « ne se situe pas là-bas\, mais là-haut » \nComme disait Casanova.Ville de rêve et de vase\, suspendue entre eau et ciel\, labyrinthe recroquevillé sur lui-même\, autour d’un axe en forme de « S »\, Venise occupe une place de choix dans notre imaginaire. Avec ses Palais de dentelle édifiés sur des pieux baignant dans l’eau verdâtre de ses canaux\, Venise est le théâtre d’élection des peintres\, des musiciens\, des cinéastes\, mais surtout des écrivains\, qui ont aimé cette ville fascinante. \nNous vous invitons à une promenade guidée par Philippe Sollers\, Marcel Proust\, Paul Morand\, ou Gabrielle Wittkop\, qui vous dévoileront un peu du mystère de Venise\, à l’occasion de la lecture que fera Vincent Figureau\, le mardi 4 juin prochain à 19h\,  au 12 rue de Normandie à Paris. \nVenez nombreux pour découvrir ou redécouvrir de très beaux textes\, écrits à l’encre de la lagune. \nTextes : \n\nPhilippe Sollers\, La fête à Venise\, Gallimard\, Folio\, et Dictionnaire amoureux de Venise\, Plon/Flammarion\nMarcel Proust\, À la recherche du temps perdu\, tome 6 : Albertine disparue\, Gallimard\, coll. La Pléiade\nPaul Morand\, Venises\, Gallimard\, coll. L’imaginaire\nGabriele d’Annunzio\, Le feu (Il Fuoco)\,\nJean Lorrain\, Venise\nGabrielle Wittkop\, Sérénissime assassinat\, Verticales/Le seuil
URL:https://consciousparis.com/evenement/promenade-dans-venise-une-lecture-de-textes-proposee-par-vincent-figureau/
LOCATION:Conscious\, 12 rue de Normandie\, Paris\, 75003
CATEGORIES:Arts & architecture,Philosophie, littérature & psychologie,SOIRÉES
ATTACH;FMTTYPE=image/webp:https://consciousparis.com/wp-content/uploads/2024/04/brouillard-Venise-2.webp
ORGANIZER;CN="Conscious Paris":MAILTO:info@consciousparis.com
END:VEVENT
BEGIN:VEVENT
DTSTART;TZID=Europe/Paris:20240605T193000
DTEND;TZID=Europe/Paris:20240605T203000
DTSTAMP:20260422T015031
CREATED:20240221T121239Z
LAST-MODIFIED:20240605T171007Z
UID:25599-1717615800-1717619400@consciousparis.com
SUMMARY:Les Grands crus de Bourgogne  •  Don de la nature ou création humaine ?
DESCRIPTION:Romanée-Conti\, Montrachet\, Chambertin\, Clos-Vougeot… Les amateurs de vins du monde entier en rêvent la nuit et paient cher pour en porter à leurs lèvres. En l’espace de deux millénaires\, les grands crus de Bourgogne ont conduit à la consécration cette région comme un modèle de viticulture. D’où vient ce « miracle » ? Plutôt que ressasser béatement des légendes séculaires\, le journaliste et dégustateur Laurent Gotti propose au contraire d’aborder les grands crus de Bourgogne comme une longue construction humaine\, dans toute sa complexité et ses contradictions\, citant volontiers la formule du géographe Roger Dion estimant que les grands terroirs ne sont pas des faits géologiques mais sociaux. \nAvec une cartographie parcellaire inédite\, son atlas fait référence sur le sujet (Éditions Collection Pierre Poupon)\, et permet de replacer l’homme au centre de ces parcelles prestigieuses. \nLaurent Gotti se propose de détailler sa démarche et de débattre lors de cette conférence. \nS’en suivra d’un moment convivial autour d’une sélection de vins confié à Laurent Gotti\, la signature du livre “Les Grands Crus de Bourgogne” et une visite guidée de l’exposition en présence de Françoise Bertaux\, co-autrice de l’ouvrage “Les sculptures de Marc Nucera” avec Elisabeth Couturier et Bruno Suet (Editions Actes Sud) et des ouvrages “La collection du Centre Pompidou” (Éditions du Panama)\, “Jeppe Hein” (Éditions du Centre Pompidou) \n  \nÀ propos de Laurent Gotti  \nJournaliste et dégustateur\, auteur de « Les Grands Crus de Bourgogne\, Atlas parcellaire et caractérisation des climats » (Editions Collection Pierre Poupon)\, Laurent Gotti collabore avec plusieurs publications : La Revue des Vins de France\, Guide Hachette des Vins\, En Magnum\, etc. Il enseigne la géographie viticole et la dégustation auprès de futurs professionnels du vin à l’Inseec et réalise des cartes viticoles parcellaires des grands terroirs bourguignons. \nLaurent Gotti a signé plusieurs ouvrages dont : \nLe Clos Vougeot – L’Ame des Vins de Bourgogne – Editions Dunod (2021) \nThe Wines of Burgundy\, 14e édition – Collection Pierre Poupon (2020) – Avec Sylvain Pitiot. \nLes Vins de Bourgogne\, 16e édition – Collection Pierre Poupon (2019) – Avec Sylvain Pitiot. \nLes Gouttes de Dieu\, le guide des vins – Editions Glénat (2018) – Avec Jacques Dupont\, Sébastien Durand-Viel et David Cobbold. \nLes Vins de France – Editions Gisserot (2019) \nHospices de Beaune. La Saga d’un Hôpital Vigneron – Editions Féret (2009) \nÀ propos de Françoise Bertaux \nAprès des recherches de IIIe cycle en sémantique menées sous la direction de Roland Barthes\, elle commence sa carrière aux Publications de l’EHESS\, puis s’oriente vers les arts plastiques contemporains et intègre les Editions du Centre Pompidou en 1982. Elle y devient\, entre autres\, directrice éditoriale de la collection Espace 315\, qui a publié les lauréats du Prix Marcel Duchamp jusqu’en 2009. Elle accompagne Marc Nucera dans son travail de sculpteur depuis ses débuts.  Elle est co-autrice de la monographie Marc Nucera\, publiée chez Actes Sud en 2020. \nProgramme de la soirée \n\n19h30 – Début de la conférence\n20h15 – Signature du livre « Les Grands Crus de Bourgogne\, Atlas parcellaire et caractérisation des climats »\n20h20 – Visite guidée en présence de Françoise Bertaux\, anciennement directrice des éditions du Centre Pompidou et co-autrice de la monographie Marc Nucera\, publiée chez Actes Sud (2020)\n20h30 – Moment convivial autour d’une sélection de vins choisie avec soins\n\n 
URL:https://consciousparis.com/evenement/les-grands-crus-de-bourgogne-don-de-la-nature-ou-creation-humaine/
LOCATION:Conscious\, 12 rue de Normandie\, Paris\, 75003
CATEGORIES:Arts & architecture,SOIRÉES
ORGANIZER;CN="Conscious Paris":MAILTO:info@consciousparis.com
END:VEVENT
BEGIN:VEVENT
DTSTART;TZID=Europe/Paris:20240610T193000
DTEND;TZID=Europe/Paris:20240610T203000
DTSTAMP:20260422T015031
CREATED:20230809T093100Z
LAST-MODIFIED:20240522T145938Z
UID:23515-1718047800-1718051400@consciousparis.com
SUMMARY:Art contemporain  •  L’art contemporain est-il en train de redéfinir les genres ?
DESCRIPTION:Les expositions d’art contemporain\, officielles ou plus confidentielles\, sont désormais nombreuses à mettre en avant des artistes femmes\, à s’intéresser aux questions de genre en général ou à défendre une esthétique queer. Si la hiérarchie des genres régissait l’art du passé\, l’art actuel n’est-il pas enfin en train de les redéfinir ? \nConférence animée par Paul Bernard-Nouraud \nPaul Bernard-Nouraud est historien d’art\, diplômé de l’EHESS et de l’Université Paris I\, et guide-conférencier national. Il est spécialisé dans l’histoire de la peinture et de la photographie. Pour Des Mots et des Arts\, il anime les cycles « Un tableau par le détail »\, « Musées du monde »\, « Une histoire technique de la peinture »\, « L’histoire de l’art par les gestes et les postures »\, ainsi que de nombreuses autres conférences thématiques. Il est par ailleurs membre du comité de rédaction de la revue Mémoires en jeu et collabore régulièrement au journal en ligne “En attendant Nadeau.” \nDates et horaires  \nSoirée introductive \n\nLundi 18 septembre à 19 h\n\nSéances  \n\nLundi 16 octobre 2023 à 19h30 I Paysages et monde vivant – Conférence animée par Morgane Evrard\nLundi 13 novembre 2023 à 19h30 l L’art contemporain et la gourmandise – Conférence animée par Morgane Evrard\nLundi 11 décembre 2023 I Art et musique : un accord parfait ? – Conférence animée par Morgane Evrard\nLundi 8 janvier à 19h30 I Les artistes contemporains sont-ils engagés ? – Conférence animée par Paul-Bernard Nouraud\nLundi 5 février à 19h30 I Comment représenter les migrations contemporaines ? – Conférence animée par Paul-Bernard Nouraud\nLundi 18 mars à 19h30 I L’art contemporain se souvient-il de l’histoire de l’art ? – Conférence animée par Paul-Bernard Nouraud\nLundi 22 avril à 19h30 I L’art contemporain se souvient-il du passé ? – Conférence animée par Paul-Bernard Nouraud\nLundi 13 mai à 19h30 : L ’art actuel est-il postcolonial ? – Conférence animée par Paul-Bernard Nouraud\nLundi 10 juin I L’Art actuel a-t-il un genre ? – Conférence animée par Paul-Bernard Nouraud
URL:https://consciousparis.com/evenement/art-contemporain-i-lart-contemporain-est-il-en-train-de-redefinir-les-genres/
LOCATION:Conscious\, 12 rue de Normandie\, Paris\, 75003
CATEGORIES:Arts & architecture,SOIRÉES
ORGANIZER;CN="Conscious Paris":MAILTO:info@consciousparis.com
END:VEVENT
BEGIN:VEVENT
DTSTART;TZID=Europe/Paris:20240612T193000
DTEND;TZID=Europe/Paris:20240612T203000
DTSTAMP:20260422T015031
CREATED:20240427T142206Z
LAST-MODIFIED:20240515T170314Z
UID:26255-1718220600-1718224200@consciousparis.com
SUMMARY:Et si vous aviez le temps ?
DESCRIPTION:Baptiste Girardin\, artisan horloger\, nous présentera un panoraoma de son activité – de la restauration à la confection jusqu’à la mise sur le marché. Focus sur les faces cachées et les coulisses de l’horlogerie de luxe. Nous en profiterons pour échanger ensemble sur notre perception du temps. S’en suivra un moment convivial autour d’une sélection de vins choisie avec soin par Marie R.\, ancienne sommelière d’un restaurant parisien étoilé. \n 
URL:https://consciousparis.com/evenement/et-si-vous-aviez-le-temps/
CATEGORIES:Arts & architecture,SOIRÉES
ORGANIZER;CN="Conscious Paris":MAILTO:info@consciousparis.com
END:VEVENT
BEGIN:VEVENT
DTSTART;TZID=Europe/Paris:20240615T180000
DTEND;TZID=Europe/Paris:20240615T200000
DTSTAMP:20260422T015031
CREATED:20240427T142206Z
LAST-MODIFIED:20240611T132627Z
UID:26627-1718474400-1718481600@consciousparis.com
SUMMARY:Finissage de l'exposition 'Persées Célestes'
DESCRIPTION:  \nLe brillant sculpteur Marc Nucera sera exceptionnellement présent au 12 rue de Normandie ce samedi 15 juin pour échanger avec vous\, sur son travail\, sa pensée et sa démarche artistique qui n’a cessé d’évoluer depuis ces 30 dernières années. Il sera accompagné par son amie Françoise Bertaux. Ensemble\, ils seront là pour répondre à vos questions et approfondir votre compréhension du travail exceptionnel de l’artiste. \nÀ propos de Françoise Bertaux \nAprès des recherches de IIIe cycle en sémantique menées sous la direction de Roland Barthes\, elle commence sa carrière aux Publications de l’EHESS\, puis s’oriente vers les arts plastiques contemporains et intègre les Editions du Centre Pompidou en 1982. Elle y devient\, entre autres\, directrice éditoriale de la collection Espace 315\, qui a publié les lauréats du Prix Marcel Duchamp jusqu’en 2009. Elle accompagne Marc Nucera dans son travail de sculpteur depuis ses débuts.  Elle est co-autrice de la monographie Marc Nucera\, publiée chez Actes Sud en 2020. \n 
URL:https://consciousparis.com/evenement/finissage-de-lexposition-persees-celestes/
CATEGORIES:Arts & architecture,SOIRÉES
ORGANIZER;CN="Conscious Paris":MAILTO:info@consciousparis.com
END:VEVENT
END:VCALENDAR