BEGIN:VCALENDAR
VERSION:2.0
PRODID:-//Conscious Paris - ECPv6.15.20//NONSGML v1.0//EN
CALSCALE:GREGORIAN
METHOD:PUBLISH
X-ORIGINAL-URL:https://consciousparis.com
X-WR-CALDESC:Évènements pour Conscious Paris
REFRESH-INTERVAL;VALUE=DURATION:PT1H
X-Robots-Tag:noindex
X-PUBLISHED-TTL:PT1H
BEGIN:VTIMEZONE
TZID:Europe/Paris
BEGIN:DAYLIGHT
TZOFFSETFROM:+0100
TZOFFSETTO:+0200
TZNAME:CEST
DTSTART:20230326T010000
END:DAYLIGHT
BEGIN:STANDARD
TZOFFSETFROM:+0200
TZOFFSETTO:+0100
TZNAME:CET
DTSTART:20231029T010000
END:STANDARD
BEGIN:DAYLIGHT
TZOFFSETFROM:+0100
TZOFFSETTO:+0200
TZNAME:CEST
DTSTART:20240331T010000
END:DAYLIGHT
BEGIN:STANDARD
TZOFFSETFROM:+0200
TZOFFSETTO:+0100
TZNAME:CET
DTSTART:20241027T010000
END:STANDARD
BEGIN:DAYLIGHT
TZOFFSETFROM:+0100
TZOFFSETTO:+0200
TZNAME:CEST
DTSTART:20250330T010000
END:DAYLIGHT
BEGIN:STANDARD
TZOFFSETFROM:+0200
TZOFFSETTO:+0100
TZNAME:CET
DTSTART:20251026T010000
END:STANDARD
END:VTIMEZONE
BEGIN:VEVENT
DTSTART;TZID=Europe/Paris:20241009T193000
DTEND;TZID=Europe/Paris:20241009T203000
DTSTAMP:20260421T191944
CREATED:20230809T093100Z
LAST-MODIFIED:20241003T153819Z
UID:26926-1728502200-1728505800@consciousparis.com
SUMMARY:Des Mots & des Arts • Gustave Caillebotte & les raboteurs de parquets : autour de l'exposition au Musée d'Orsay
DESCRIPTION:Gustave Caillebotte est un peintre singulier dans la mesure où ses oeuvres plus reconnaissables semblent n’obéir à aucun modèle pictural antérieur. Ainsi de Raboteurs de parquet ; qui sert en revanche de schéma\, au moins au plan de la composition\, à nombre de ses oeuvres les plus emblématiques\, comme Le Pont de l’Europe ou Rue de Paris.\nConférence animée par Paul Bernard-Nouraud\n___________________________ \nDates et horaires  \nSoirée d’introduction  \n& Histoire de la  Biennale de Venise \nMercredi 25 septembre à 19h30 \nPour célébrer et présenter les prochaines soirées\, rendez-vous le mercredi 25 septembre en compagnie de Paul Bernard-Nouraud et toute notre équipe. Focus sur l’histoire de la Biennale de Venise et moment convivial autour d’un Moscato d’Asti.. \n  \nCycle 1 : Une heure\, une oeuvre  \n\nMercredi 9 octobre – Gustave Caillebotte & les Raboteurs de parquets (exposition Caillebotte au Musée d’Orsay) – Conférence animée par Paul Bernard-Nouraud\nMercredi 13 novembre – Jackson Pollock & Rythme d’automne (exposition Pollock au Musée Picasso) – Conférence animée par Paul Bernard-Nouraud\nMercredi 27 novembre – Marcher dans le siècle avc Giacometti – Conférence animée par Paul Bernard-Nouraud\nMercredi 11 décembre – Diego de Velázquez & Les Ménines (exposition « figures de fou » au Louvre) – Conférence animée par Paul Bernard-Nouraud\nMercredi 12 février – Giuseppe Penone & (œuvre à venir) (exposition Arte Povera à la Bourse de Commerce) – Conférence animée Morgane Evrard\n\nCycle 2 : Les tribulations de l’art dans l’histoire\, oeuvres volées\, spoliées & restituées  \n\nMercredi 19 mars – L’art à l’heure française. Quand la Révolution s’empare des chefs-d’œuvre européens – Conférence animée par Paul Bernard-Nouraud\nMercredi 2 avril – Voler au nom de la science. L’art sous le joug colonial – Conférence animée par Paul Bernard-Nouraud\nMercredi 30 avril – L’art dans la tourmente de la Seconde Guerre mondiale. Des spoliations aux restitutions – Conférence animée par Paul Bernard-Nouraud\nMercredi 7 mai – Le vol d’œuvres d’art\, à qui profite le crime ? –  Conférence animée par Clémentine Hébrard\nMercredi 21 mai – La restitution face à la loi : Le cas d’école Pissarro – Conférence animée par Clémentine Hébrard
URL:https://consciousparis.com/evenement/caillebotte-orsay/
LOCATION:Conscious\, 12 rue de Normandie\, Paris\, 75003
CATEGORIES:Arts & architecture,SOIRÉES
ORGANIZER;CN="Conscious Paris":MAILTO:info@consciousparis.com
END:VEVENT
BEGIN:VEVENT
DTSTART;TZID=Europe/Paris:20241016T193000
DTEND;TZID=Europe/Paris:20241016T203000
DTSTAMP:20260421T191944
CREATED:20240704T134552Z
LAST-MODIFIED:20241022T131505Z
UID:26955-1729107000-1729110600@consciousparis.com
SUMMARY:Le Monde de Demain • Qu'est-ce qu'être Français au XXIe siècle ? • Astrid de Villaines invite Mahir Guven
DESCRIPTION:Qu’est-ce qu’être Français au XXIe siècle ? Explorer les dynamiques sociales et familiales \, parler immigration et quête d’identité notamment par le biais des personnages de son roman “Grand frère”. \nComment se créée ou disparait un sentiment d’appartenance à un pays ? Quel est l’impact des conflits internationaux sur la formation de nos identités ? Comment expliquer les phénomènes de radicalisation ? \nAutant de questions que nous pourrons évoquer en compagnie d’Astrid de Villaines et son deuxième invité\, Mahir Guven\, Éditeur et Auteur de plusieurs ouvrages dont Grand Frère\, Éditions Philippe Rey\, 2017\, Prix Goncourt du premier roman 2018; Les innocents\, Éditions Grasset\, 2022\, Rien de personnel\, Éditions JC Lattes\, 2024. \n  \nÀ propos de Mahir Guven  \nMahir Guven est né apatride\, fils d’une mère turque et d’un père kurde réfugiés en France\, et grandit près de Nantes. En janvier 2014\, il rejoint Éric Fottorino\, Natalie Thiriez et Laurent Greilsamer pour lancer le journal Le 1. Il en devient le directeur exécutif en septembre 2016. En octobre 2017\, il publie son premier roman\, Grand frère et reçoit le Prix Goncourt du premier roman (2018). Roman psychologique\, il raconte l’histoire de deux frères d’une trentaine d’années ayant grandi en banlieue parisienne. En 2024\, il publie Rien de personnel (Éditions JC Lattes). \n« Loin de donner des leçons\, Mahir Guven pose les bonnes questions : comment devient-on français ? Que signifie être un bon Français et cela même existe-t-il ? Comment refléter la diversité dans le récit national ? » Amandine Schmitt\, L’Obs \n  \nÀ propos d’Astrid de Villaines \nAprès avoir passé sept ans à La Chaîne Parlementaire\, ayant suivi les quinquennats de François Hollande et Emmanuel Macron\, le RN et les campagnes présidentielles de Jean-Luc Mélenchon\, elle a été cheffe du service politique du HuffPost pendant 5 ans. Elle est aujourd’hui productrice et animatrice de l’émission “Sens politique” sur France Culture. Elle animera pour Conscious tout au long de l’année 2024/2025 “Les Rendez-vous d’Astrid : Le Monde de Demain”\, un cycle de soirées débats et discussions avec un.e invité.e de son choix. \n  \nPortrait de droite – © JF PAGA
URL:https://consciousparis.com/evenement/les-rendez-vous-dastrid-le-monde-de-demain-mahir-guven-2/
LOCATION:Conscious\, 12 rue de Normandie\, Paris\, 75003
CATEGORIES:Géopolitique, histoire & enjeux sociétaux,Philosophie, littérature & psychologie,SOIRÉES
ATTACH;FMTTYPE=image/webp:https://consciousparis.com/wp-content/uploads/2024/07/Astrid-de-villaines_mahir-guven-consciousparis.webp
END:VEVENT
BEGIN:VEVENT
DTSTART;TZID=Europe/Paris:20241022T193000
DTEND;TZID=Europe/Paris:20241022T203000
DTSTAMP:20260421T191944
CREATED:20240713T161655Z
LAST-MODIFIED:20241017T180243Z
UID:27150-1729625400-1729629000@consciousparis.com
SUMMARY:Les sérendipités de Vincent • Promenade littéraire avec Marcel Proust
DESCRIPTION:DANS LA CHAMBRE DE PROUST\, proposée par Vincent Figureau \nUne lecture-promenade avec la complicité involontaire de Céleste Albaret\, Roland Barthes\, Jean Cocteau\, Jean Hugo\, François Mauriac\, Paul Morand et Maurice Ravel \nLa figure étrange et attachante de Marcel Proust occupe une place singulière dans la littérature. Conçue comme une majestueuse cathédrale\, son œuvre A la Recherche du temps perdu suscite à la fois admiration\, respect et crainte. Sans doute parce que le travail introspectif auquel Proust se livre est le miroir tendu vers nos intériorités. \nC’est dans sa chambre « aux fenêtres protégées par d’épais rideaux et tapissée de panneaux de liège sur laquelle le temps ne semble guère avoir de prise » (Michel Erman)\,depuis son lit\, que Proust a composé son œuvre.Lieu onirique d’un temps suspendu entre l’enfance et la mort\, la chambre de Proust est à la fois laboratoire\, chambre noire qui révèle et fixe les souvenirs d’une vie passée\, chambre d’échos intérieure d’où la vraie vie nous est restituée dans sa pure essence\, lieu d’otium studiosum dédié à la littérature. Elle est aussi lieu sépulcral de lecture\, car « les vrais livres doivent être les enfants\, non du grand jour et de la causerie\, mais de l’obscurité et du silence. » (Marcel Proust). \nAux yeux d’André Gide\, La Recherche du temps perdu touche à l’absolu dans sa tentative de décrire et de faire vivre au lecteur une expérience radicale de désintéressement : cette œuvre de « long loisir (…)\, si désintéressée\, si gratuite\, nous apparaît plus profitable et de plus grand secours que tant d’œuvres dont l’utilité seule est le but. » \nPrès de cent deux ans après la mort de Proust (18 novembre 1922)\, Vincent vous propose une plongée dans l’œuvre littéraire la plus fascinante du XXe siècle. \nEntrez avec lui dans cette chambre nappée « d’un nuage de poudre anti-asthmatique » (Cocteau) : il vous lira quelques pages extraites de La Recherche du temps perdu\, ponctuées des témoignages de personnes qui ont connu Proust (Céleste Albaret\, Jean Cocteau\, Jean Hugo\, François Mauriac\, Paul Morand) ou qui ont su\, par leurs analyses\, faire miroiter son œuvre (Roland Barthes). \nIl existe des parentés entre Proust et Ravel. Bien que le nom du compositeur du Boléro ne soit mentionné qu’une fois dans La Recherche\, tous deux ont en commun le profond attachement à leur« Maman »\, et en partage Céleste Albaret\, qui après avoir été au service de Proust de 1914 à 1922\, fut la gardienne de la maison de Ravel à Montfort-l’Amaury de 1954 à 1970. Lors des obsèques de Proust en 1922\, la Pavane pour une infante défunte fut jouée. La lecture sera donc illustrée par quelques morceaux choisis de Maurice Ravel. \n  \nTextes \n\nMarcel Proust\, À la recherche du temps perdu\, Gallimard\, coll. Pléiade : extraits de Du côté de chez Swann\, du Côté de Guermantes\, d’Albertine disparue\, et du Temps retrouvé\, Gallimard\, coll. La Pléiade\nCéleste Albaret\, extraits de Monsieur Proust (Robert Laffont\, coll. documento\, 2014) ; témoignage dans l’émission « Proust\, Portrait souvenirs » de Roger Stéphane (ORTF\, 1962) ; témoignage cité dans l’émission « Le monde de Marcel Proust » de Thierry Thomas (Arte\, 2021)\nRoland Barthes\, « La leçon de Proust »\, texte inédit prononcé dans le cadre d’une émission radiophonique de Robert Valette\, « Proust aujourd’hui »\, réalisée pour les 50 ans de la parution de Du côté de chez Swann (RTF\, 1963)\nJean Cocteau\, extrait de La Difficulté d’être (1951) ; témoignage dans l’émission « Proust\, Portrait souvenirs » de Roger Stéphane (ORTF\, 1962)\nJean Hugo\, Le regard de la mémoire 1914-1945 (Actes Sud\, novembre 2020)\nFrançois Mauriac\, témoignage dans l’émission « Proust\, Portrait souvenirs » (ORTF\, 1962)\nPaul Morand\, témoignage dans l’émission « Proust\, Portrait souvenirs » de Roger Stéphane (ORTF\,1962)\n\n  \nDessin – Portrait de Marcel Proust\, octobre 1891\, Trouville. Un dessin signé du peintre Jacques-Émile Blanche. Collection Kharbine Tapabor.
URL:https://consciousparis.com/evenement/lecture-de-textes-marcel-proust-par-vincent-figureau-2/
LOCATION:Conscious\, 12 rue de Normandie\, Paris\, 75003
CATEGORIES:Philosophie, littérature & psychologie,SOIRÉES
ATTACH;FMTTYPE=image/jpeg:https://consciousparis.com/wp-content/uploads/2024/07/Figureau-Proust.jpg
ORGANIZER;CN="Conscious Paris":MAILTO:info@consciousparis.com
END:VEVENT
END:VCALENDAR