BEGIN:VCALENDAR
VERSION:2.0
PRODID:-//Conscious Paris - ECPv6.15.20//NONSGML v1.0//EN
CALSCALE:GREGORIAN
METHOD:PUBLISH
X-WR-CALNAME:Conscious Paris
X-ORIGINAL-URL:https://consciousparis.com
X-WR-CALDESC:Évènements pour Conscious Paris
REFRESH-INTERVAL;VALUE=DURATION:PT1H
X-Robots-Tag:noindex
X-PUBLISHED-TTL:PT1H
BEGIN:VTIMEZONE
TZID:Europe/Paris
BEGIN:DAYLIGHT
TZOFFSETFROM:+0100
TZOFFSETTO:+0200
TZNAME:CEST
DTSTART:20230326T010000
END:DAYLIGHT
BEGIN:STANDARD
TZOFFSETFROM:+0200
TZOFFSETTO:+0100
TZNAME:CET
DTSTART:20231029T010000
END:STANDARD
BEGIN:DAYLIGHT
TZOFFSETFROM:+0100
TZOFFSETTO:+0200
TZNAME:CEST
DTSTART:20240331T010000
END:DAYLIGHT
BEGIN:STANDARD
TZOFFSETFROM:+0200
TZOFFSETTO:+0100
TZNAME:CET
DTSTART:20241027T010000
END:STANDARD
BEGIN:DAYLIGHT
TZOFFSETFROM:+0100
TZOFFSETTO:+0200
TZNAME:CEST
DTSTART:20250330T010000
END:DAYLIGHT
BEGIN:STANDARD
TZOFFSETFROM:+0200
TZOFFSETTO:+0100
TZNAME:CET
DTSTART:20251026T010000
END:STANDARD
END:VTIMEZONE
BEGIN:VEVENT
DTSTART;TZID=Europe/Paris:20241105T193000
DTEND;TZID=Europe/Paris:20241105T203000
DTSTAMP:20260421T175522
CREATED:20240713T140109Z
LAST-MODIFIED:20250416T103547Z
UID:26893-1730835000-1730838600@consciousparis.com
SUMMARY:Les visages de l'humanisme • Que peut la littérature contre le mal ? Elgas invite Mohamed Mbougar Sarr
DESCRIPTION:Écrire\, d’après Mohamed Mbougar Sarr\, c’est une “tentative de convoquer dans l’espace réduit d’une phrase\, les différentes strates du temps”. Ces strates existent à travers la mémoire des Hommes et lient ainsi intrinsèquement la littérature à la vie. Ce rapport essentiel entre la vie et l’écriture imprègne chaque page de La Plus Secrète Mémoire des Hommes\, à travers les réflexions et la quête existentielle de Diégane\, une jeune écrivain sénégalais.  \nAussi\, Mbougar Sarr interroge dans son roman le rapport de l’écrivain africain à la France. Déplorant le face-à-face qui sépare l’Afrique et l’Occident\, Mbougar Sarr appelle à considérer le pouvoir de la littérature en tant qu’espace potentiel de dialogue fécond entre les cultures et les langues des deux continents. Pour résumer : Que peut réellement la littérature contre le mal ?  \n  \nÀ propos de l’invité \nNé au Sénégal à Diourbel en 1990\, Mohamed Mbougar Sarr grandit dans une famille de sept garçons. A partir de 2002\, il entame ses études au Prytanée militaire de Saint-Louis du Sénégal\, puis il arrive en France\, intègre les classes préparatoires du lycée Pierre-d’Ailly de Compiègne puis poursuit à l’Ecole des hautes études en sciences sociales (EHESS). Il publie son premier roman Terre ceinte en 2014\, lequel reçoit le prix Ahamdou-Kourouma au salon du livre de Genève en 2015 puis le Grand Prix du Roman métis de Saint-Denis à la Réunion et le prix du roman métis des lycéens ce qui lui vaudra puis est élevé au rang de Chevalier de l’Ordre national du Mérite par le Président de la République du Sénégal. En 2021\, il reçoit le Prix Goncourt pour son roman “La plus secrète mémoire des hommes” et devient ainsi l’un des plus jeune Goncourt de l’histoire. \nÀ propos d’Elgas \nNé en 1988 à Saint-Louis du Sénégal\, Elgas a grandi à Ziguinchor. Chercheur associé à l’IRIS\, journaliste et écrivain\, il anime l’émission Afrique\, mémoires d’un continent sur RFI. Diplômé de communication et de sciences politiques\, il s’évertue à décrire l’Afrique sans fards et sans complaisance dans ses ouvrages. En 2023\, il publie “Les bons ressentiments\, essai sur le malaise post-colonial (Editions Riveneuve).
URL:https://consciousparis.com/evenement/elgas-invite-mohamed-mbougar-sarr/
CATEGORIES:Géopolitique, histoire & enjeux sociétaux,SOIRÉES
END:VEVENT
BEGIN:VEVENT
DTSTART;TZID=Europe/Paris:20241112T193000
DTEND;TZID=Europe/Paris:20241112T210000
DTSTAMP:20260421T175522
CREATED:20240703T161847Z
LAST-MODIFIED:20241029T123725Z
UID:26754-1731439800-1731445200@consciousparis.com
SUMMARY:Dialogue Littéraire • Camille de Peretti\, L'Inconnue du Portrait
DESCRIPTION:« La toile vibrait de beauté. Elle en avait le souffle coupé et se noyait dans l’œil bleu ciel piqueté de vert. Est-ce qu’elle était réellement le sosie de cette inconnue ? » \nPeint à Vienne en 1910\, le tableau de Gustav Klimt Portrait d’une dame est acheté par un collectionneur anonyme en 1916\, retouché par le maître un an plus tard\, puis volé en 1997\, avant de réapparaître en 2019 dans les jardins d’un musée d’art moderne en Italie. Aucun expert en art\, aucun conservateur de musée\, aucun enquêteur de police ne sait qui était la jeune femme représentée sur le tableau\, ni quels mystères entourent l’histoire mouvementée de son portrait. Des rues de Vienne en 1900 au Texas des années 1980\, du Manhattan de la Grande Dépression à l’Italie contemporaine\, Camille de Peretti imagine la destinée de cette jeune femme\, ainsi que celles de ses descendants. Une fresque magistrale où se mêlent secrets de familles\, succès éclatants\, amours contrariées\, disparitions et drames retentissants. \n Nous vous donnons rendez-vous le 12 novembre à 19h30 avec Camille de Peretti\, qui sera présente pour nous parler de ce roman passionnant\, des thématiques qu’elle aborde et de sa démarche d’écriture.  \nÀ propos de Camille de Peretti\,  \nCamille de Peretti est née en 1980 à Paris. Elle est l’autrice de huit romans\, dont Thornytorinx (prix du Premier roman de Chambéry) et Le Sang des Mirabelles(Calmann-Lévy\, 2019). \n Programme de la soirée :  \n\n19h – Premières arrivées\n19h30 – Début de la discussion\n20h30 – Échange convivial autour d’une sélection de vins et visite guidée de l’exposition
URL:https://consciousparis.com/evenement/rencontre-litteraire-camille-de-peretti-linconnue-du-portrait/
CATEGORIES:Philosophie, littérature & psychologie,SOIRÉES
ATTACH;FMTTYPE=image/jpeg:https://consciousparis.com/wp-content/uploads/2024/07/3.jpg
END:VEVENT
BEGIN:VEVENT
DTSTART;TZID=Europe/Paris:20241113T193000
DTEND;TZID=Europe/Paris:20241113T203000
DTSTAMP:20260421T175522
CREATED:20230809T093100Z
LAST-MODIFIED:20241114T150005Z
UID:26931-1731526200-1731529800@consciousparis.com
SUMMARY:Des Mots & des Arts • Jackson Pollock & rythme d'automne
DESCRIPTION:La toile est immense et pourtant elle ne montre rien. Rien qu’un rythme dont le titre suggère qu’il serait automnal. Autumn Rhythm semble un vaste chaos pictural d’où se dégage pourtant quelque chose qui aurait davantage à voir avec l’ordre du dessin. C’est qu’en effet les lignes de l’oeuvre\, si elles n’ont ni commencement ni fin\, parviennent cependant à une forme de continuité inédite\, et à une abstraction inconnue jusqu’alors…\nConférence animée par Paul Bernard-Nouraud\n  \n___________________________ \nDates et horaires  \nSoirée d’introduction  \n& Histoire de la  Biennale de Venise \nMercredi 25 septembre à 19h30 \nPour célébrer et présenter les prochaines soirées\, rendez-vous le mercredi 25 septembre en compagnie de Paul Bernard-Nouraud et toute notre équipe. Focus sur l’histoire de la Biennale de Venise et moment convivial autour d’un Moscato d’Asti.. \n  \nCycle 1 : Une heure\, une oeuvre  \n\nMercredi 9 octobre – Gustave Caillebotte & les Raboteurs de parquets (Caillebotte au Musée d’Orsay) – Conférence animée par Paul Bernard-Nouraud\nMercredi 13 novembre – Jackson Pollock & Rythme d’automne (Pollock au Musée Picasso) – Conférence animée par Paul Bernard-Nouraud\nMercredi 8 janvier – Marcher dans le siècle avec Giacometti (Heinz Berggruen au Musée de l’Orangerie) Conférence animée par Paul Bernard-Nouraud\nMercredi 11 décembre – Diego de Velázquez & Les Ménines (« Figures de fou » au Louvre) – Conférence animée par Paul Bernard-Nouraud\nMercredi 12 février – Giuseppe Penone  (Arte Povera à la Bourse de Commerce) – Conférence animée Morgane Evrard\n\nCycle 2 : Les tribulations de l’art dans l’histoire\, oeuvres volées\, spoliées & restituées  \n\nMercredi 19 mars – L’art à l’heure française. Quand la Révolution s’empare des chefs-d’œuvre européens – Conférence animée par Paul Bernard-Nouraud\nMercredi 2 avril – Voler au nom de la science. L’art sous le joug colonial – Conférence animée par Paul Bernard-Nouraud\nMercredi 30 avril – L’art dans la tourmente de la Seconde Guerre mondiale. Des spoliations aux restitutions – Conférence animée par Paul Bernard-Nouraud\nMercredi 7 mai – Le vol d’œuvres d’art\, à qui profite le crime ? –  Conférence animée par Clémentine Hébrard\nMercredi 21 mai – La restitution face à la loi : Le cas d’école Pissarro – Conférence animée par Clémentine Hébrard
URL:https://consciousparis.com/evenement/pollock-rythmedautomne/
LOCATION:Conscious\, 12 rue de Normandie\, Paris\, 75003
CATEGORIES:Arts & architecture,SOIRÉES
ATTACH;FMTTYPE=image/webp:https://consciousparis.com/wp-content/uploads/2023/08/Visu-Rencontres-Litteraires.webp
ORGANIZER;CN="Conscious Paris":MAILTO:info@consciousparis.com
END:VEVENT
BEGIN:VEVENT
DTSTART;TZID=Europe/Paris:20241114T193000
DTEND;TZID=Europe/Paris:20241114T203000
DTSTAMP:20260421T175522
CREATED:20240427T142206Z
LAST-MODIFIED:20241023T173351Z
UID:27985-1731612600-1731616200@consciousparis.com
SUMMARY:Extrême-droite & histoire • Rencontre avec Baptiste Roger-Lacan
DESCRIPTION:Agrégé et docteur en histoire\, Baptiste Roger-Lacan est spécialisé en histoire de la culture et des mentalités politiques. Il travaille notamment sur la création\, la diffusion et la réception des récits contre-révolutionnaires de la Révolution. Il a été boursier de la Fondation Thiers et de la Fondation Napoléon. \nBaptiste répondra aux questions de Simon Attias et Nathan Levy\, Fondateurs de Neastoria \n 
URL:https://consciousparis.com/evenement/baptisterogerlacan-2/
LOCATION:Conscious\, 12 rue de Normandie\, Paris\, 75003
CATEGORIES:Géopolitique, histoire & enjeux sociétaux,SOIRÉES
ORGANIZER;CN="Conscious Paris":MAILTO:info@consciousparis.com
END:VEVENT
BEGIN:VEVENT
DTSTART;TZID=Europe/Paris:20241118T193000
DTEND;TZID=Europe/Paris:20241118T210000
DTSTAMP:20260421T175522
CREATED:20240412T141704Z
LAST-MODIFIED:20241119T143154Z
UID:27934-1731958200-1731963600@consciousparis.com
SUMMARY:Débriefons sur les élections américaines ! • Pierre Haski invite Laurence Nardon
DESCRIPTION:Que dire des élections américaines ?  \nAlors que l’Amérique vient de choisir son futur président et ses représentants\, il est essentiel de comprendre les implications politiques\, sociales et internationales de ce scrutin. Nos invités\, experts reconnus dans le domaine des affaires américaines et de la politique internationale\, reviendront sur les moments clés de cette élection\, les dynamiques internes aux États-Unis\, ainsi que les effets potentiels sur la scène mondiale. \nNous avons le plaisir de vous convier à un moment de réflexion et d’analyse sur les résultats des élections américaines. Pierre Haski\, journaliste et chroniqueur\, recevra Laurence Nardon\, spécialiste des États-Unis et responsable du programme Amérique du Nord à l’Institut français des relations internationales (IFRI). \nAu cours de cette conférence\, Pierre Haski et Laurence Nardon nous inviterons à décrypter ensemble les conséquences politiques\, économiques et géopolitiques de cette élection cruciale pour l’avenir des États-Unis et de l’ordre mondial. Comment va se dessiner le paysage politique intérieur ? Quel sera l’impact sur les relations internationales ? Et quelles seront les perspectives pour les années à venir ? \nAutant de questions que nous vous invitons à poser ce lundi 18 novembre à 19h30 au 12\, rue de Normandie. Une opportunité unique pour mieux comprendre les répercussions de cet événement majeur à travers le regard de deux experts de la scène géopolitique. \n  \nÀ propos de Laurence Nardon  \nLaurence Nardon dirige le programme Amérique du Nord de l’Ifri. Elle édite et contribue à la collection de notes de recherche en ligne des Potomac Papers\, qui porte sur les Etats-Unis. Elle est membre du comité de rédaction des revues Politique étrangère\, Questions internationales et The Washington Quarterly. Elle est également chroniqueuse pour l’hebdomadaire Réforme. \nAvant de rejoindre l’Ifri\, Laurence Nardon a été chargée de recherches à l’Ecole des Hautes Etudes en Sciences Sociales (EHESS)\, puis\, de 2001 à 2003\, Visiting Fellow au Center for Strategic and International Studies (CSIS) à Washington. \nLaurence Nardon est docteur en science politique de l’Université de Paris 1 Panthéon-Sorbonne. Elle a étudié à l’Université du Kent à Canterbury après avoir reçu son diplôme de Sciences-Po Paris. A l’automne 2000\, elle a été Fulbright Scholar à George Washington Université à Washington.
URL:https://consciousparis.com/evenement/usa-elections-americaines-debrief/
LOCATION:Conscious\, 12 rue de Normandie\, Paris\, 75003
CATEGORIES:Géopolitique, histoire & enjeux sociétaux,SOIRÉES
ATTACH;FMTTYPE=image/webp:https://consciousparis.com/wp-content/uploads/2024/04/Nardon-Haski-usa-consciousparis.webp
ORGANIZER;CN="Conscious Paris":MAILTO:info@consciousparis.com
END:VEVENT
BEGIN:VEVENT
DTSTART;TZID=Europe/Paris:20241122T193000
DTEND;TZID=Europe/Paris:20241122T203000
DTSTAMP:20260421T175522
CREATED:20240713T161655Z
LAST-MODIFIED:20241202T184509Z
UID:27663-1732303800-1732307400@consciousparis.com
SUMMARY:Les sérendipités de Vincent • Promenade littéraire avec Marcel Proust
DESCRIPTION:DANS LA CHAMBRE DE PROUST\, proposée par Vincent Figureau\nUne lecture-promenade\, avec la complicité involontaire de Céleste Albaret\, Roland Barthes\, Jean Cocteau\, Jean Hugo\, François Mauriac\, Paul Morand et Maurice Ravel \nLa figure étrange et attachante de Marcel Proust occupe une place singulière dans la littérature.Conçue comme une majestueuse cathédrale\, son œuvre A la Recherche du temps perdu suscite à la fois admiration\, respect et crainte. Sans doute parce que le travail introspectif auquel Proust se livre est le miroir tendu vers nos intériorités. \nC’est dans sa chambre « aux fenêtres protégées par d’épais rideaux et tapissée de panneaux de liège sur laquelle le temps ne semble guère avoir de prise » (Michel Erman)\, depuis son lit\, que Proust a composé son œuvre.\nLieu onirique d’un temps suspendu entre l’enfance et la mort\, la chambre de Proust est à la fois laboratoire\, chambre noire qui révèle et fixe les souvenirs d’une vie passée\, chambre d’échos intérieure d’où la vraie vie nous est restituée dans sa pure essence\, lieu d’otium studiosum dédié à la littérature. Elle est aussi lieu sépulcral de lecture\, car « les vrais livres doivent être les enfants\, non du grand jour et de la causerie\, mais de l’obscurité et du silence. » (Marcel Proust). \nAux yeux d’André Gide\, La Recherche du temps perdu touche à l’absolu dans sa tentative de décrire et de faire vivre au lecteur une expérience radicale de désintéressement : cette œuvre de « long loisir (…)\, si désintéressée\, si gratuite\, nous apparaît plus profitable et de plus grand secours que tant d’œuvres dont l’utilité seule est le but. » \nPrès de cent deux ans après la mort de Proust (18 novembre 1922)\, je vous propose une plongée dans l’œuvre littéraire la plus fascinante du XX e siècle.\nEntrez avec lui dans cette chambre nappée « d’un nuage de poudre anti-asthmatique » (Cocteau) : Vincent vous lira quelques pages extraites de La Recherche du temps perdu\, ponctuées des témoignages de personnes qui ont connu Proust (Céleste Albaret\, Jean Cocteau\, Jean Hugo\, François Mauriac\, Paul Morand) ou qui ont su\, par leurs analyses\, faire miroiter son œuvre (Roland Barthes). \nIl existe des parentés entre Proust et Ravel. Bien que le nom du compositeur du Boléro ne soit mentionné qu’une fois dans La Recherche\, tous deux ont en commun le profond attachement à leur« Maman »\, et en partage Céleste Albaret\, qui après avoir été au service de Proust de 1914 à 1922\, fut la gardienne de la maison de Ravel à Montfort-l’Amaury de 1954 à 1970. Lors des obsèques de Proust en 1922\, la Pavane pour une infante défunte fut jouée. La lecture sera donc illustrée par quelques morceaux choisis de Maurice Ravel. \n  \nTextes \n\nMarcel Proust\, À la recherche du temps perdu\, Gallimard\, coll. Pléiade : extraits de Du côté de chez Swann\, du Côté de Guermantes\, d’Albertine disparue\, et du Temps retrouvé\, Gallimard\, coll. La Pléiade\nCéleste Albaret\, extraits de Monsieur Proust (Robert Laffont\, coll. documento\, 2014) ; témoignage dans l’émission « Proust\, Portrait souvenirs » de Roger Stéphane (ORTF\, 1962) ; témoignage cité dans l’émission « Le monde de Marcel Proust » de Thierry Thomas (Arte\, 2021)\nRoland Barthes\, « La leçon de Proust »\, texte inédit prononcé dans le cadre d’une émission radiophonique de Robert Valette\, « Proust aujourd’hui »\, réalisée pour les 50 ans de la parution de Du côté de chez Swann (RTF\, 1963)\nJean Cocteau\, extrait de La Difficulté d’être (1951) ; témoignage dans l’émission « Proust\, Portrait souvenirs » de Roger Stéphane (ORTF\, 1962)\nJean Hugo\, Le regard de la mémoire 1914-1945 (Actes Sud\, novembre 2020)\nFrançois Mauriac\, témoignage dans l’émission « Proust\, Portrait souvenirs » (ORTF\, 1962)\nPaul Morand\, témoignage dans l’émission « Proust\, Portrait souvenirs » de Roger Stéphane (ORTF\,1962)\n\n  \n  \n  \nDessin – Portrait de Marcel Proust\, octobre 1891\, Trouville. Un dessin signé du peintre Jacques-Émile Blanche. Collection Kharbine Tapabor.
URL:https://consciousparis.com/evenement/lecture-de-textes-marcel-proust-par-vincent-figureau-2-2/
LOCATION:Conscious\, 12 rue de Normandie\, Paris\, 75003
CATEGORIES:Philosophie, littérature & psychologie,SOIRÉES
ATTACH;FMTTYPE=image/jpeg:https://consciousparis.com/wp-content/uploads/2024/07/Figureau-Proust.jpg
ORGANIZER;CN="Conscious Paris":MAILTO:info@consciousparis.com
END:VEVENT
END:VCALENDAR