BEGIN:VCALENDAR
VERSION:2.0
PRODID:-//Conscious Paris - ECPv6.15.20//NONSGML v1.0//EN
CALSCALE:GREGORIAN
METHOD:PUBLISH
X-WR-CALNAME:Conscious Paris
X-ORIGINAL-URL:https://consciousparis.com
X-WR-CALDESC:Évènements pour Conscious Paris
REFRESH-INTERVAL;VALUE=DURATION:PT1H
X-Robots-Tag:noindex
X-PUBLISHED-TTL:PT1H
BEGIN:VTIMEZONE
TZID:Europe/Paris
BEGIN:DAYLIGHT
TZOFFSETFROM:+0100
TZOFFSETTO:+0200
TZNAME:CEST
DTSTART:20230326T010000
END:DAYLIGHT
BEGIN:STANDARD
TZOFFSETFROM:+0200
TZOFFSETTO:+0100
TZNAME:CET
DTSTART:20231029T010000
END:STANDARD
BEGIN:DAYLIGHT
TZOFFSETFROM:+0100
TZOFFSETTO:+0200
TZNAME:CEST
DTSTART:20240331T010000
END:DAYLIGHT
BEGIN:STANDARD
TZOFFSETFROM:+0200
TZOFFSETTO:+0100
TZNAME:CET
DTSTART:20241027T010000
END:STANDARD
BEGIN:DAYLIGHT
TZOFFSETFROM:+0100
TZOFFSETTO:+0200
TZNAME:CEST
DTSTART:20250330T010000
END:DAYLIGHT
BEGIN:STANDARD
TZOFFSETFROM:+0200
TZOFFSETTO:+0100
TZNAME:CET
DTSTART:20251026T010000
END:STANDARD
END:VTIMEZONE
BEGIN:VEVENT
DTSTART;TZID=Europe/Paris:20241204T193000
DTEND;TZID=Europe/Paris:20241204T203000
DTSTAMP:20260421T161005
CREATED:20240704T134552Z
LAST-MODIFIED:20241205T133433Z
UID:28513-1733340600-1733344200@consciousparis.com
SUMMARY:Le Monde de Demain • Écologie — Comment s'engager face au défaitisme  ? • Astrid de Villaines invite Paloma Moritz
DESCRIPTION:Malgré l’évidence\, les responsables politiques ne prennent pas assez en cause les conséquences du dérèglement climatique. L’année 2023 a été la plus chaude jamais enregistrée et les inondations en Espagne et en France nous font prendre conscience chaque jour et au plus près de nous de l’ampleur des dégâts. \nPlus on se rapproche de la gravité du moment et des répercussions dans nos vies\, plus le déni semble grand. Comment expliquer ce paradoxe et surtout que faire pour le contrer ? \nFace au défaitisme ambiant\, forte est la tentation de laisser tomber\, de ne plus regarder ce qui s’impose à nous. Quelles stratégies de résistance peut-on mettre en place\, individuellement et collectivement ? Quelles sont encore les raisons d’espérer ? \nPaloma Moritz\, journaliste écologie et société chez Blast\, et Astrid de Villaines\, productrice et animatrice de l’émission “Sens politique” sur France Culture\, se retrouvent pour une conversation essentielle et sans détour sur l’écologie et l’urgence d’agir. Elles analyseront les crises écologiques en cours\, dévoileront l’ampleur de la dégradation de notre environnement et proposeront des solutions concrètes pour s’engager dès maintenant. \nPaloma Moritz\, Journaliste écologie et société chez Blast\,  et Astrid de Villaines\, productrice et animatrice de l’émission “Sens politique” sur France Culture se retrouvent pour une conversation essentielle sur l’écologie\, l’engagement individuel et collectif\, les actions contre le défaitisme ambiant et face à l’ampleur des crises actuelles. \nAu programme : \n\nTransformer la désillusion en action : Comment surmonter le sentiment d’impuissance face à une crise climatique qui paraît irréversible et utiliser ce découragement comme un moteur pour l’engagement ?\nDes leviers pour passer à l’action\, même à petite échelle : Comment nous réapproprier notre avenir et initier des actions concrètes qui font réellement la différence ?\nTémoignages et solutions pratiques pour se mobiliser efficacement : Des exemples inspirants d’initiatives locales et globales qui montrent qu’il est encore possible de redresser la barre\n\n  \n  \n  \nCredits photos  \nPaloma Moritz – Patrick Lazic \n 
URL:https://consciousparis.com/evenement/palomamoritz/
LOCATION:Conscious\, 12 rue de Normandie\, Paris\, 75003
CATEGORIES:Géopolitique, histoire & enjeux sociétaux,SOIRÉES
ATTACH;FMTTYPE=image/png:https://consciousparis.com/wp-content/uploads/2024/07/Invitation-personnelle-I-Mercredi-29-novembre-a-19h30.pdf-6.png
ORGANIZER;CN="Conscious Paris":MAILTO:info@consciousparis.com
END:VEVENT
BEGIN:VEVENT
DTSTART;TZID=Europe/Paris:20241210T193000
DTEND;TZID=Europe/Paris:20241210T203000
DTSTAMP:20260421T161005
CREATED:20240713T140109Z
LAST-MODIFIED:20241211T152621Z
UID:27968-1733859000-1733862600@consciousparis.com
SUMMARY:Les visages de l'humanisme • L'universel a-t-il un avenir ? Elgas invite Souleymane Bachir Diagne
DESCRIPTION:Dans un contexte global marqué par la diversité culturelle et les défis du pluralisme\, la notion d’universel revêt une importance particulière. \nQu’entendons-nous par universel ? Comment cette notion peut-elle s’articuler avec les réalités locales et les particularismes culturels ? Peut-on envisager un universel qui ne soit pas homogénéisant\, mais qui respecte et intègre les différences ? \nElgas et Souleymane Bachir Diagne animeront ensemble cette soirée pour partager leurs réflexions sur cette notion d’universel\, en s’appuyant sur leurs travaux respectifs et leurs expériences personnelles. Ils aborderont la manière dont les identités culturelles se confrontent et s’enrichissent mutuellement dans cette quête d’universalité. \n\n\n\n\n\n\n\n\nSouleymane Bachir Diagne\n\n\n\n\nSouleymane Bachir Diagne est ancien élève de l’Ecole Normale Supérieure. Agrégé de philosophie (en 1978)\, il obtient en 1988 son doctorat d’Etat en philosophie de l’Université Paris Sorbonne. Avant de rejoindre l’Université Columbia à New York en 2008\, il a enseigné vingt ans la philosophie à l’Université Cheikh Anta Diop de Dakar\, Sénégal\, puis huit ans à l’Université Northwestern\, à Chicago. \nSes recherches et ses enseignements portent sur l’histoire de la logique mathématique\, l’histoire de la philosophie\, la philosophie islamique\, ainsi que les questions de littérature et de philosophie en Afrique. Son livre Bergson postcolonial. L’élan vital dans la pensée de Senghor et de Mohamed Iqbal a été couronné en 2011 par le prix Dagnan-Bouveret de l’Académie des sciences morales et politiques\, l’année où il a également obtenu le prix Edouard Glissant de l’Université Paris VIII pour l’ensemble de son travail. \nSes publications les plus récentes sont : L’encre des savants. Réflexions sur la philosophie en Afrique ; Comment Philosopher en islam\, Paris ; Philosopher en islam et en christianisme (avec Philippe Cappelle-Dumont) \n\n\n\nElgas\n\n\n\nChercheur associé à l’IRIS\, journaliste et écrivain\, Elgas anime l’émission Afrique\, mémoires d’un continent sur RFI. Diplômé de communication et de sciences politiques\, il s’évertue à décrire l’Afrique sans fards et sans complaisance dans ses ouvrages. En 2023\, il publie “Les bons ressentiments\, essai sur le malaise post-colonial. (Editions Riveneuve). \n\n\n\n\nL’inscription est obligatoire en raison du nombre limité de places\n\n\n\n\n  \n\n\n\n\n\n 
URL:https://consciousparis.com/evenement/elgas-invite-souleymane-bachir-diagne-3/
LOCATION:Conscious\, 12 rue de Normandie\, Paris\, 75003
CATEGORIES:Géopolitique, histoire & enjeux sociétaux,Philosophie, littérature & psychologie,SOIRÉES
ATTACH;FMTTYPE=image/webp:https://consciousparis.com/wp-content/uploads/2024/07/souleymanebachirdiagne-et-elgas-10-decembre-Conscious-Paris.pdf.webp
ORGANIZER;CN="Conscious Paris":MAILTO:info@consciousparis.com
END:VEVENT
BEGIN:VEVENT
DTSTART;TZID=Europe/Paris:20241211T193000
DTEND;TZID=Europe/Paris:20241211T203000
DTSTAMP:20260421T161005
CREATED:20230809T093100Z
LAST-MODIFIED:20241126T152917Z
UID:26939-1733945400-1733949000@consciousparis.com
SUMMARY:Des Mots & des Arts • Diego de Velasquez & les Ménines
DESCRIPTION:Le musée du Louvre met en lumière la figure du fou : sombrons dans la folie et dans l’histoire des fous\, des fous d’amour au fou du roi à partir du célèbre tableau de Vélazquez.\nConférence animée par Paul Bernard-Nouraud\n  \n___________________________ \nDates et horaires  \nSoirée d’introduction  \n& Histoire de la  Biennale de Venise \nMercredi 25 septembre à 19h30 \nPour célébrer et présenter les prochaines soirées\, rendez-vous le mercredi 25 septembre en compagnie de Paul Bernard-Nouraud et toute notre équipe. Focus sur l’histoire de la Biennale de Venise et moment convivial autour d’un Moscato d’Asti.. \n  \nCycle 1 : Une heure\, une oeuvre  \n\nMercredi 9 octobre – Gustave Caillebotte & les Raboteurs de parquets (exposition Caillebotte au Musée d’Orsay) – Conférence animée par Paul Bernard-Nouraud\nMercredi 13 novembre – Jackson Pollock & Rythme d’automne (exposition Pollock au Musée Picasso) – Conférence animée par Paul Bernard-Nouraud\nMercredi 27 novembre – Vincent van Gogh & La Chambre de Vincent (exposition « L’intime » au MAD) – Conférence animée par Paul Bernard-Nouraud\nMercredi 11 décembre – Diego de Velázquez & Les Ménines (exposition « figures de fou » au Louvre) – Conférence animée par Paul Bernard-Nouraud\nMercredi 12 février – Giuseppe Penone & (œuvre à venir) (exposition Arte Povera à la Bourse de Commerce) – Conférence animée Morgane Evrard\n\nCycle 2 : Les tribulations de l’art dans l’histoire\, oeuvres volées\, spoliées & restituées  \n\nMercredi 19 mars – L’art à l’heure française. Quand la Révolution s’empare des chefs-d’œuvre européens – Conférence animée par Paul Bernard-Nouraud\nMercredi 2 avril – Voler au nom de la science. L’art sous le joug colonial – Conférence animée par Paul Bernard-Nouraud\nMercredi 30 avril – L’art dans la tourmente de la Seconde Guerre mondiale. Des spoliations aux restitutions – Conférence animée par Paul Bernard-Nouraud\nMercredi 7 mai – Le vol d’œuvres d’art\, à qui profite le crime ? –  Conférence animée par Clémentine Hébrard\nMercredi 21 mai – La restitution face à la loi : Le cas d’école Pissarro – Conférence animée par Clémentine Hébrard
URL:https://consciousparis.com/evenement/menines-2/
LOCATION:Conscious\, 12 rue de Normandie\, Paris\, 75003
CATEGORIES:Arts & architecture,SOIRÉES
ORGANIZER;CN="Conscious Paris":MAILTO:info@consciousparis.com
END:VEVENT
BEGIN:VEVENT
DTSTART;TZID=Europe/Paris:20241213T200000
DTEND;TZID=Europe/Paris:20241213T220000
DTSTAMP:20260421T161005
CREATED:20230809T093100Z
LAST-MODIFIED:20241217T141340Z
UID:27980-1734120000-1734127200@consciousparis.com
SUMMARY:Harissa Connection  •  La tunisie ❤️  La soirée d'Asma Mhalla et de Pierre Haski
DESCRIPTION:Quand le gout de la conversation au 12\, rue de Normandie a des saveurs de Tunisie.. On aimerait aussi le retrouver sur un buffet. Time to celebrate ce beau pays !\nVenez passer un moment pour partager la Tunisie. Promis\, on vous dévoile bientôt notre buffet !\n  \nPout tout problème de réservation : \nTel. 06.37.48. 51. 54 \nE-mail. hjeudy@consciousparis.com \n 
URL:https://consciousparis.com/evenement/harissaconnection-tunisie/
LOCATION:Conscious\, 12 rue de Normandie\, Paris\, 75003
CATEGORIES:Arts & architecture,Géopolitique, histoire & enjeux sociétaux,Philosophie, littérature & psychologie,SOIRÉES
ORGANIZER;CN="Conscious Paris":MAILTO:info@consciousparis.com
END:VEVENT
BEGIN:VEVENT
DTSTART;TZID=Europe/Paris:20241217T193000
DTEND;TZID=Europe/Paris:20241217T203000
DTSTAMP:20260421T161005
CREATED:20240713T161655Z
LAST-MODIFIED:20241205T163757Z
UID:26909-1734463800-1734467400@consciousparis.com
SUMMARY:Les sérendipités de Vincent • Virginia Woolf
DESCRIPTION:Après Proust\, Vincent voudrait vous faire découvrir l’univers d’un autre géant littéraire du XX e siècle : Virginia Woolf (1882-1941). Après les jeunes filles en fleurs\, la femme libre\, émancipée\, qui rêve d’une « chambre à soi ». \nComme Proust\, Virginia Woolf dissèque l’univers qui l’entoure et le restitue par le « flux de conscience »\, flot de pensées et de sensations qui traverse l’esprit des personnages de ses romans.\nConsidéré comme le plus ludique de ses romans\, Orlando\, publié en 1928 et dédié à son amie de cœur Vita Sackville-West\, narre l’étrange histoire d’un personnage qui\, non seulement traverse les siècles\, mais aussi change de sexe\, et d’homme devient femme. \nCe roman incarne une réflexion sur l’émancipation féminine et sur la fluidité des genres\, préfigurant l’avant-garde queer.\nVincent vous propose de vous (re)plonger dans un voyage à travers le temps\, les continents et les genres\, que Virginia Woolf a pu saisir dans un texte incandescent\, le temps d’une heure de lecture d’extraits d’Orlando. \n  \nTexte :\n Traduction de Jean-Michel Déprats pour Bob Wilson (Actes Sud Papiers\, 1993)
URL:https://consciousparis.com/evenement/lecture-de-texte-virginia-woolf-par-vincent-figureau/
CATEGORIES:Philosophie, littérature & psychologie,SOIRÉES
ATTACH;FMTTYPE=image/webp:https://consciousparis.com/wp-content/uploads/2024/07/Virginia-Woolf-Consciousparis.webp
END:VEVENT
END:VCALENDAR