BEGIN:VCALENDAR
VERSION:2.0
PRODID:-//Conscious Paris - ECPv6.15.20//NONSGML v1.0//EN
CALSCALE:GREGORIAN
METHOD:PUBLISH
X-WR-CALNAME:Conscious Paris
X-ORIGINAL-URL:https://consciousparis.com
X-WR-CALDESC:Évènements pour Conscious Paris
REFRESH-INTERVAL;VALUE=DURATION:PT1H
X-Robots-Tag:noindex
X-PUBLISHED-TTL:PT1H
BEGIN:VTIMEZONE
TZID:Europe/Paris
BEGIN:DAYLIGHT
TZOFFSETFROM:+0100
TZOFFSETTO:+0200
TZNAME:CEST
DTSTART:20240331T010000
END:DAYLIGHT
BEGIN:STANDARD
TZOFFSETFROM:+0200
TZOFFSETTO:+0100
TZNAME:CET
DTSTART:20241027T010000
END:STANDARD
BEGIN:DAYLIGHT
TZOFFSETFROM:+0100
TZOFFSETTO:+0200
TZNAME:CEST
DTSTART:20250330T010000
END:DAYLIGHT
BEGIN:STANDARD
TZOFFSETFROM:+0200
TZOFFSETTO:+0100
TZNAME:CET
DTSTART:20251026T010000
END:STANDARD
BEGIN:DAYLIGHT
TZOFFSETFROM:+0100
TZOFFSETTO:+0200
TZNAME:CEST
DTSTART:20260329T010000
END:DAYLIGHT
BEGIN:STANDARD
TZOFFSETFROM:+0200
TZOFFSETTO:+0100
TZNAME:CET
DTSTART:20261025T010000
END:STANDARD
END:VTIMEZONE
BEGIN:VEVENT
DTSTART;TZID=Europe/Paris:20250402T193000
DTEND;TZID=Europe/Paris:20250402T203000
DTSTAMP:20260421T094224
CREATED:20230809T093100Z
LAST-MODIFIED:20250403T131810Z
UID:26691-1743622200-1743625800@consciousparis.com
SUMMARY:Voler au nom de la science — l’art sous le joug colonial • Avec Paul Bernard-Nouraud
DESCRIPTION:L’entreprise de colonisation que mena la France en particulier au cours des XIXe et XXe siècles s’est accompagnée d’une politique systématique de vol d’œuvres d’art ainsi que d’objets cultuels et culturels dans les pays conquis. La justification était alors non seulement militaire (le « droit de pillage ») mais scientifique (la « saisie scientifique »)\, et celle-ci ne semble pas avoir complètement disparu à l’heure où les demandes de restitution\, souvent anciennes\, font de nouveau l’actualité. De quelles œuvres parle-t-on ? Quels arguments soutiennent les demandes de restitution ou les refus qui leur sont opposés ? Quels sont les enjeux artistiques et non-artistiques que soulève cet héritage colonial aujourd’hui ? C’est à ces questions brûlantes qu’il s’agira\, dans cette conférence\, d’apporter des réponses patientes…\n  \nConférence animée par Paul Bernard-Nouraud \nPaul Bernard-Nouraud est historien d’art\, diplômé de l’EHESS et de l’Université Paris I\, et guide-conférencier national. Il est spécialisé dans l’histoire de la peinture et de la photographie. Pour Des Mots et des Arts\, il anime les cycles «Un tableau par le détail»\, «Musées du monde»\, «Une histoire technique de la peinture»\, « L’histoire de l’art par les gestes et les postures »\, ainsi que de nombreuses autres conférences thématiques. Il est par ailleurs membre du comité de rédaction de la revue Mémoires en jeu et collabore régulièrement au journal en ligne “En attendant Nadeau”. \n___________________________ \nCycle 1 : Une heure\, une oeuvre  \n\nMercredi 9 octobre – Gustave Caillebotte & les Raboteurs de parquets (autour de l’exposition Caillebotte à Orsay) – Conférence animée par Paul Bernard-Nouraud\nMercredi 13 novembre – Jackson Pollock & Rythme d’automne (autour de l’exposition Pollock au Musée Picasso) – Conférence animée par Paul Bernard-Nouraud\nMercredi 27 novembre – Vincent van Gogh & La Chambre de Vincent (autour de l’exposition « L’intime » au MAD) – Conférence animée par Paul Bernard-Nouraud\nMercredi 11 décembre – Diego de Velázquez & Les Ménines (autour de l’exposition « figures de fou » au Louvre) – Conférence animée par Paul Bernard-Nouraud\nMercredi 12 février – Giuseppe Penone & Essere Vento (autour de l’exposition Arte Povera à la Bourse de Commerce) – Conférence animée Morgane Evrard\n\nCycle 2 : Les tribulations de l’art dans l’histoire\, oeuvres volées\, spoliées & restituées  \n\nMercredi 19 mars – L’art à l’heure française. Quand la Révolution s’empare des chefs-d’œuvre européens – Conférence animée par Paul Bernard-Nouraud\nMercredi 2 avril – Voler au nom de la science. L’art sous le joug colonial – Conférence animée par Paul Bernard-Nouraud\nMercredi 30 avril – L’art dans la tourmente de la Seconde Guerre mondiale. Des spoliations aux restitutions – Conférence animée par Paul Bernard-Nouraud\nMercredi 7 mai – Le vol d’œuvres d’art\, à qui profite le crime ? –  Conférence animée par Clémentine Hébrard\nMercredi 21 mai – La restitution face à la loi : Le cas d’école Pissarro – Conférence animée par Clémentine Hébrard
URL:https://consciousparis.com/evenement/joug-colonial-histoire-art/
LOCATION:Conscious\, 12 rue de Normandie\, Paris\, 75003
CATEGORIES:Arts & architecture,SOIRÉES
ORGANIZER;CN="Conscious Paris":MAILTO:info@consciousparis.com
END:VEVENT
BEGIN:VEVENT
DTSTART;TZID=Europe/Paris:20250403T193000
DTEND;TZID=Europe/Paris:20250403T203000
DTSTAMP:20260421T094224
CREATED:20250227T181414Z
LAST-MODIFIED:20250401T151256Z
UID:29685-1743708600-1743712200@consciousparis.com
SUMMARY:Une fièvre américaine : choisir les juges de la Cour suprême — Le Club Neastoria invite Julien Jeanneney
DESCRIPTION:Julien Jeanneney nous présentera son dernier ouvrage: Une fièvre américaine. Choisir les juges de la Cour suprême (XVIIIème – XXIème siècle) (CNRS Editions). \nDans cet essai rigoureusement documenté\, Julien Jeanneney explore l’histoire et les enjeux contemporains du processus de nomination des juges à la Cour suprême des États-Unis. À travers une analyse historique et politique\, il met en lumière les tensions idéologiques et institutionnelles qui entourent cette procédure cruciale pour l’équilibre des pouvoirs aux États-Unis. Comment les nominations ont-elles évolué au fil des siècles ? Quelles conséquences pour la démocratie américaine ? Cet ouvrage apporte un éclairage précieux sur une question brûlante de l’actualité politique et juridique. \nJulien Jeanneney \nAncien élève de l’Ecole normale supérieure\, titulaire d’un master en droit public et en philosophie\, docteur en droit de l’Université Panthéon-Sorbonne\, agrégé de droit public\, Julien Jeanneney a été chercheur invité à la faculté de droit de l’Université de Yale et maître de conférences à l’Université Panthéon-Sorbonne.
URL:https://consciousparis.com/evenement/une-fievre-americaine-choisir-les-juges-de-la-cour-supreme-le-club-neastoria-invite-julien-jeanneney/
LOCATION:12 rue de Normandie
CATEGORIES:Géopolitique, histoire & enjeux sociétaux,SOIRÉES
END:VEVENT
BEGIN:VEVENT
DTSTART;TZID=Europe/Paris:20250408T193000
DTEND;TZID=Europe/Paris:20250408T203000
DTSTAMP:20260421T094224
CREATED:20240713T140109Z
LAST-MODIFIED:20250411T120225Z
UID:29678-1744140600-1744144200@consciousparis.com
SUMMARY:Les visages de l'humanisme • Contre la radicalité\, l'audace de la nuance  — Elgas invite Jean Birnbaum
DESCRIPTION:Dans une époque marquée par les crispations et la radicalité des discours\, Jean Birnbaum plaide pour une autre voie : celle de la nuance\, du doute fertile et du courage intellectuel face aux injonctions du simplisme. \nÀ travers ce débat\, animé et enrichi par la pensée d’Elgas\, écrivain et essayiste\, nous interrogerons ensemble la place de la nuance dans l’espace public et le rôle qu’elle joue dans nos engagements personnels et collectifs. \nComment défendre la complexité sans céder à l’indifférence ? \nLa nuance est-elle une force ou une faiblesse dans nos débats contemporains ? \nAutant de questions qui nourriront cette discussion stimulante. \n\n\n\n\n\nJean Birnbaum\n\n\nJean Birnbaum dirige depuis 2011 Le Monde des livres\, supplément hebdomadaire du journal Le Monde. \nIl est l’auteur de plusieurs essais\, dont deux sont consacrés à la transmission politique entre les générations : Leur jeunesse et la nôtre : l’espérance révolutionnaire au fil des générations\, qui étudie le milieu troskiste et Les Maoccidents : un néoconservatisme à la française\, qui porte sur l’évolution d’anciens militants maoïstes vers diverses formes de néoconservatisme. Il a également réalisé le dernier entretien avec le philosophe Jacques Derrida\, Apprendre à vivre enfin\, publié en 2005. En 2016\, il publie Un silence religieux. La gauche face au djihadisme dans lequel il dénonce l’attitude d’une partie de la gauche vis-à-vis du terrorisme islamiste. Il souligne notamment l’absence de réflexion de la gauche sur le religieux\, qui lui ôte la possibilité de comprendre le djihadisme d’organisations comme l’ État islamique\, et son refus de nommer l’adversaire tout en continuant à expliquer le terrorisme « par la misère sociale ». \nEn 2021\, il publie Le Courage de la nuance\, un essai visant à réhabiliter la nuance dans le débat politique. En 2023\, il publie Seuls les enfants changent le monde\, une réflexion personnelle et politique sur l’enfance\, qui obtient le prix Étudiant du Livre politique – LCP \n\n\n\n\n\n\nElgas \n\n\n\nChercheur associé à l’IRIS\, journaliste et écrivain\, Elgas anime l’émission Afrique\, mémoires d’un continent sur RFI. Diplômé de communication et de sciences politiques\, il s’évertue à décrire l’Afrique sans fards et sans complaisance dans ses ouvrages. En 2023\, il publie “Les bons ressentiments\, essai sur le malaise post-colonial. (Editions Riveneuve). \n\n\n\n\nN.B — L’inscription est fortement conseillé en raison du nombre limité de places\n\n\n\n\n  \n\n\n\n\n\n 
URL:https://consciousparis.com/evenement/elgas-invite-jean-birnbaum-4-3-2-2/
LOCATION:Conscious\, 12 rue de Normandie\, Paris\, 75003
CATEGORIES:Géopolitique, histoire & enjeux sociétaux,Philosophie, littérature & psychologie,SOIRÉES
ATTACH;FMTTYPE=image/png:https://consciousparis.com/wp-content/uploads/2024/07/birnbaum-elgas-8avril.png
ORGANIZER;CN="Conscious Paris":MAILTO:info@consciousparis.com
END:VEVENT
BEGIN:VEVENT
DTSTART;TZID=Europe/Paris:20250410T200000
DTEND;TZID=Europe/Paris:20250410T210000
DTSTAMP:20260421T094224
CREATED:20250308T124257Z
LAST-MODIFIED:20250405T124907Z
UID:29778-1744315200-1744318800@consciousparis.com
SUMMARY:Concert • Rob Miles avec Alice Gauthier & Solene Doually
DESCRIPTION:Rob Miles est un artiste visuel et auteur-compositeur qui a grandi à Brighton\, au Royaume-Uni. Installé à Paris en 2015\, il a formé le groupe Les Clés Anglaises\, avec lequel il a interprété ses chansons avec une énergie et un style unique\, mêlant des influences issues de son amour pour le blues et le gospel\, la country\, la soul et le rock & roll. Le groupe s’est produit régulièrement dans la capitale et a réalisé plusieurs enregistrements\, dont un EP (These Are The Days – 2020) et un album (I Don’t Know – 2023). Aujourd’hui\, il se consacre principalement à ses projets artistiques visuels\, tout en étant en phase de recherche pour son nouveau projet musical en solo\, Le Petit Robert.\n\nPour ce concert chez Conscious\, il interprétera une sélection de son répertoire solo ainsi que des chansons du projet Les Clés Anglaises\, accompagné d’Alice Gauthier à la clarinette et de Solène Doually aux harmonies vocales et à la scie musicale.
URL:https://consciousparis.com/evenement/concert-rob-miles-les-cles-anglaises/
LOCATION:Conscious\, 12 rue de Normandie\, Paris\, 75003
CATEGORIES:Arts & architecture,SOIRÉES
ATTACH;FMTTYPE=image/jpeg:https://consciousparis.com/wp-content/uploads/2025/03/Rob-Miles-conscious-poster-image-for-website-scaled.jpg
END:VEVENT
BEGIN:VEVENT
DTSTART;TZID=Europe/Paris:20250422T193000
DTEND;TZID=Europe/Paris:20250422T203000
DTSTAMP:20260421T094224
CREATED:20240713T161655Z
LAST-MODIFIED:20250429T103402Z
UID:29384-1745350200-1745353800@consciousparis.com
SUMMARY:Les sérendipités de Vincent • Rainer Maria Rilke
DESCRIPTION:Une soirée lecture proposée par Vincent Figureau\, avec la participation musicale d’Adam Argoubi et Maud Sartre\, violoncellistes \nRainer Maria Rilke (1875-1926)\, écrivain et poète autrichien\, est l’auteur d’une œuvre singulière et raffinée. Qu’elle soit en prose ou poétique\, cette œuvre relève de l’engagement absolu\, s’attachant à dire l’insaisissable\, faisant de l’écriture un acte sacré\, livrant une parole prophétique\, une lumière sur la vie et la mort. \n____ \n“A l’occasion du 150e anniversaire de la naissance de Rilke\, il m’a paru intéressant de donner à sentir les différentes facettes de ce grand styliste\, comme les Élégies de Duino\, les Sonnets à Orphée\, ou les Cahiers de Malte Laurids Brigge. \nOn lira aussi des extraits des Lettres à un jeune poète\, dont l’une des grandes leçons est de plonger en soi-même\, chercher une certaine solitude\, pour entendre. Entendre quoi ? Cette mélodie des choses à laquelle l’artiste tente de contribuer. \nCette soirée poétique sera aussi musicale : les deux violoncellistes\, Adam Argoubi et Maud Sartre\, interpréteront des œuvres de leur choix\, faisant vibrer les sons cachés des mots de Rilke.” \nVincent \n  \nÀ suivre \n\nMardi 27 mai : Les mémoires de l’Abbé de Choisy habillé en femme\nMercredi 9 Juillet : Sido de Colette\nMercredi 8 Octobre : Rilke\, Proust\nJeudi 23 octobre : Orlando\, Virginia Woolf\nJeudi 13 novembre : Thomas l’imposteur de Jean Cocteau\nJeudi 11 décembre : Soirée poésie “un voyage d’hiver” avec Jean-Miguel Pire
URL:https://consciousparis.com/evenement/lecture-de-texte-rilke-vincent-figureau-2-2/
LOCATION:12 rue de Normandie
CATEGORIES:Philosophie, littérature & psychologie,SOIRÉES
ATTACH;FMTTYPE=image/png:https://consciousparis.com/wp-content/uploads/2024/07/rilke-lecture-textes-consciousparis.png
ORGANIZER;CN="Conscious Paris":MAILTO:info@consciousparis.com
END:VEVENT
BEGIN:VEVENT
DTSTART;TZID=Europe/Paris:20250430T193000
DTEND;TZID=Europe/Paris:20250430T203000
DTSTAMP:20260421T094224
CREATED:20230809T093100Z
LAST-MODIFIED:20250502T102817Z
UID:26695-1746041400-1746045000@consciousparis.com
SUMMARY:Des spoliations aux restitutions • Avec Paul Bernard-Nouraud
DESCRIPTION:L’époque de l’Occupation nazie de la France est restée dans les annales du marché de l’art comme une période faste. L’une des raisons tient à la situation économique de nombreux collectionneurs\, contraints de vendre pour subvenir à leurs besoins\, mais on se souvient davantage des spoliations dont les collectionneurs juifs furent les victimes systématiques.L’avidité fut certainement le principal ressort de ces « vols légaux »\, comme les a qualifiés a posteriori le juriste Gérard Lyon-Caen\, mais ceux-ci prenaient place dans un système plus large\, lié d’un côté au programme génocidaire nazi\, de l’autre à la vision de l’art qu’avaient développée et mis en pratique les idéologues du régime. Mesurer l’étendue des spoliations\, comprendre leurs ressorts économiques et idéologiques\, appréhender l’importance des restitutions\, voici quelques-uns des enjeux que cette conférence cherchera à analyser et à expliquer.\nConférence animée par Paul Bernard-Nouraud\nPaul Bernard-Nouraud est historien d’art\, diplômé de l’EHESS et de l’Université Paris I\, et guide-conférencier national. Il est spécialisé dans l’histoire de la peinture et de la photographie. Pour Des Mots et des Arts\, il anime les cycles « Un tableau par le détail »\, « Musées du monde »\, « Une histoire technique de la peinture »\, « L’histoire de l’art par les gestes et les postures »\, ainsi que de nombreuses autres conférences thématiques. Il est par ailleurs membre du comité de rédaction de la revue Mémoires en jeu et collabore régulièrement au journal en ligne “En attendant Nadeau.” \n___________________________ \nSéances \nCycle 1 : Une heure\, une oeuvre \n\nMercredi 9 octobre – Gustave Caillebotte & les Raboteurs de parquets (autour de l’expo Caillebotte à Orsay) – Conférence animée par Paul Bernard-Nouraud\nMercredi 13 novembre – Jackson Pollock & Rythme d’automne (autour de l’expo Pollock au Musée Picasso) – Conférence animée par Paul Bernard-Nouraud\nMercredi 27 novembre – Vincent van Gogh & La Chambre de Vincent (autour de l’expo « L’intime » au MAD) – Conférence animée par Paul Bernard-Nouraud\nMercredi 11 décembre – Diego de Velázquez & Les Ménines (autour de l’expo « figures de fou » au Louvre) – Conférence animée par Paul Bernard-Nouraud\nMercredi 23 janvier – Matisse & (œuvre à venir) (autour de l’exposition Henri Matisse\, la peinture sans limites 1941-1954 à Pompidou) – Conférence animée par Morgane Evrard\nMercredi 12 février – Giuseppe Penone & (œuvre à venir) (autour de l’exposition Arte Povera à la Bourse de Commerce) – Conférence animée Morgane Evrard\n\nCycle 2 : Les tribulations de l’art dans l’histoire\, oeuvres volées\, spoliées & restituées \n\nMercredi 19 mars – L’art à l’heure française. Quand la Révolution s’empare des chefs-d’œuvre européens – Conférence animée par Paul Bernard-Nouraud\nMercredi 2 avril – Voler au nom de la science. L’art sous le joug colonial – Conférence animée par Paul Bernard-Nouraud\nMercredi 30 avril – L’art dans la tourmente de la Seconde Guerre mondiale. Des spoliations aux restitutions – Conférence animée par Paul Bernard-Nouraud\nMercredi 7 mai – Le vol d’œuvres d’art\, à qui profite le crime ? –  Conférence animée par Clémentine Hébrard\nMercredi 21 mai – La restitution face à la loi : Le cas d’école Pissarro – Conférence animée par Clémentine Hébrard
URL:https://consciousparis.com/evenement/art-contemporain-i-lart-contemporain-est-il-en-train-de-redefinir-les-genres-2-2-2/
LOCATION:Conscious\, 12 rue de Normandie\, Paris\, 75003
CATEGORIES:Arts & architecture,SOIRÉES
ORGANIZER;CN="Conscious Paris":MAILTO:info@consciousparis.com
END:VEVENT
END:VCALENDAR