BEGIN:VCALENDAR
VERSION:2.0
PRODID:-//Conscious Paris - ECPv6.15.20//NONSGML v1.0//EN
CALSCALE:GREGORIAN
METHOD:PUBLISH
X-WR-CALNAME:Conscious Paris
X-ORIGINAL-URL:https://consciousparis.com
X-WR-CALDESC:Évènements pour Conscious Paris
REFRESH-INTERVAL;VALUE=DURATION:PT1H
X-Robots-Tag:noindex
X-PUBLISHED-TTL:PT1H
BEGIN:VTIMEZONE
TZID:Europe/Paris
BEGIN:DAYLIGHT
TZOFFSETFROM:+0100
TZOFFSETTO:+0200
TZNAME:CEST
DTSTART:20240331T010000
END:DAYLIGHT
BEGIN:STANDARD
TZOFFSETFROM:+0200
TZOFFSETTO:+0100
TZNAME:CET
DTSTART:20241027T010000
END:STANDARD
BEGIN:DAYLIGHT
TZOFFSETFROM:+0100
TZOFFSETTO:+0200
TZNAME:CEST
DTSTART:20250330T010000
END:DAYLIGHT
BEGIN:STANDARD
TZOFFSETFROM:+0200
TZOFFSETTO:+0100
TZNAME:CET
DTSTART:20251026T010000
END:STANDARD
BEGIN:DAYLIGHT
TZOFFSETFROM:+0100
TZOFFSETTO:+0200
TZNAME:CEST
DTSTART:20260329T010000
END:DAYLIGHT
BEGIN:STANDARD
TZOFFSETFROM:+0200
TZOFFSETTO:+0100
TZNAME:CET
DTSTART:20261025T010000
END:STANDARD
END:VTIMEZONE
BEGIN:VEVENT
DTSTART;TZID=Europe/Paris:20250507T193000
DTEND;TZID=Europe/Paris:20250507T203000
DTSTAMP:20260421T080113
CREATED:20230809T093100Z
LAST-MODIFIED:20250509T171309Z
UID:26699-1746646200-1746649800@consciousparis.com
SUMMARY:Le vol d’œuvres d’art\, à qui profite le crime ? • Avec Clémentine Hebrard
DESCRIPTION:Ressortir d’un musée avec un tableau roulé sous le bras : vous avez peut-être imaginé un instant emporter pour votre délectation personnelle quelque Goya\, ou ce charmant Corot peut-être ? Si seulement les musées n’étaient pas ces forteresses imprenables…\nImprenables\, dites-vous ? Pas pour tout le monde ! En tout cas\, pas pour Vincenzo Perruggia\, le voleur patriote de la Joconde\, ni pour Patrick Vialaneix\, le voleur amoureux de Rembrandt\, sur les traces de qui nous nous lancerons à l’occasion de cette conférence.\nConférence animée par Clémentine Hébrard\n___________________________ \nSéances  \nCycle 1 : Une heure\, une oeuvre  \n\nMercredi 9 octobre – Gustave Caillebotte & les Raboteurs de parquets (autour de l’expo Caillebotte à Orsay) – Conférence animée par Paul Bernard-Nouraud\nMercredi 13 novembre – Jackson Pollock & Rythme d’automne (autour de l’expo Pollock au Musée Picasso) – Conférence animée par Paul Bernard-Nouraud\nMercredi 27 novembre – Vincent van Gogh & La Chambre de Vincent (autour de l’expo « L’intime » au MAD) – Conférence animée par Paul Bernard-Nouraud\nMercredi 11 décembre – Diego de Velázquez & Les Ménines (autour de l’expo « figures de fou » au Louvre) – Conférence animée par Paul Bernard-Nouraud\nMercredi 12 février – Giuseppe Penone & Essere Vento (autour de l’exposition Arte Povera à la Bourse de Commerce) – Conférence animée Morgane Evrard\n\nCycle 2 : Les tribulations de l’art dans l’histoire\, oeuvres volées\, spoliées & restituées  \n\nMercredi 19 mars – L’art à l’heure française. Quand la Révolution s’empare des chefs-d’œuvre européens – Conférence animée par Paul Bernard-Nouraud\nMercredi 2 avril – Voler au nom de la science. L’art sous le joug colonial – Conférence animée par Paul Bernard-Nouraud\nMercredi 30 avril – L’art dans la tourmente de la Seconde Guerre mondiale. Des spoliations aux restitutions – Conférence animée par Paul Bernard-Nouraud\nMercredi 7 mai – Le vol d’œuvres d’art\, à qui profite le crime ? –  Conférence animée par Clémentine Hébrard\nMercredi 21 mai – La restitution face à la loi : Le cas d’école Pissarro – Conférence animée par Clémentine Hébrard
URL:https://consciousparis.com/evenement/art-contemporain-i-lart-contemporain-est-il-en-train-de-redefinir-les-genres-2-2-2-2/
LOCATION:Conscious\, 12 rue de Normandie\, Paris\, 75003
CATEGORIES:Arts & architecture,SOIRÉES
ORGANIZER;CN="Conscious Paris":MAILTO:info@consciousparis.com
END:VEVENT
BEGIN:VEVENT
DTSTART;TZID=Europe/Paris:20250514T193000
DTEND;TZID=Europe/Paris:20250514T203000
DTSTAMP:20260421T080113
CREATED:20250307T174623Z
LAST-MODIFIED:20250430T153249Z
UID:29754-1747251000-1747254600@consciousparis.com
SUMMARY:Le cinéma - temoin de son temps ? Avec Roland Caffin
DESCRIPTION:À travers les époques\, le septième art a su capter l’air du temps\, interroger notre rapport au monde et refléter les évolutions sociales\, culturelles et politiques. Des films engagés aux grandes fresques historiques\, en passant par le cinéma d’auteur et les blockbusters\, chaque œuvre porte en elle une empreinte de son époque. \nPour explorer cette question fascinante\, Roland Caffin nous invite à une réflexion sur le rôle du cinéma comme témoin\, voire acteur\, des transformations du monde. Comment les cinéastes traduisent-ils les préoccupations de leur temps à l’écran ? En quoi le cinéma façonne-t-il notre perception de l’histoire et de la société ? \nUne conférence captivante qui s’adresse aux cinéphiles\, aux curieux et à tous ceux qui perçoivent le cinéma comme bien plus qu’un simple divertissement. \nRoland Caffin  \nRoland CAFFIN a été très jeune passionné de cinéma et\, dès la fin des années 50\, été un lecteur très attentif de l’hebdomadaire « Arts » . Il y a découvert les signatures de François Truffaut\, Claude Chabrol\, Jean Luc Godard et bien d’autres. Cela l’a évidemment amené aux « Cahiers du Cinéma » dont il a patiemment reconstitué la collection complète. André Bazin a été son guide dans sa découverte et l’approfondissement du cinéma . Tout cela s’accompagnait évidemment d’une fréquentation plus qu’assidue de la Cinémathèque et des nombreux cinémas d’Art e t d’Essai qui existaient encore à Paris à cette époque. Plus tard il a pu utiliser ses connaissances pour se diriger vers l’animation de ciné clubs \, essentiellement en milieu scolaire . Dans l’un des lycées dans lequel il intervenait \,constatant l’ignorance à peu près complète des élèves concernant le cinéma il a commencé à rédiger des fiches sommaires pour leur donner un aperçu de ce qu’était l’histoire de cetart. Et à partir de là l’idée lui est venue d’approfondir ce travail . Il en est résulté un livre en 2015« Histoire du Cinéma Mondial 1895-2015 ». Devant l’intérêt que ce livre a suscité une seconde édition augmentée est parue en 2020.
URL:https://consciousparis.com/evenement/le-cinema-temoin-de-son-temps-avec-roland-caffin/
LOCATION:Conscious\, 12 rue de Normandie\, Paris\, 75003
CATEGORIES:Arts & architecture,Philosophie, littérature & psychologie,SOIRÉES
END:VEVENT
BEGIN:VEVENT
DTSTART;TZID=Europe/Paris:20250516T193000
DTEND;TZID=Europe/Paris:20250516T203000
DTSTAMP:20260421T080113
CREATED:20250430T150657Z
LAST-MODIFIED:20250513T154701Z
UID:30397-1747423800-1747427400@consciousparis.com
SUMMARY:De Guizot à ChatGPT : où en est la politique de l’esprit ? Jacques de Saint Victor invite Jean-Miguel Pire
DESCRIPTION:Dans les années 1830\, la monarchie de Juillet engage un vaste mouvement de réformes en faveur de l’éducation\, des arts\, du patrimoine et des sciences. À l’origine de cette impulsion\, François Guizot pose les fondements d’une vision inédite de l’action publique\, où le savoir\, la culture et la raison deviennent les piliers d’un progrès démocratique. Cette orientation\, que Paul Valéry nommera plus tard « la politique de l’esprit »\, érige la connaissance en levier d’émancipation individuelle et de prospérité collective. \nDeux siècles plus tard\, alors que les outils numériques saturent notre attention et que l’intelligence artificielle transforme en profondeur notre rapport au réel\, une question cruciale se pose : avons-nous abandonné cette politique de l’esprit ? La culture\, la science\, l’éducation restent-elles au cœur de notre ambition collective\, ou sont-elles reléguées au rang d’accessoires face aux logiques de marché et d’instantanéité ? \nÀ travers l’ouvrage de Jean Miguel Pire ‘Guizot\, la politique de l’esprit’\, cette conférence propose de revenir aux origines de cette politique humaniste du savoir pour mieux interroger notre présent. \nEn confrontant le projet intellectuel de Guizot aux défis soulevés par les technologies contemporaines – de la désinformation à la délégation du jugement humain à l’IA –\, il s’agira de réfléchir à ce que signifie\, aujourd’hui\, penser en citoyens libres.  \nCar si la démocratie repose sur une intelligence partagée\, quelle place voulons-nous accorder encore à l’effort de connaissance\, à la vérité\, à l’esprit critique ? \n  \nÀ propos de l’auteur  \nJean-Miguel Pire est historien\, sociologue\, chercheur à l’École Pratique des Hautes Études. Il a notamment publié Otium. Art\, éducation\, démocratie (Actes Sud\, 2020) et Musée indiscipliné. Enjeux républicains de la transmission artistique (Mare & Martin\, 2018). Il dirige la collection “Politique culturelle et République” chez Mare & Martin. \nA propos du spécialiste \nJacques de Saint Victor est historien du droit et des idées politiques. Il enseigne à Sorbonne Paris Nord. Auteur de nombreux ouvrages\, notamment sur la pensée libérale\, la crise de la démocratie et le populisme\, les systèmes de droit et la criminalité organisée\, ses recherches portent aussi sur l’histoire juridique de la mondialisation. Il a récemment publié le roman “Les loups de Tanger” (Calmann-Lévy) sur l’histoire de la French Connection.
URL:https://consciousparis.com/evenement/de-guizot-a-chatgpt-ou-en-est-la-politique-de-lesprit-jacques-de-saint-victor-invite-jean-miguel-pire-avec-la-participation-de-dominique-reynie/
LOCATION:12 rue de Normandie
CATEGORIES:Philosophie, littérature & psychologie,SOIRÉES
ORGANIZER;CN="Conscious Paris":MAILTO:info@consciousparis.com
END:VEVENT
BEGIN:VEVENT
DTSTART;TZID=Europe/Paris:20250521T193000
DTEND;TZID=Europe/Paris:20250521T203000
DTSTAMP:20260421T080113
CREATED:20230809T093100Z
LAST-MODIFIED:20241221T124959Z
UID:26703-1747855800-1747859400@consciousparis.com
SUMMARY:La restitution face à la loi : Le cas d’école Pissarro • Avec Clémentine Hébrard
DESCRIPTION:Les œuvres d’art sont souvent les témoins\, et parfois les victimes\, des tourmentes de l’Histoire. Le pillage culturel de masse perpétré pendant l’Occupation\, et la survie des œuvres à la disparition de leurs propriétaires\, victimes des persécutions nazies\, soulèvent de nombreuses et douloureuses questions\, tant éthiques que juridiques. Nous tenterons de les saisir à partir de l’affaire de la Cueillette des Pois de Pissarro.\nConférence animée par Clémentine Hébrard\n___________________________ \nDates et horaires  \nSoirée d’introduction  \n& Histoire de la  Biennale de Venise \nMercredi 25 septembre à 19h30 \nPour célébrer et présenter les prochaines soirées\, rendez-vous le mercredi 25 septembre en compagnie de Paul Bernard-Nouraud et toute notre équipe. Focus sur l’histoire de la Biennale de Venise et moment convivial autour d’un Moscato d’Asti.. \nCycle 1 : Une heure\, une oeuvre  \n\nMercredi 9 octobre – Gustave Caillebotte & les Raboteurs de parquets (exposition Caillebotte au Musée d’Orsay) – Conférence animée par Paul Bernard-Nouraud\nMercredi 13 novembre – Jackson Pollock & Rythme d’automne (exposition Pollock au Musée Picasso) – Conférence animée par Paul Bernard-Nouraud\nMercredi 27 novembre – Vincent van Gogh & La Chambre de Vincent (exposition « L’intime » au MAD) – Conférence animée par Paul Bernard-Nouraud\nMercredi 11 décembre – Diego de Velázquez & Les Ménines (exposition « figures de fou » au Louvre) – Conférence animée par Paul Bernard-Nouraud\nMercredi 12 février – Giuseppe Penone & Essere Vento (exposition Arte Povera à la Bourse de Commerce) – Conférence animée Morgane Evrard\n\nCycle 2 : Les tribulations de l’art dans l’histoire\, oeuvres volées\, spoliées & restituées  \n\nMercredi 19 mars – L’art à l’heure française. Quand la Révolution s’empare des chefs-d’œuvre européens – Conférence animée par Paul Bernard-Nouraud\nMercredi 2 avril – Voler au nom de la science. L’art sous le joug colonial – Conférence animée par Paul Bernard-Nouraud\nMercredi 30 avril – L’art dans la tourmente de la Seconde Guerre mondiale. Des spoliations aux restitutions – Conférence animée par Paul Bernard-Nouraud\nMercredi 7 mai – Le vol d’œuvres d’art\, à qui profite le crime ? –  Conférence animée par Clémentine Hébrard\nMercredi 21 mai – La restitution face à la loi : Le cas d’école Pissarro – Conférence animée par Clémentine Hébrard
URL:https://consciousparis.com/evenement/pissarro/
LOCATION:Conscious\, 12 rue de Normandie\, Paris\, 75003
CATEGORIES:Arts & architecture,SOIRÉES
ORGANIZER;CN="Conscious Paris":MAILTO:info@consciousparis.com
END:VEVENT
BEGIN:VEVENT
DTSTART;TZID=Europe/Paris:20250527T193000
DTEND;TZID=Europe/Paris:20250527T203000
DTSTAMP:20260421T080113
CREATED:20240713T161655Z
LAST-MODIFIED:20250411T115925Z
UID:29393-1748374200-1748377800@consciousparis.com
SUMMARY:Les sérendipités de Vincent • Les mémoires de l’Abbé de Choisy habillé en femme
DESCRIPTION:Une soirée lecture proposée par Vincent Figureau \nÉtrange personnage que François-Timoléon de Choisy (1644-1724) : Ecclésiastique\, agent secret\, devenu académicien\, joueur et libertin\, il pouvait se vanter\, à la fin de sa longue existence\, d’avoir connu « trois ou quatre vies différentes ». \nElevé dans l’entourage de Philippe d’Orléans\, frère de Louis XIV\, il est habillé en fille par sa mère et ne renonce pas à cette fantaisie à l’âge adulte. Devenu Abbé de cour\, il se fait appeler Madame de Sancy\, se parant de splendides robes\, de diamants et de mouches pour séduire des jeunes filles délurées qu’il habille en garçons\, et menant joyeuse vie\, sans jamais encourir les foudres royales. \nAprès une grave maladie\, Choisy se retire aux Missions étrangères\, mais il est envoyé par Louis XIV pour accompagner la fastueuse ambassade auprès de l’empereur du Siam\, où il se fait ordonner prêtre. Le succès de son journal de voyage aux Indes lui ouvre la carrière littéraire : dans son cabinet\, toujours habillé en femme\, il écrit des ouvrages historiques et édifiants\, notamment une gigantesque histoire de l’Eglise. Doyen de l’Académie française\, il écrit ses mémoires sans tabous au soir de sa vie. \nCe sont ces Mémoires de l’abbé de Choisy habillé en femme\, texte « queer Grand Siècle » que Vincent lira le mardi 27 mai 2025 à 19h30 au 12 rue de Normandie. \nÀ suivre \n\nMercredi 9 Juillet : Sido de Colette\nMercredi 8 Octobre : Rilke\, Proust\nJeudi 23 octobre : Orlando\, Virginia Woolf\nJeudi 13 novembre : Thomas l’imposteur de Jean Cocteau\nJeudi 11 décembre : Soirée poésie “un voyage d’hiver” avec Jean-Miguel Pire
URL:https://consciousparis.com/evenement/lecture-de-texte-abbedechoisy-2-2-2/
LOCATION:12 rue de Normandie
CATEGORIES:Philosophie, littérature & psychologie,SOIRÉES
ATTACH;FMTTYPE=image/png:https://consciousparis.com/wp-content/uploads/2024/07/abbechoisy_consciousparis.png
ORGANIZER;CN="Conscious Paris":MAILTO:info@consciousparis.com
END:VEVENT
BEGIN:VEVENT
DTSTART;TZID=Europe/Paris:20250528T193000
DTEND;TZID=Europe/Paris:20250528T203000
DTSTAMP:20260421T080113
CREATED:20250320T120920Z
LAST-MODIFIED:20250515T132107Z
UID:30059-1748460600-1748464200@consciousparis.com
SUMMARY:Géopolitique • Un siècle décolonial — L'énergie des pères fondateurs et regain des héritiers ?  •  Avec Pierre Haski et Elgas
DESCRIPTION:Elgas dialoguera avec Pierre Haski sur l’histoire des décolonisations africaines et leurs résonances actuelles. \nUn siècle après les premiers mouvements anticoloniaux structurés et plus de soixante ans après les indépendances africaines\, la question décoloniale n’a rien perdu de sa vigueur — bien au contraire. Le passé colonial continue de hanter les relations entre États\, les imaginaires culturels\, et les consciences collectives. Mais si l’énergie des pères fondateurs portait un souffle d’émancipation politique\, que nous dit aujourd’hui le « regain » des héritiers ? \nCette conférence propose un dialogue fécond entre deux voix critiques — l’une issue de la littérature et de la pensée africaine contemporaine\, l’autre du journalisme international — pour interroger le sens\, la portée\, et les tensions du projet décolonial au XXIe siècle. \n___\nPierre Haski est éditorialiste géopolitique de la matinale de France Inter et chroniqueur au Nouvel Obs\, ancien correspondant de l’AFP puis de Libération sur trois continents\, président de Reporters sans Frontières\, Pierre Haski travaille à rendre intelligible la complexité du monde. \nElgas est chercheur associé à l’IRIS\, journaliste et écrivain\, il anime l’émission Afrique\, mémoires d’un continent sur RFI. Diplômé de communication et de sciences politiques\, il s’évertue à décrire l’Afrique sans fards et sans complaisance dans ses ouvrages. \nEn 2023\, il publie Les bons ressentiments\, essai sur le malaise post-colonial (Editions Riveneuve). \nEn 2024-2025\, il anime pour Conscious un cycle de conférences intitulé “Les visages de l’Humanisme”
URL:https://consciousparis.com/evenement/decolonisations-africaines-avec-pierre-haski-elgas/
LOCATION:12 rue de Normandie
CATEGORIES:Géopolitique, histoire & enjeux sociétaux,SOIRÉES
ORGANIZER;CN="Conscious Paris":MAILTO:info@consciousparis.com
END:VEVENT
END:VCALENDAR