BEGIN:VCALENDAR
VERSION:2.0
PRODID:-//Conscious Paris - ECPv6.15.20//NONSGML v1.0//EN
CALSCALE:GREGORIAN
METHOD:PUBLISH
X-WR-CALNAME:Conscious Paris
X-ORIGINAL-URL:https://consciousparis.com
X-WR-CALDESC:Évènements pour Conscious Paris
REFRESH-INTERVAL;VALUE=DURATION:PT1H
X-Robots-Tag:noindex
X-PUBLISHED-TTL:PT1H
BEGIN:VTIMEZONE
TZID:Europe/Paris
BEGIN:DAYLIGHT
TZOFFSETFROM:+0100
TZOFFSETTO:+0200
TZNAME:CEST
DTSTART:20240331T010000
END:DAYLIGHT
BEGIN:STANDARD
TZOFFSETFROM:+0200
TZOFFSETTO:+0100
TZNAME:CET
DTSTART:20241027T010000
END:STANDARD
BEGIN:DAYLIGHT
TZOFFSETFROM:+0100
TZOFFSETTO:+0200
TZNAME:CEST
DTSTART:20250330T010000
END:DAYLIGHT
BEGIN:STANDARD
TZOFFSETFROM:+0200
TZOFFSETTO:+0100
TZNAME:CET
DTSTART:20251026T010000
END:STANDARD
BEGIN:DAYLIGHT
TZOFFSETFROM:+0100
TZOFFSETTO:+0200
TZNAME:CEST
DTSTART:20260329T010000
END:DAYLIGHT
BEGIN:STANDARD
TZOFFSETFROM:+0200
TZOFFSETTO:+0100
TZNAME:CET
DTSTART:20261025T010000
END:STANDARD
END:VTIMEZONE
BEGIN:VEVENT
DTSTART;TZID=Europe/Paris:20250603T193000
DTEND;TZID=Europe/Paris:20250603T203000
DTSTAMP:20260421T061534
CREATED:20250401T151111Z
LAST-MODIFIED:20250606T102035Z
UID:30176-1748979000-1748982600@consciousparis.com
SUMMARY:Si Rome n'avait pas chuté ? — Le Club Neastoria invite Raphaël Doan
DESCRIPTION:Le Club Neastoria nous invite à une conversation captivante en compagnie de Raphaël Doan\, écrivain et historien\, pour explorer un fascinant exercice de pensée : que se serait-il passé si l’Empire romain avait survécu ? \nÀ travers son ouvrage Si Rome n’avait pas chuté ?\, Raphaël Doan interroge l’un des grands tournants de l’histoire : la chute de l’Empire romain d’Occident en 476. \nAurions-nous assisté à une évolution technologique plus rapide ? L’Europe aurait-elle connu un destin radicalement différent ? L’Empire aurait-il pu rivaliser avec les grandes puissances modernes ? \nCette conférence sera l’occasion de plonger de revisiter l’héritage de Rome à la lumière de scénarios alternatifs.
URL:https://consciousparis.com/evenement/si-rome-navait-pas-chute-le-club-neastoria-invite-raphael-doan/
LOCATION:12 rue de Normandie
CATEGORIES:Géopolitique, histoire & enjeux sociétaux,SOIRÉES
END:VEVENT
BEGIN:VEVENT
DTSTART;TZID=Europe/Paris:20250604T190000
DTEND;TZID=Europe/Paris:20250604T203000
DTSTAMP:20260421T061534
CREATED:20250410T131021Z
LAST-MODIFIED:20250513T154652Z
UID:30271-1749063600-1749069000@consciousparis.com
SUMMARY:Rencontre w/ Carla Talopp\, Laetitia Klotz\, Cloé Brami & Ines Frachon
DESCRIPTION:Pour célébrer l’exposition de Carla Talopp\, rendez-vous mercredi 4 juin à 19h en compagnie de Laetitia Klotz\, auteure et poétesse\, Cloé Brami\, médecin spécialisée en cancérologie et Ines Frachon\, commissaire de l’exposition.  \nLa soirée se déroulera par une lecture de poésie et déambulation devant les oeuvres\, l’occasion de présenter le livre commun de Laetitia Klotz et Carla — Les passagères du vent. \nS’en suivra une prise de parole autour de la vitalité dans l’art et le soin en compagnie de Cloé Brami. \nLa soirée se terminera par un échange avec le public. \n\nLaetitia Klotz \nAutrice et poétesse\, Laetitia Klotz a habité au Yémen\, en Arabie Saoudite\, à Singapour et en Ouganda. Elle a publié intime Arabie\, confidences saoudiennes aux Éditions Transboréal (2020) et Comme on attend le jour aux Éditions Michikusa Publishing (2024). Elle anime depuis 2022 le podcast « Tout Sur Ma Mère ». Alliant depuis plusieurs années son travail artistique\, la transmission et son goût pour les voix et les émotions qui y affleurent\, elle raconte les femmes\, le vivant et le cœur à corps de la nature et de l’humain au-dedans. Des murmures de l’exil aux cris de la liberté\, la poétesse parcourt inlassablement les trajectoires des femmes. Elle y explore les récits recueillis au cours des voyages. Dans la lucidité de l’aube\, ces récits se métamorphosent et s’élèvent en poèmes déclamés au grand jour\, pour venir finalement s’ancrer dans le recueil Les passagères du vent. Les paroles des unes et des autres s’y révèlent en âmes bouleversantes et combattantes. S’entend alors\, depuis le ventre des femmes\, le chant limpide et éclatant de l’intime. \n\nLaetitia et Carla se sont rencontrées dans le train entre Mantes-la-Jolie et Versailles. Elles faisaient leur rentrée en classe de première. Elles ont partagé les bancs de l’hypokhâgne du Lycée La Bruyère et sont parties ensemble au Vietnam à vingt ans. De voyages en grands moments de sororité\, elles ont construit une amitié au fil des vents qui les amène à cette première publication artistique. \n\nCloé Brami  \nMédecin spécialisée en cancérologie\, docteure en psychologie\, enseignante de méditation\, autrice (2025) et fondatrice de Mû Médecine. Depuis quinze ans\, elle contribue à diffuser en France une culture du soin intégrative et respectueuse du vivant. \nRécemment\, elle approfondit ses recherches sur le concept de vitalité en santé\, explorant cette notion à la croisée de l’anthropologie\, des sciences médicales et des pratiques artistiques. La santé peut être perçue comme un équilibre dynamique\, instable\, où la vitalité\, bien que subtile et impalpable\, est un élément clé de nos santés individuelles et collectives. \n\nLa rencontre depuis 2022 avec les œuvres de Carla Talopp\, est\, à travers cette soirée\, une manière de faire dialoguer l’art et la santé et de discuter autour de la vitalité. \n\nInès Frachon \nResponsable de l’espace Rue du Mail de la galerie Strouk pendant deux ans\, Inès Frachon a collaboré avec la scène artistique émergente française et internationale. Elle a notamment organisé des expositions et des événements d’envergure\, travaillant aux côtés de commissaires renommés tels que Martin Kiefer et Amélie Adamo. Son engagement s’est illustré à travers la programmation de performances\, de rencontres et d’initiatives visant à promouvoir de nouveaux talents. \nDésormais installée à Marseille\, Inès Frachon exerce en tant qu’indépendante\, mettant son expertise au service de projets curatoriaux variés. Son travail s’articule autour de la conception d’expositions et de collaborations artistiques. Forte de son expérience en galerie\, elle poursuit son engagement en faveur de la création contemporaine.
URL:https://consciousparis.com/evenement/rencontre-w-carla-talopp-laetitia-klotz-cloe-brami-ines-frachon/
LOCATION:12 rue de Normandie
CATEGORIES:Arts & architecture,SOIRÉES
END:VEVENT
BEGIN:VEVENT
DTSTART;TZID=Europe/Paris:20250605T193000
DTEND;TZID=Europe/Paris:20250605T203000
DTSTAMP:20260421T061534
CREATED:20250528T155709Z
LAST-MODIFIED:20250530T161519Z
UID:30660-1749151800-1749155400@consciousparis.com
SUMMARY:Regards croisés w/ Théo David\, Jean-Baptiste Gauvin & Aurelia Antoni
DESCRIPTION:Rendez-vous jeudi 5 juin pour une discussion avec Jean-Baptiste Gauvin et Théo David animée par Aurelia Antoni. Cette soirée sera l’occasion  de découvrir l’ouvrage La Mer terrible selon Monet de Jean-Baptiste Gauvin\, explorant les rencontres de Monet en 1886 dans la solitude insulaire de Belle-île-en-Mer. Solitude insulaire qui fait écho à l’univers pictural de Théo David\, donnant à voir paysages silencieux et figures méditatives…\n\n\n\n————— \n\n\n\n  \n\n\n\n\n\n\n\n\n\n\n\n\n\n\n\n\n\n\n\n\n\n\n\n\n\n\nJean-Baptiste Gauvin est auteur\, metteur en scène et journaliste spécialisé dans le champ de l’image. Il écrit pour des revues d’art (L’Œil de la Photographie\, Process\, Zone Critique…) et a publié son premier roman La mer terrible selon Monet aux éditions ateliers Henry Dougier qui raconte le séjour du peintre à Belle-Île-en-Mer en 1886 et comment le « prince des impressionnistes » a développé une amitié pour un ancien pêcheur de homards\, Poly\, devenu son porteur et dont il fera le portrait. En décembre 2024\, son texte « Les joueurs de la vie » a été publié dans le catalogue de l’exposition « En piste ! Clowns\, pitres et saltimbanques » de Macha Makeïeff au Mucem aux éditions de La Martinière. Il écrit également pour le théâtre. En février 2024\, il fonde la Compagnie Le Loup des steppes. MÉTAMORF\, librement inspiré de La Métamorphose de Franz Kafka\, est sa première création théâtrale.\n\n\n\nThéo David\, né à Marseille en 1995. Diplômé des Beaux-Arts de Bourges en 2020\, puis des Beaux-Arts de Paris en 2023. Il partage actuellement sa vie et son travail entre Paris et Marseille. Son travail pictural s’articule autour de la lumière\, explorant son écrasement jusqu’à sa résurgence. Imprégné par les atmosphères lumineuses du Sud\, il utilise la matière comme point de départ pour interroger le motif dans sa dimension poétique. En 2022\, son exposition ” Que le monde soit gouverné par une cigale ” a été intégrée à la programmation du Salon international du dessin contemporain de Marseille Paréidolie. En 2025\, après plusieurs expositions collectives en France et dernièrement à Madrid à Galerie Monte Esquiza\, il montre à Conscious Paris son exposition ‘Une cigale en hiver’.\n\nAurelia Antoni est journaliste pour différents titres de la presse culturelle tels que Beaux Arts Magazine\, AD. Diplômée en Arts appliqués et communication\, elle partage son temps entre l’écriture\, le dessin\, la lecture et les expositions\, attentive à l’actualité artistique et au dialogue entre les disciplines\, de la peinture à l’architecture en passant par le design graphique.
URL:https://consciousparis.com/evenement/regards-croises-theo-david-jean-baptiste-gauvin/
LOCATION:12 rue de Normandie
CATEGORIES:Arts & architecture,SOIRÉES
ORGANIZER;CN="Conscious Paris":MAILTO:info@consciousparis.com
END:VEVENT
BEGIN:VEVENT
DTSTART;TZID=Europe/Paris:20250616T193000
DTEND;TZID=Europe/Paris:20250616T203000
DTSTAMP:20260421T061534
CREATED:20250308T152510Z
LAST-MODIFIED:20250619T103653Z
UID:29782-1750102200-1750105800@consciousparis.com
SUMMARY:Les visages de l'humanisme • Elgas invite Wasis Diop
DESCRIPTION:Wasis Diop : Une voix singulière de la musique africaine\nArtiste au carrefour des cultures\, Wasis Diop s’est imposé comme l’un des musiciens les plus innovants du continent africain. Son style unique mélange subtilement les sonorités traditionnelles sénégalaises\, la musique folk\, le jazz et des arrangements électroniques minimalistes. Il est reconnu pour sa voix grave et envoûtante\, ainsi que pour sa capacité à créer des ambiances sonores profondes et poétiques. \nAprès ses débuts dans les années 1970 avec West African Cosmos\, le premier groupe de rock africain\, il s’est illustré en solo avec des albums marquants tels que No Sant et Séquences. Son talent s’est également exprimé à travers la musique de films\, notamment en composant pour les œuvres de son frère Djibril Diop Mambéty\, réalisateur du chef-d’œuvre Touki Bouki. Sa bande originale pour Hyènes est devenue une référence du genre. \nÀ travers ses compositions\, Wasis Diop réinvente la musique africaine en la faisant résonner bien au-delà des frontières. Son œuvre\, empreinte de douceur et de mélancolie\, est une invitation au voyage et à la contemplation. \nUn dialogue entre musique et pensée\nFace à lui\, Elgas\, journaliste et écrivain\, apportera son regard affûté sur les thématiques du post-colonialisme\, des identités africaines et de l’humanisme contemporain. \nEnsemble\, ils tisseront une conversation entre les mots et les notes\, explorant la manière dont la musique et la littérature dialoguent pour raconter le monde. \nUne soirée où la réflexion et la musique se rencontreront dans une harmonie inédite.
URL:https://consciousparis.com/evenement/les-visages-de-lhumanisme-elgas-invite-wasis-diop/
LOCATION:Conscious\, 12 rue de Normandie\, Paris\, 75003
CATEGORIES:Philosophie, littérature & psychologie,SOIRÉES
ORGANIZER;CN="Conscious Paris":MAILTO:info@consciousparis.com
END:VEVENT
END:VCALENDAR