BEGIN:VCALENDAR
VERSION:2.0
PRODID:-//Conscious Paris - ECPv6.15.20//NONSGML v1.0//EN
CALSCALE:GREGORIAN
METHOD:PUBLISH
X-WR-CALNAME:Conscious Paris
X-ORIGINAL-URL:https://consciousparis.com
X-WR-CALDESC:Évènements pour Conscious Paris
REFRESH-INTERVAL;VALUE=DURATION:PT1H
X-Robots-Tag:noindex
X-PUBLISHED-TTL:PT1H
BEGIN:VTIMEZONE
TZID:Europe/Paris
BEGIN:DAYLIGHT
TZOFFSETFROM:+0100
TZOFFSETTO:+0200
TZNAME:CEST
DTSTART:20240331T010000
END:DAYLIGHT
BEGIN:STANDARD
TZOFFSETFROM:+0200
TZOFFSETTO:+0100
TZNAME:CET
DTSTART:20241027T010000
END:STANDARD
BEGIN:DAYLIGHT
TZOFFSETFROM:+0100
TZOFFSETTO:+0200
TZNAME:CEST
DTSTART:20250330T010000
END:DAYLIGHT
BEGIN:STANDARD
TZOFFSETFROM:+0200
TZOFFSETTO:+0100
TZNAME:CET
DTSTART:20251026T010000
END:STANDARD
BEGIN:DAYLIGHT
TZOFFSETFROM:+0100
TZOFFSETTO:+0200
TZNAME:CEST
DTSTART:20260329T010000
END:DAYLIGHT
BEGIN:STANDARD
TZOFFSETFROM:+0200
TZOFFSETTO:+0100
TZNAME:CET
DTSTART:20261025T010000
END:STANDARD
END:VTIMEZONE
BEGIN:VEVENT
DTSTART;TZID=Europe/Paris:20251021T193000
DTEND;TZID=Europe/Paris:20251021T203000
DTSTAMP:20260420T233730
CREATED:20250924T141804Z
LAST-MODIFIED:20251021T103619Z
UID:31614-1761075000-1761078600@consciousparis.com
SUMMARY:Regarder les arbres avant qu'ils ne s'endorment
DESCRIPTION:À l’heure où la lumière décroît et où les arbres se préparent à plonger dans la nuit\, nous vous invitons à un moment suspendu. Entre récits\, échanges et regards poétiques\, Karine Prette et Frédéric Pennel partageront leur sensibilité et leurs réflexions autour du temps\, de la création\, du vivant et de ce qui nous relie à la nature. \nPour marquer ce moment\, François Berton nous présentera sa série de photographies consacrée aux arbres. \nCette rencontre sera l’occasion de ralentir\, d’écouter autrement\, et de prêter attention à ce qui se transforme silencieusement autour de nous.
URL:https://consciousparis.com/evenement/regarder-les-arbres-avant-quils-ne-sendorment/
LOCATION:12 rue de Normandie
CATEGORIES:Arts & architecture,SOIRÉES
ORGANIZER;CN="Conscious Paris":MAILTO:info@consciousparis.com
END:VEVENT
BEGIN:VEVENT
DTSTART;TZID=Europe/Paris:20251022T193000
DTEND;TZID=Europe/Paris:20251022T210000
DTSTAMP:20260420T233730
CREATED:20250912T142226Z
LAST-MODIFIED:20251021T105517Z
UID:31513-1761161400-1761166800@consciousparis.com
SUMMARY:En 2025\, que faire de nos institutions politiques ? — Astrid de Villaines
DESCRIPTION:À l’occasion de la parution de son nouvel ouvrage Décrypter les institutions politiques (Larousse)\, Astrid de Villaines\, Productrice de l’émission L’Esprit public sur France Culture\, présente son analyse des rouages institutionnels français et européens. \nElle sera interviewée par Jean-Miguel Pire\, Sociologue et Historien. Un échange qui permettra de revenir sur le fonctionnement concret des institutions\, leurs enjeux démocratiques et les pistes de réformes possibles. \nDepuis 2024 et la dissolution surprise d’Emmanuel Macron\, les mots de la Constitution sont très présents dans l’actualité. Avec cet ouvrage et sa connaissances des arcanes politiques\, Astrid de Villaines propose une lecture dynamique de la Constitution et apporte des réponses aux sujets qui se posent au quotidien et sur le temps long. \n\nDans quel type de blocage sommes-nous ?\nComment améliorer nos institutions pour mieux associer les citoyens ?\nQuelles seraient les conséquences d’un scrutin proportionnel aux législatives ?\nQuel est le rôle du Sénat ? \nQuel est le scénario d’une démission ou une destitution d’un président de la République ?\nLa Ve République est-elle à bout de souffle ? \n\nAutant de questions et tant d’autres que vous pourrez lui poser le mercredi 22 octobre au 12\, rue de Normandie\, Paris\,3 \nUn rendez-vous essentiel pour mieux comprendre la mécanique du pouvoir et ses implications dans notre quotidien citoyen.
URL:https://consciousparis.com/evenement/apprendre-a-decrypter-les-institutions-politiques-astrid-de-villaines/
LOCATION:12 rue de Normandie
CATEGORIES:Géopolitique, histoire & enjeux sociétaux,Mis en avant,SOIRÉES
ATTACH;FMTTYPE=image/webp:https://consciousparis.com/wp-content/uploads/2025/09/IMG_6778-scaled.webp
ORGANIZER;CN="Conscious Paris":MAILTO:info@consciousparis.com
END:VEVENT
BEGIN:VEVENT
DTSTART;TZID=Europe/Paris:20251023T193000
DTEND;TZID=Europe/Paris:20251023T203000
DTSTAMP:20260420T233730
CREATED:20250908T151356Z
LAST-MODIFIED:20251015T102102Z
UID:31456-1761247800-1761251400@consciousparis.com
SUMMARY:Les sérendipités de Vincent • Mrs Dalloway\, Virginia Woolf
DESCRIPTION:Par une belle matinée de juin\, Clarissa Dalloway sort de sa maison. Elle organise chez elle une réception le soir même. En marchant dans les rues de Londres\, elle se remémore sa jeunesse\, ses amitiés\, ses amours\, et sa promenade est rythmée par le carillon de Big Ben\, marquant le temps qui passe et frappe dans l’existence. Ainsi se déploie Mrs Dalloway\, un des romans les plus célèbres de Virginia Woolf (1882-1941)\, et dont le titre initial était « The Hours ». \nLe style – très particulier – de ce texte publié en 1925 est marqué par un continuum romanesque de la pensée\, de la mémoire\, des actions\, des sensations ; c’est le fameux « stream of consciousness »\, le flux de conscience. Mrs Dalloway est le roman de l’après Grande guerre\, du trauma\, du doute et d’un moment tournant de l’histoire de la Grande-Bretagne; c’est aussi un roman de Londres\, le récit d’une journée d’une femme londonienne\, Clarissa Dalloway\, dont la déambulation revisite et dénoue son existence même. \nC’est ce roman culte de la modernité littéraire que Vincent lira\, dans la nouvelle traduction de Nathalie Azoulai au 12 rue de Normandie\, Paris\, 3.
URL:https://consciousparis.com/evenement/les-serendipites-de-vincent-mrs-dalloway-virginia-woolf/
LOCATION:12 rue de Normandie
CATEGORIES:Philosophie, littérature & psychologie,SOIRÉES
ATTACH;FMTTYPE=image/webp:https://consciousparis.com/wp-content/uploads/2025/09/Vincentfigureau-woolf-consciousparis.webp
ORGANIZER;CN="Conscious Paris":MAILTO:info@consciousparis.com
END:VEVENT
BEGIN:VEVENT
DTSTART;TZID=Europe/Paris:20251026T153000
DTEND;TZID=Europe/Paris:20251026T170000
DTSTAMP:20260420T233730
CREATED:20251022T143034Z
LAST-MODIFIED:20251022T143034Z
UID:31928-1761492600-1761498000@consciousparis.com
SUMMARY:Une après-midi en parallèle de l'exposition — "À Paris\, les arbres aussi ont une histoire"
DESCRIPTION:Balade automnale à la rencontre de 10 arbres emblématiques qui ne manqueront pas de vous surprendre. Avant qu’ils ne s’endorment pour l’hiver. \nUne visite proposée par Frédéric Pennel \n  \nRendez-vous — Métro Saint Paul \nDurée : 1h45 \n 
URL:https://consciousparis.com/evenement/une-apres-midi-en-parallele-de-lexposition-a-paris-les-arbres-aussi-ont-une-histoire/
LOCATION:Métro Saint Paul
CATEGORIES:Arts & architecture,SOIRÉES
ORGANIZER;CN="Conscious Paris":MAILTO:info@consciousparis.com
END:VEVENT
BEGIN:VEVENT
DTSTART;TZID=Europe/Paris:20251030T193000
DTEND;TZID=Europe/Paris:20251030T210000
DTSTAMP:20260420T233730
CREATED:20250717T122300Z
LAST-MODIFIED:20251031T121222Z
UID:30950-1761852600-1761858000@consciousparis.com
SUMMARY:En écho à l’exposition de la Bourse de Commerce – Focus sur l'art minimal • Avec Morgane Evrard
DESCRIPTION:Né aux États-Unis dans les années 1960\, l’art minimal marque une rupture radicale avec l’expressionnisme abstrait. Rejetant la narration\, la subjectivité et la virtuosité\, les artistes minimalistes choisissent la simplicité formelle pour créer une nouvelle relation avec le spectateur. \nDe Donald Judd à Agnes Martin\, cette conférence propose d’explorer les enjeux esthétiques et sensoriels d’un courant qui continue d’influencer la création contemporaine. \n— \nNos soirées sont toujours suivies d’un moment convivial autour d’une sélection de vins et quelques mignardises.
URL:https://consciousparis.com/evenement/en-echo-a-lexposition-de-la-bourse-de-commerce-focus-sur-lart-minimal-avec-morgane-evrard/
LOCATION:12 rue de Normandie
CATEGORIES:Arts & architecture,SOIRÉES
ORGANIZER;CN="Conscious Paris":MAILTO:info@consciousparis.com
END:VEVENT
END:VCALENDAR