BEGIN:VCALENDAR
VERSION:2.0
PRODID:-//Conscious Paris - ECPv6.15.20//NONSGML v1.0//EN
CALSCALE:GREGORIAN
METHOD:PUBLISH
X-ORIGINAL-URL:https://consciousparis.com
X-WR-CALDESC:Évènements pour Conscious Paris
REFRESH-INTERVAL;VALUE=DURATION:PT1H
X-Robots-Tag:noindex
X-PUBLISHED-TTL:PT1H
BEGIN:VTIMEZONE
TZID:Europe/Paris
BEGIN:DAYLIGHT
TZOFFSETFROM:+0100
TZOFFSETTO:+0200
TZNAME:CEST
DTSTART:20240331T010000
END:DAYLIGHT
BEGIN:STANDARD
TZOFFSETFROM:+0200
TZOFFSETTO:+0100
TZNAME:CET
DTSTART:20241027T010000
END:STANDARD
BEGIN:DAYLIGHT
TZOFFSETFROM:+0100
TZOFFSETTO:+0200
TZNAME:CEST
DTSTART:20250330T010000
END:DAYLIGHT
BEGIN:STANDARD
TZOFFSETFROM:+0200
TZOFFSETTO:+0100
TZNAME:CET
DTSTART:20251026T010000
END:STANDARD
BEGIN:DAYLIGHT
TZOFFSETFROM:+0100
TZOFFSETTO:+0200
TZNAME:CEST
DTSTART:20260329T010000
END:DAYLIGHT
BEGIN:STANDARD
TZOFFSETFROM:+0200
TZOFFSETTO:+0100
TZNAME:CET
DTSTART:20261025T010000
END:STANDARD
END:VTIMEZONE
BEGIN:VEVENT
DTSTART;TZID=Europe/Paris:20251104T193000
DTEND;TZID=Europe/Paris:20251104T203000
DTSTAMP:20260420T220152
CREATED:20251003T134909Z
LAST-MODIFIED:20251106T111131Z
UID:31655-1762284600-1762288200@consciousparis.com
SUMMARY:Don et hospitalité : accueillir l’autre\, penser l’échange — Elgas invite Felwine Sarr
DESCRIPTION:Qu’est-ce que donner ? Qu’est-ce qu’accueillir ? Au-delà du geste matériel\, le don et l’hospitalité mettent en jeu des valeurs fondamentales : l’ouverture à l’autre\, la réciprocité\, mais aussi les tensions qui surgissent entre l’obligation et la gratuité\, entre la générosité et l’attente de retour. \nPour cette première conférence du cycle ‘Les visages de l’humanisme’\, Elgas recevra Felwine Sarr\, Economiste\, philosophe et écrivain pour interroger la puissance symbolique et politique de ces notions. \nComment penser l’hospitalité dans un monde traversé par les migrations\, les frontières\, mais aussi par les nouvelles formes de solidarité ? \nEn quoi le don peut-il être compris non seulement comme acte individuel\, mais aussi comme fondement de liens collectifs et de nouvelles manières de vivre ensemble ? \nAutant de questions que vous pourrez directement poser à nos deux protagonistes lors de la soirée du mardi 4 novembre à 19h30. \n——— \n— Felwine Sarr \nFelwine Sarr est écrivain\, universitaire et musicien sénégalais. Professeur à l’Université Duke\, il s’intéresse aux économies africaines et aux imaginaires culturels\, mais aussi aux manières de penser le lien social. Dans ses essais\, notamment Habiter le monde : essai de politique relationnelle (2017)\, il explore les notions d’accueil\, de partage et d’hospitalité comme fondements d’un vivre-ensemble renouvelé. Son œuvre propose de dépasser les frontières matérielles et symboliques pour envisager une politique de l’hospitalité\, ouverte à l’altérité et au dialogue interculturel. \nEn 2018\, il a co-rédigé avec Bénédicte Savoy le rapport sur la restitution du patrimoine africain. Son travail\, au croisement de la pensée critique\, de la littérature et de la création artistique\, témoigne d’un engagement profond pour repenser nos manières d’« habiter le monde ». \nNos soirées sont toujours suivies d’un moment convivial autour d’un verre et quelques mignardises.
URL:https://consciousparis.com/evenement/don-et-hospitalite-accueillir-lautre-penser-lechange-elgas-invite-felwine-saar/
LOCATION:12 rue de Normandie
CATEGORIES:Géopolitique, histoire & enjeux sociétaux,SOIRÉES
ATTACH;FMTTYPE=image/jpeg:https://consciousparis.com/wp-content/uploads/2025/10/Cartes-postales-artistes.jpg
ORGANIZER;CN="Conscious Paris":MAILTO:info@consciousparis.com
END:VEVENT
BEGIN:VEVENT
DTSTART;TZID=Europe/Paris:20251106T193000
DTEND;TZID=Europe/Paris:20251106T203000
DTSTAMP:20260420T220152
CREATED:20250910T152337Z
LAST-MODIFIED:20251108T111752Z
UID:31432-1762457400-1762461000@consciousparis.com
SUMMARY:République Démocratique du Congo : Les dessous d’une guerre passée sous silence
DESCRIPTION:La guerre qui déchire l’Est de la République Démocratique du Congo (RDC) depuis près de 30 ans\, regagne en intensité depuis le début de l’année 2025. Mais pourquoi maintenant ? On compte aujourd’hui plus de 6 millions de morts depuis 1996 et plus 7 millions de déplacé·es en RDC — en faisant le conflit le plus meurtrier depuis la fin de la Seconde Guerre Mondiale. \nFace au silence et aux explications simplistes qui circulent dans les médias traditionnels\, l’équipe du podcast Parlons du Congo a décidé de croiser regards académiques et journalistiques pour expliquer ce conflit. Pour cet évènement\, ils se réunissent pour interroger la représentation de la guerre dans nos médias traditionnels\, et présenteront les éléments de lecture clefs pour mieux saisir les causes profondes et les enjeux mondiaux de cette guerre. \nDr. Valéry Ntwali est expert des conflits armés dans la région des Grands Lacs. Il est membre du Centre Congolais de Justice Transitionnelle et l’auteur de Limitation des Mandats Présidentiels en Afrique (Connaissances Et Savoirs\, 2021). Il réalise une thèse en sciences politiques à Université Paris Est Créteil. \nClémence Auzary est doctorante en géographie à l’Université Paris 1 Panthéon-Sorbonne. Experte des dynamiques territoriales en RD Congo\, elle est membre du laboratoire Prodig et fut invitée à plusieurs reprise comme intervenante dans les émissions de RFI. \nEmma Belmonte: Journaliste et reporter internationale\, elle est notamment autrice de reportages pour GEO magazine et Figaro Magazine. Elle est également analyste pour l’Association for International Affairs (AMO).
URL:https://consciousparis.com/evenement/republique-democratique-du-congo-les-dessous-dune-guerre-passee-sous-silence/
LOCATION:12 rue de Normandie
CATEGORIES:Géopolitique, histoire & enjeux sociétaux,SOIRÉES
ORGANIZER;CN="Conscious Paris":MAILTO:info@consciousparis.com
END:VEVENT
BEGIN:VEVENT
DTSTART;TZID=Europe/Paris:20251108T170000
DTEND;TZID=Europe/Paris:20251108T183000
DTSTAMP:20260420T220152
CREATED:20251025T125415Z
LAST-MODIFIED:20251030T173005Z
UID:31949-1762621200-1762626600@consciousparis.com
SUMMARY:Regarder la nature avant qu'elle ne s'endorme
DESCRIPTION:Lorsque l’automne s’étire et que la lumière décline\, la nature prépare doucement son grand sommeil hivernal. Avant que les feuilles ne se déposent au sol comme des pages tournées\, avant que les oiseaux ne s’éloignent vers d’autres ciels\, prenons le temps de la regarder\, de l’écouter\, de la célébrer. \nCette après-midi poétique invite chacun à ralentir et à laisser vibrer sa sensibilité. \nAu programme :— Lectures de poèmes inspirés des saisons et du vivant — Gaston Miron\, Camille Readman Prud’homme …— Apprendre à voir\, admirer\, observer la nature à travers les oeuvres de Karine Prette et les photographies de François Berton — Moments d’échange autour de ce que la nature éveille en nous— Mise en voix collective pour accueillir la nuit qui s’annonce \nUn instant suspendu\, pour ressentir le frisson des arbres qui se préparent à dormir\, et dire — en mots simples ou en vers — notre attachement au vivant. \nAvec la généreuse participation d’Antoine Riand\, Françoise Berteaux\, Marie-Claire Rivière\, Yvonne Behnke.
URL:https://consciousparis.com/evenement/regarder-la-nature-avant-quelle-ne-sendorme/
LOCATION:Conscious\, 12 rue de Normandie\, Paris\, 75003
CATEGORIES:Arts & architecture,Philosophie, littérature & psychologie,SOIRÉES
ORGANIZER;CN="Conscious Paris":MAILTO:info@consciousparis.com
END:VEVENT
BEGIN:VEVENT
DTSTART;TZID=Europe/Paris:20251119T193000
DTEND;TZID=Europe/Paris:20251119T210000
DTSTAMP:20260420T220152
CREATED:20250924T143317Z
LAST-MODIFIED:20251121T153436Z
UID:31617-1763580600-1763586000@consciousparis.com
SUMMARY:Le petit peuple du Moyen-âge — Le Club Neastoria invite Claude Gauvard
DESCRIPTION:Historienne médiéviste reconnue\, professeure émérite de l’Université Paris 1 Panthéon-Sorbonne\, Claude Gauvard nous invite à plonger dans le quotidien du « petit peuple » du Moyen Âge : artisans\, paysans\, marginaux\, femmes et hommes ordinaires qui\, loin des rois et des chevaliers\, ont façonné la vie de la cité médiévale. \nÀ travers ses recherches\, elle redonne voix à celles et ceux souvent laissés dans l’ombre des récits officiels\, révélant leurs luttes\, leurs croyances\, leurs fêtes et leurs drames. Cette conférence sera l’occasion de découvrir un autre visage du Moyen Âge\, plus humain et proche\, où se mêlent misère et solidarité\, violence et joie\, soumission et liberté. \nUne rencontre exceptionnelle dédiée à tous les curieux d’histoire\, passionnés de culture et amateurs de récits vivants.
URL:https://consciousparis.com/evenement/le-petit-peuple-du-moyen-age-le-club-neastoria-invite-claude-gauvard/
LOCATION:12 rue de Normandie
CATEGORIES:Géopolitique, histoire & enjeux sociétaux,SOIRÉES
ORGANIZER;CN="Conscious Paris":MAILTO:info@consciousparis.com
END:VEVENT
BEGIN:VEVENT
DTSTART;TZID=Europe/Paris:20251126T193000
DTEND;TZID=Europe/Paris:20251126T210000
DTSTAMP:20260420T220152
CREATED:20250827T141304Z
LAST-MODIFIED:20251127T165649Z
UID:31007-1764185400-1764190800@consciousparis.com
SUMMARY:Un an après : le Monde à l’heure Trump • Géopolitique avec Pierre Haski
DESCRIPTION:Un an après l’élection de Trump à la Maison Blanche \, Pierre Haski reviendra sur les vrais changements intervenus dans l’ordre mondial et les simples inflexions de la politique américaine. \nLes Etats-Unis sont-ils encore le garant de l’ordre international ? Quelles relations avec ses anciens alliés et quel rôle de l’OTAN ? Les tensions avec la Chine sont- elles toujours aussi fortes ? Trump a-t-il remporté sa première grande victoire face à l’Iran et subit sa première grande défaite en Ukraine ? Les idéologies qui sous-tendent la politique de Trump va-t-elle s’exporter en Europe ? \nPierre Haski\, fort de son expérience acquise dans le monde entier et de son travail quotidien d’analyse de l’actualité géopolitique\, vous fera part de ses réflexions. Une part importante de la conférence sera dédiée à vos questions. \n  \nUn nouveau format Géopolitique avec Pierre Haski ! \nPour cette occasion\, Pierre Haski prend seul la parole\, face à vous\, pour décrypter les grands enjeux internationaux et les événements marquants de l’actualité. \nDans ce rendez-vous régulier\, plus resserré\, plus personnel\, il partage son analyse\, son expertise de terrain et sa lecture du monde avec vous. Place à la réflexion collective pour un temps d’échange prolongé tout au long de la soirée. Un format plus libre\, plus réactif\, plus intimiste\, pour mieux comprendre un monde en mouvement. \n  \nNos soirées sont toujours suivies d’un moment convivial autour d’un verre et quelques mignardises.
URL:https://consciousparis.com/evenement/un-an-apres-lamerique-a-lheure-trump-geopolitique-avec-pierre-haski/
LOCATION:12 rue de Normandie
CATEGORIES:Géopolitique, histoire & enjeux sociétaux,SOIRÉES
ORGANIZER;CN="Conscious Paris":MAILTO:info@consciousparis.com
END:VEVENT
END:VCALENDAR