BEGIN:VCALENDAR
VERSION:2.0
PRODID:-//Conscious Paris - ECPv6.15.20//NONSGML v1.0//EN
CALSCALE:GREGORIAN
METHOD:PUBLISH
X-WR-CALNAME:Conscious Paris
X-ORIGINAL-URL:https://consciousparis.com
X-WR-CALDESC:Évènements pour Conscious Paris
REFRESH-INTERVAL;VALUE=DURATION:PT1H
X-Robots-Tag:noindex
X-PUBLISHED-TTL:PT1H
BEGIN:VTIMEZONE
TZID:Europe/Paris
BEGIN:DAYLIGHT
TZOFFSETFROM:+0100
TZOFFSETTO:+0200
TZNAME:CEST
DTSTART:20250330T010000
END:DAYLIGHT
BEGIN:STANDARD
TZOFFSETFROM:+0200
TZOFFSETTO:+0100
TZNAME:CET
DTSTART:20251026T010000
END:STANDARD
BEGIN:DAYLIGHT
TZOFFSETFROM:+0100
TZOFFSETTO:+0200
TZNAME:CEST
DTSTART:20260329T010000
END:DAYLIGHT
BEGIN:STANDARD
TZOFFSETFROM:+0200
TZOFFSETTO:+0100
TZNAME:CET
DTSTART:20261025T010000
END:STANDARD
BEGIN:DAYLIGHT
TZOFFSETFROM:+0100
TZOFFSETTO:+0200
TZNAME:CEST
DTSTART:20270328T010000
END:DAYLIGHT
BEGIN:STANDARD
TZOFFSETFROM:+0200
TZOFFSETTO:+0100
TZNAME:CET
DTSTART:20271031T010000
END:STANDARD
END:VTIMEZONE
BEGIN:VEVENT
DTSTART;TZID=Europe/Paris:20260204T193000
DTEND;TZID=Europe/Paris:20260204T203000
DTSTAMP:20260420T170926
CREATED:20251224T151921Z
LAST-MODIFIED:20260205T142836Z
UID:32602-1770233400-1770237000@consciousparis.com
SUMMARY:Faussaires : artistes ratés ou vrais génies ? • Avec Clémentine Hébrard
DESCRIPTION:Longtemps relégués à la marge de l’histoire de l’art\, les faussaires fascinent autant qu’ils dérangent. Dotés d’une virtuosité technique exceptionnelle et d’une connaissance intime des styles\, certains ont trompé les plus grands experts et institutions. Mais que révèlent réellement leurs œuvres : un échec à être reconnus comme artistes ou\, au contraire\, une forme de génie détourné ? \nÀ travers des exemples emblématiques et des analyses précises\, Clémentine Hébrard\, historienne de l’art\, interroge les notions d’authenticité\, de valeur et de création. Cette conférence propose une réflexion stimulante sur les frontières floues entre copie et original\, imposture et talent\, et sur ce que les faussaires disent\, en creux\, de notre rapport à l’art et au marché. \nLes faussaires sont-ils des escrocs\, des plagiaires\, ou au contraire des esprits créatifs qui défient les conventions ? \nNos soirées sont toujours suivies d’un moment convivial autour d’une sélection de vins et quelques mignardises.
URL:https://consciousparis.com/evenement/faussaires-artistes-rates-ou-vrais-genies-avec-clementine-hebrard/
LOCATION:12 rue de Normandie
CATEGORIES:Arts & architecture,SOIRÉES
ORGANIZER;CN="Conscious Paris":MAILTO:info@consciousparis.com
END:VEVENT
BEGIN:VEVENT
DTSTART;TZID=Europe/Paris:20260205T193000
DTEND;TZID=Europe/Paris:20260205T203000
DTSTAMP:20260420T170926
CREATED:20251028T125417Z
LAST-MODIFIED:20260130T172335Z
UID:31958-1770319800-1770323400@consciousparis.com
SUMMARY:Les sérendipités de Vincent • La Princesse de Clèves — Madame de La Fayette
DESCRIPTION:Premier roman de langue française\, La Princesse de Clèves est un texte fascinant\, écrit dans le plus pur style classique du XVII e siècle (1678). \nBeaucoup d’entre vous ont en mémoire l’ennui éprouvé lors de l’étude de ce roman en cours de Français. Et pourtant\, ce livre est d’une modernité à couper le souffle. \nIl a connu une nouvelle jouvence et un regain d’attention\, grâce à la polémique lancée par Nicolas Sarkozy en 2006. Effet inattendu quasi immédiat de cette polémique : l’envolée des ventes du roman\, au point que Claire Chazal avait même consacré un reportage à ce « drôle de phénomène » dans son journal de 20 heures\, sur TF1\, en mars 2009. Réponse cinématographique : en 2008\, Christophe Honoré en a fait une adaptation contemporaine avec La Belle Personne\, joué par Léa Seydoux\, Louis Garrel et Grégoire Leprince-Ringuet. \nLa Princesse de Clèves est un récit sur l’amour qui parle à tout le monde\, en donnant à voir le conflit intérieur d’une femme\, prise entre ses devoirs d’épouse et ses sentiments passionnés pour un autre homme et luttant pour garder sa vertu intacte. En refusant de céder à l’appel de l’amour\, et en se retirant du monde\, Madame de Clèves suscite notre admiration : son ascétisme fou est un féminisme. \nC’est ce chef d’œuvre absolument indispensable à notre temps\, symbole de la culture française\, que Vincent vous propose d’entendre\, le jeudi 5 février 2026\, à 19h30. \nNos soirées sont toujours suivies d’un moment convivial autour d’une sélection de vins et quelques mignardises. \n  \nProchaines sérendipités de Vincent : \n\njeudi 19 mars\, 19h30 : Thomas l’imposteur de Jean Cocteau\nmercredi 15 avril\, 19h30 : Anna soror de Marguerite Yourcenar\nmercredi 6 mai\, 19h30 : Adieu à Berlin de Christopher Isherwood
URL:https://consciousparis.com/evenement/les-serendipites-de-vincent-la-princesse-de-cleves-madame-de-la-fayette/
LOCATION:12 rue de Normandie
CATEGORIES:Philosophie, littérature & psychologie,SOIRÉES
ATTACH;FMTTYPE=image/jpeg:https://consciousparis.com/wp-content/uploads/2025/10/princessedecleves—consciousparis.jpg
ORGANIZER;CN="Conscious Paris":MAILTO:info@consciousparis.com
END:VEVENT
BEGIN:VEVENT
DTSTART;TZID=Europe/Paris:20260212T193000
DTEND;TZID=Europe/Paris:20260212T210000
DTSTAMP:20260420T170926
CREATED:20260115T131527Z
LAST-MODIFIED:20260217T132908Z
UID:32752-1770924600-1770930000@consciousparis.com
SUMMARY:Nuages • Une question épistémologique — Avec Agnes Callu
DESCRIPTION:A l’occasion de la publication de son livre Bibliothèque(s) des nuages. Poésie\, espaces & représentations paru en novembre 2025\, l’historienne et philosophe de l’art Agnès Callu réfléchit la question du nuage à l’arête des Arts et de la Littérature. Elle convie à cette Carte Blanche\, suivie d’une signature\, les artistes Fabrice Cazenave et Davide Napoli à poursuivre avec elle la discussion et à présenter leur travail créateur. \n  \nAgnès CALLU —Ancienne élève de l’École nationale des Chartes (thèse publiée\, Prix Lenoir) et de l’Institut national du Patrimoine (INP/Conservateur du Patrimoine – État/Musées)\, Docteure en histoire contemporaine de Sciences Po Paris (thèse publiée\, Prix Gustave Chaix d’Est Ange de l’Académie des Sciences morales et politiques)\, Habilitée à diriger des recherches (HDR) à l’EPHE/PSL\, Qualifiée comme Professeure des Universités (Sections 18 & 22)\, Agnès Callu est Historienne\, Historienne et Philosophe de l’Art. Chercheure membre statutaire au Laboratoire d’Anthropologie politique – Approches interdisciplinaires et critiques des mondes contemporains\, (LAP\, EHESS/CNRS\, UMR 8177) et membre de l’École doctorale de l’EHESS (ED 286)\, elle est également Chercheure associée à l’EPHE/PSL (EA 7347 HISTARA)\, à l’ITEM/ENS (Équipe Histoire de l’Art – Processus de création/Genèse de l’œuvre\, UMR 8132) et à l’Université Paris 1 Panthéon-Sorbonne (Institut Acte\, UR 7539\, Axe A2S\, Art\, Sciences\, Sociétés). Elle est l’auteure de nombreuses publications. Vient de paraître en 2023 : Agnès Callu (dir.)\, Images et architectures mathématiques de la séduction\, Paris\, Le Bord de l’eau\, 2023 et Richard Texier. La bibliothèque des sentiments\, récit d’une élastagenèse\, Lyon\, Éditions Jacques André\, 2023 ;  en 2024 : Agnès Callu\, Eva Jospin. Des baptistères en forêts\, Paris\, Le Bord de l’eau\, 2024 ; en 2025 : Agnès Callu (dir.)\, Bibliothèque(s) des nuages. Poésie\, espaces et représentations\, Lyon\, Éditions Jacques André\, 2025. Agnès Callu est nommée titulaire de la « Chaire d’excellence GrandPalaisRmn. Recherche\, Création & Innovation » (2026-2030).
URL:https://consciousparis.com/evenement/nuages-une-question-epistemologique/
LOCATION:12 rue de Normandie
CATEGORIES:Arts & architecture,SOIRÉES
ATTACH;FMTTYPE=image/jpeg:https://consciousparis.com/wp-content/uploads/2026/01/Agnes-Callu-—-Bibliotheque-des-nuages.jpg
ORGANIZER;CN="Conscious Paris":MAILTO:info@consciousparis.com
END:VEVENT
BEGIN:VEVENT
DTSTART;TZID=Europe/Paris:20260218T193000
DTEND;TZID=Europe/Paris:20260218T210000
DTSTAMP:20260420T170926
CREATED:20260115T140144Z
LAST-MODIFIED:20260224T120133Z
UID:32762-1771443000-1771448400@consciousparis.com
SUMMARY:Le colonialisme vert • Le Club Neastoria invite Guillaume Blanc
DESCRIPTION:Le mardi 18 février\, le club Neastoria propose une conférence consacrée au travail de l’historien Guillaume Blanc\, autour du concept de colonialisme vert. \nÀ travers ses recherches en histoire environnementale\, Guillaume Blanc interroge les politiques contemporaines de protection de la nature et met en lumière leurs héritages coloniaux. Parcs nationaux\, discours écologiques\, rôle des ONG et des institutions internationales : derrière l’idéal de préservation se dessinent parfois des rapports de domination et des formes d’exclusion des populations locales. \nCette conférence propose une lecture critique et stimulante de l’écologie contemporaine\, en posant des questions essentielles : qui décide de ce qu’il faut protéger ? au nom de quels intérêts ? et à quel prix social ? \nUne soirée de réflexion et de débat\, à la croisée de l’histoire\, de la politique et des enjeux écologiques actuels. \n— Guillaume Blanc \nGuillaume Blanc est Professeur des Universités en Histoire contemporaine à Sciences Po Bordeaux / LAM.\nFormé à la Chaire du Canada en histoire environnementale\, il travaille aujourd’hui sur le gouvernement global de la nature et des hommes en Éthiopie et dans l’Afrique de l’Est contemporaine\, à l’époque coloniale et postcoloniale.
URL:https://consciousparis.com/evenement/le-colonialisme-vert-le-club-neastoria-invite-guillaume-blanc/
LOCATION:12 rue de Normandie
CATEGORIES:Géopolitique, histoire & enjeux sociétaux,SOIRÉES
END:VEVENT
BEGIN:VEVENT
DTSTART;TZID=Europe/Paris:20260224T193000
DTEND;TZID=Europe/Paris:20260224T210000
DTSTAMP:20260420T170926
CREATED:20260203T175153Z
LAST-MODIFIED:20260225T130549Z
UID:32931-1771961400-1771966800@consciousparis.com
SUMMARY:Les tableaux du scandale • Avec Frédéric Pennel
DESCRIPTION:Derrière certains tableaux aujourd’hui célébrés se cachent des histoires de scandales\, de censures\, de procès ou de passions déchaînées. \nPourquoi ces œuvres ont elles provoqué l’effet d’une déflagration en leur temps ? Que disaient-elles de la morale\, du pouvoir\, du corps ou de la société ? \nÀ travers une sélection d’oeuvres emblématiques\, Frédéric Pennel\, Journaliste et conférencier\, nous entraîne dans les coulisses de l’histoire de l’art en abordant la politique\, la société\, les moeurs de l’époque.Une conférence vivante\, replaçant les oeuvres dans leurs contextes historiques en révélant comment le scandale a parfois contribué à faire entrer ces œuvres dans la postérité. \nNos soirées sont toujours suivies d’un moment convivial autour d’une sélection de vins et quelques mignardises.
URL:https://consciousparis.com/evenement/les-tableaux-du-scandale-avec-frederic-plennel/
LOCATION:12 rue de Normandie
CATEGORIES:Arts & architecture,SOIRÉES
ORGANIZER;CN="Conscious Paris":MAILTO:info@consciousparis.com
END:VEVENT
BEGIN:VEVENT
DTSTART;TZID=Europe/Paris:20260226T193000
DTEND;TZID=Europe/Paris:20260226T210000
DTSTAMP:20260420T170926
CREATED:20260117T144225Z
LAST-MODIFIED:20260227T114421Z
UID:32803-1772134200-1772139600@consciousparis.com
SUMMARY:Carte blanche —  La politique actuelle des Etats-Unis marque t'elle réellement la fin de l'atlantisme ? • Maud Guillaumin invite Sylvain Kahn
DESCRIPTION:Un an après l’onde de choc JD Vance\, Rubio ressuscite l’alliance atlantique. Lors de la conférence de Munich\, il renverse la rhétorique trumpiste : « les Etats-Unis et l’Europe sont faits pour être ensemble.» \nRéorientation stratégique ou simple ajustement rhétorique ? Se dirige t-on à nouveau vers un partenariat d’égal à égal et le retour du soutien américain à l’Ukraine ? Face à une Amérique en pleine recomposition idéologique et géopolitique et à quatre ans de guerre russe\, l’Europe est-elle en mesure de redéfinir cette alliance transatlantique ? \nRejoignez-nous pour explorer ces questions essentielles et échanger sur l’avenir de notre continent face aux ambitions actuelle de la politique américaine. \nNos soirées sont toujours suivies d’un moment convivial autour d’un verre et quelques mignardises. \n  \n— Sylvain Kahn \nProfesseur d’histoire à Sciences Po\,  et docteur en géographie auteur de « L’Europe : un Etat qui s’ignore » (CNRS Editions) et de “L’atlantisme est mort ? Vive l’Europe ! ” (Éditions de l’Aube / Fondation Jean Jaures\, 2025) \nCarte blanche par Maud Guillaumin \nMaud Guillaumin est auteure et réalisatrice de documentaires historiques. Ses films sont vendus dans le monde entier\, du Canada au Vietnam en passant par tous les pays d’Europe et diffusés en France sur des chaînes majeures comme France 2\, France 5 et Arte. Maud a une formation de journaliste et l’investigation est une point central de ses films : comprendre\, creuser et donner du sens. \n 
URL:https://consciousparis.com/evenement/carte-blanche-la-methode-trump-lurgence-dune-reaction-europeenne-maud-guillaumin-invite-sylvain-kahn/
LOCATION:12 rue de Normandie
CATEGORIES:Géopolitique, histoire & enjeux sociétaux,SOIRÉES
ATTACH;FMTTYPE=image/webp:https://consciousparis.com/wp-content/uploads/2026/01/kahn-sylvain-trump-europe-consciousparis.webp
ORGANIZER;CN="Conscious Paris":MAILTO:info@consciousparis.com
END:VEVENT
END:VCALENDAR