BEGIN:VCALENDAR
VERSION:2.0
PRODID:-//Conscious Paris - ECPv6.15.20//NONSGML v1.0//EN
CALSCALE:GREGORIAN
METHOD:PUBLISH
X-WR-CALNAME:Conscious Paris
X-ORIGINAL-URL:https://consciousparis.com
X-WR-CALDESC:Évènements pour Conscious Paris
REFRESH-INTERVAL;VALUE=DURATION:PT1H
X-Robots-Tag:noindex
X-PUBLISHED-TTL:PT1H
BEGIN:VTIMEZONE
TZID:Europe/Paris
BEGIN:DAYLIGHT
TZOFFSETFROM:+0100
TZOFFSETTO:+0200
TZNAME:CEST
DTSTART:20250330T010000
END:DAYLIGHT
BEGIN:STANDARD
TZOFFSETFROM:+0200
TZOFFSETTO:+0100
TZNAME:CET
DTSTART:20251026T010000
END:STANDARD
BEGIN:DAYLIGHT
TZOFFSETFROM:+0100
TZOFFSETTO:+0200
TZNAME:CEST
DTSTART:20260329T010000
END:DAYLIGHT
BEGIN:STANDARD
TZOFFSETFROM:+0200
TZOFFSETTO:+0100
TZNAME:CET
DTSTART:20261025T010000
END:STANDARD
BEGIN:DAYLIGHT
TZOFFSETFROM:+0100
TZOFFSETTO:+0200
TZNAME:CEST
DTSTART:20270328T010000
END:DAYLIGHT
BEGIN:STANDARD
TZOFFSETFROM:+0200
TZOFFSETTO:+0100
TZNAME:CET
DTSTART:20271031T010000
END:STANDARD
END:VTIMEZONE
BEGIN:VEVENT
DTSTART;TZID=Europe/Paris:20260506T193000
DTEND;TZID=Europe/Paris:20260506T203000
DTSTAMP:20260420T152400
CREATED:20260131T180852Z
LAST-MODIFIED:20260225T165101Z
UID:32910-1778095800-1778099400@consciousparis.com
SUMMARY:Les sérendipités de Vincent • Adieu à Berlin — Christopher Isherwood
DESCRIPTION:Publié en 1939\, Adieu à Berlin (Goodbye to Berlin)\, est le chef d’œuvre de Christopher Isherwood (1904-1986). Ce texte est surtout l’un des rares romans à la fois mythique et populaire de la littérature anglaise. \nDans ce roman largement autobiographique\, Chris\, le jeune narrateur anglais (“Herr Issyvoo”) loue une chambre chez l’affectueuse\, envahissante et pittoresque Fraülein Schröder. Il y fait la connaissance de Sally Bowles\, fille de bonne famille anglaise en rupture de ban\, devenue chanteuse de cabaret\, aux ongles vert émeraude et à la bouche couleur cerise\, qui se rêve en star de cinéma. On y croise aussi toute une galerie de portraits bien croqués : Fraülein Mayr chanteuse bavaroise de Jodl\, « nazie enragée » ; la belle Natalia Landauer\, riche héritière juive ; Fritz\, le juif fauché ; Bobby\, le barman de la « Troïka »\, etc. \nIsherwood dépeint dans une chronique sensible\, distanciée et impressionniste\, l’effet brutal des événements sur la vie quotidienne de ces protagonistes\, dans la Berlin peu à peu menacée par la montée du nazisme. \nL’atmosphère joyeuse\, interlope et inquiète de ce roman a inspiré le célèbre film « Cabaret » de Bob Fosse\, avec Liza Minnelli et Michael York\, en 1972. \nC’est ce texte majeur pour comprendre l’irruption de la barbarie en Allemagne et en Europe\, dans l’ambiance insouciante du Berlin années 30\, que Vincent lira le mercredi 6 mai 2026 à 19h30. \nNos soirées sont toujours suivies d’un moment convivial autour d’une sélection de vins et quelques mignardises.
URL:https://consciousparis.com/evenement/les-serendipites-de-vincent-adieu-a-berlin-christopher-isherwood/
LOCATION:12 rue de Normandie
CATEGORIES:Philosophie, littérature & psychologie,SOIRÉES
ATTACH;FMTTYPE=image/webp:https://consciousparis.com/wp-content/uploads/2026/01/Christopher-Isherwood-consciousparis.webp
ORGANIZER;CN="Conscious Paris":MAILTO:info@consciousparis.com
END:VEVENT
BEGIN:VEVENT
DTSTART;TZID=Europe/Paris:20260507T193000
DTEND;TZID=Europe/Paris:20260507T210000
DTSTAMP:20260420T152400
CREATED:20260225T144241Z
LAST-MODIFIED:20260226T113726Z
UID:33141-1778182200-1778187600@consciousparis.com
SUMMARY:Les Annales : un siècle d’écriture de l’histoire • Avec Guillaume Calafat
DESCRIPTION:Le jeudi 7 mai\, le collectif Neastoria propose une conférence consacrée à la revue Les Annales\, en présence de Guillaume Calafat\, membre du comité de rédaction de la revue Annales. Histoire\, Sciences Sociales. \nFondée en 1929 par Marc Bloch et Lucien Febvre\, la revue Annales a profondément transformé l’écriture de l’histoire. En rompant avec une histoire strictement politique et événementielle\, elle a ouvert la voie à une histoire économique\, sociale\, culturelle\, attentive aux structures de longue durée et aux sciences sociales. \nUn siècle plus tard\, que reste-t-il de cet héritage ? Comment l’histoire s’écrit-elle aujourd’hui ? Quelles sont les nouvelles frontières de la recherche historique face aux enjeux contemporains — mondialisation\, environnement\, circulations\, conflits de mémoire ? \nÀ travers cette conférence\, Guillaume Calafat reviendra sur l’évolution intellectuelle de la revue\, ses grandes figures\, ses débats internes et son rôle dans la fabrique du savoir historique. Une occasion de comprendre comment une revue peut\, sur la durée\, transformer en profondeur notre manière de penser le passé. \nNos soirées sont toujours suivies d’un moment convivial autour d’une sélection de vins et quelques mignardises. \n  \n— Guillaume Calafat \nGuillaume Calafat est historien\, maître de conférences en histoire moderne. Spécialiste des mondes méditerranéens à l’époque moderne\, il travaille sur l’histoire du commerce\, des institutions juridiques et des circulations entre Europe\, Afrique du Nord et Levant\, en interrogeant les liens entre économie\, pouvoir et construction des empires.
URL:https://consciousparis.com/evenement/histoire-de-la-mediterranee-avec-guillaume-calafat/
LOCATION:12 rue de Normandie
CATEGORIES:Géopolitique, histoire & enjeux sociétaux,SOIRÉES
ORGANIZER;CN="Conscious Paris":MAILTO:info@consciousparis.com
END:VEVENT
BEGIN:VEVENT
DTSTART;TZID=Europe/Paris:20260521T193000
DTEND;TZID=Europe/Paris:20260521T210000
DTSTAMP:20260420T152400
CREATED:20260225T135712Z
LAST-MODIFIED:20260225T142126Z
UID:33133-1779391800-1779397200@consciousparis.com
SUMMARY:L'authenticité de l'oeuvre • avec Clémentine Hébrard
DESCRIPTION:Ne pas payer un Fragonard douteux au prix d’un vrai Fragonard\, ni un Sargent au prix d’un Monet\, bref s’efforcer d’en avoir pour son argent : la règle vaut pour tous les marchés\, mais recèle des difficultés particulières sur le marché de l’art. Face aux objets délicats et complexes que sont les œuvres d’art\, les outils du droit des contrats et du droit de la vente s’adaptent tant bien que mal et donnent souvent lieu à des procès rocambolesques\, pour notre plus grand plaisir ! \n  \nClémentine Hébrard \nDiplômée d’histoire de l’art et de droit\, Clémentine a été formée à la lutte contre le trafic de biens culturels à l’UNESCO\, avant d’exercer pendant quatre ans comme avocate dans un cabinet parisien.  Elle rédige actuellement sa thèse de droit privé sur « L’objet d’art et le temps du droit ». Sa formation universitaire comme son expérience pratique\, au confluent du droit et de l’art\, en ont fait une exploratrice passionnée de toutes les problématiques où ces deux disciplines\, en apparence très éloignées\, se rencontrent pour former un fascinant mélange. \n 
URL:https://consciousparis.com/evenement/lauthenticite-de-loeuvre-avec-clementine-hebard/
LOCATION:12 rue de Normandie
CATEGORIES:Arts & architecture,SOIRÉES
ORGANIZER;CN="Conscious Paris":MAILTO:info@consciousparis.com
END:VEVENT
BEGIN:VEVENT
DTSTART;TZID=Europe/Paris:20260528T193000
DTEND;TZID=Europe/Paris:20260528T203000
DTSTAMP:20260420T152400
CREATED:20260306T130042Z
LAST-MODIFIED:20260306T133751Z
UID:33230-1779996600-1780000200@consciousparis.com
SUMMARY:Le Petit Echiquier de Vincent • Avec Adam ARGOUBI
DESCRIPTION: Interview-performance proposée par Vincent Figureau                                                                                   \nUne soirée organisée autour d’un invité principal\, alternant performances et entretien\, parfois intime\, avec un animateur\, et ponctuée d’apparitions d’artistes amis : telle était la recette de la réussite de la célèbre émission télévisée « Le Grand Échiquier »\, créée et animée par Jacques Chancel de 1972 à 1989. \nDans un exercice d’admiration\, Vincent a voulu s’inspirer de ce modèle\, ainsi que des entretiens de Henry Chapier\, de Laure Adler\, de Bernard Pivot\, ou de Catherine Ceylac\, pour proposer à Conscious\, Arts & dialogues\, un « Petit échiquier de Vincent ». \nJeunes écrivains\, musiciens\, chanteurs\, performers\, ou artistes\, se succéderont sur la scène de Conscious\, pour nous présenter leur parcours\, évoquer leurs passions et nous dévoiler un peu de leurs pensées intimes. \nPour la première édition du « Petit Échiquier »\, Vincent reçoit un jeune musicien\, déjà habitué des lieux : Adam Argoubi. \nVioloncelliste\, apprenti philosophe\, couturier à ses heures perdues\, il a beaucoup de départs en lui.Accompagné de quelques proches\, il se révélera et se racontera\, le 28 mai\, prochain à 19h30. \nNous vous attendons nombreux. \n  \nProchaines « Sérendipités de Vincent » \n8 juillet : Narayama de Shichirô Fukazawa \n10 septembre : Montaigne de Stefan Zweig \n15 octobre : Le puritain passionné de Gabrielle Wittkop
URL:https://consciousparis.com/evenement/le-petit-echiquier-de-vincent-avec-adam-argoubi/
LOCATION:12 rue de Normandie
CATEGORIES:Philosophie, littérature & psychologie,SOIRÉES
ATTACH;FMTTYPE=image/webp:https://consciousparis.com/wp-content/uploads/2026/03/vincentfigureau-adamargoubi-consciousparis.webp
ORGANIZER;CN="Conscious Paris":MAILTO:info@consciousparis.com
END:VEVENT
END:VCALENDAR