BEGIN:VCALENDAR
VERSION:2.0
PRODID:-//Conscious Paris - ECPv6.15.20//NONSGML v1.0//EN
CALSCALE:GREGORIAN
METHOD:PUBLISH
X-WR-CALNAME:Conscious Paris
X-ORIGINAL-URL:https://consciousparis.com
X-WR-CALDESC:Évènements pour Conscious Paris
REFRESH-INTERVAL;VALUE=DURATION:PT1H
X-Robots-Tag:noindex
X-PUBLISHED-TTL:PT1H
BEGIN:VTIMEZONE
TZID:Europe/Paris
BEGIN:DAYLIGHT
TZOFFSETFROM:+0100
TZOFFSETTO:+0200
TZNAME:CEST
DTSTART:20250330T010000
END:DAYLIGHT
BEGIN:STANDARD
TZOFFSETFROM:+0200
TZOFFSETTO:+0100
TZNAME:CET
DTSTART:20251026T010000
END:STANDARD
BEGIN:DAYLIGHT
TZOFFSETFROM:+0100
TZOFFSETTO:+0200
TZNAME:CEST
DTSTART:20260329T010000
END:DAYLIGHT
BEGIN:STANDARD
TZOFFSETFROM:+0200
TZOFFSETTO:+0100
TZNAME:CET
DTSTART:20261025T010000
END:STANDARD
BEGIN:DAYLIGHT
TZOFFSETFROM:+0100
TZOFFSETTO:+0200
TZNAME:CEST
DTSTART:20270328T010000
END:DAYLIGHT
BEGIN:STANDARD
TZOFFSETFROM:+0200
TZOFFSETTO:+0100
TZNAME:CET
DTSTART:20271031T010000
END:STANDARD
END:VTIMEZONE
BEGIN:VEVENT
DTSTART;TZID=Europe/Paris:20260602T193000
DTEND;TZID=Europe/Paris:20260602T210000
DTSTAMP:20260420T170331
CREATED:20260403T145253Z
LAST-MODIFIED:20260403T150814Z
UID:33464-1780428600-1780434000@consciousparis.com
SUMMARY:Printemps\, remède à la mélancolie ? • Soirée poésie
DESCRIPTION:Fantôme hantant la culture occidentale depuis près de 2500 ans\, la mélancolie se porte plutôt bien de nos jours\, même si notre époque préfère pudiquement parler de « dépression »\, ou de « santé mentale ». \nD’Aristote à Jean Starobinski\, en passant par Dürer\, la melankholia\, cette « bile noire » provoque un état prolongé de tristesse et de crainte\, comme l’avait montré l’inoubliable exposition de Jean Clair\, Mélancolie. Génie et folie en Occident\, au Grand Palais\, en automne/hiver 2005-2006. \nLe printemps serait-il l’antithèse de la mélancolie? Pour plagier le titre d’une ancienne émission d’Eva Bester sur France Inter (de 2013 à 2021)\, cette saison de tous les renouveaux est-elle un remède à la mélancolie ? \nEt pourtant\, cette saison fêtée par les poètes\, les musiciens et les artistes en tous temps et en tous lieux\, n’est-elle pas parfois empreinte de spleen\, comme si l’exaltation de la renaissance comportait aussi l’angoisse de sa disparition ? Car tous les êtres mélancoliques savent d’instinct que la fleur à peine éclose est déjà fanée et que toute résurrection est une mort inversée. \nLes textes et poèmes de Ronsard\, Goethe\, Verlaine\, Ponge\, Proust\, ou encore Rilke\, lus par plusieurs récitants viendront éclairer les liens d’attirance et de répulsion qu’entretiennent printemps et mélancolie lors d’une nouvelle soirée poésie. \nVenez poétiser nombreux avec nous.
URL:https://consciousparis.com/evenement/printemps-remede-a-la-melancolie-soiree-poesie/
LOCATION:12 rue de Normandie
CATEGORIES:Philosophie, littérature & psychologie,SOIRÉES
ATTACH;FMTTYPE=image/webp:https://consciousparis.com/wp-content/uploads/2026/04/Poesie.webp
ORGANIZER;CN="Conscious Paris":MAILTO:info@consciousparis.com
END:VEVENT
BEGIN:VEVENT
DTSTART;TZID=Europe/Paris:20260604T193000
DTEND;TZID=Europe/Paris:20260604T203000
DTSTAMP:20260420T170331
CREATED:20260415T131556Z
LAST-MODIFIED:20260415T131656Z
UID:33523-1780601400-1780605000@consciousparis.com
SUMMARY:Taïwan : culture et identité d’une démocratie contestée • avec Emma Belmonte\, Philip Noubel\, Stellina Chen
DESCRIPTION:Chaque année depuis 1991\, un sondage recense le sentiment d’identité à Taiwan. En 2025\, 62% des personnes interrogées s’identifiaient comme exclusivement taïwanaises\, 25% comme exclusivement chinois\, tandis que 46% disent s’identifier comme à la fois taïwanais et chinois. En 1991\, seulement 17.6% s’identifiaient comme taïwanais. \nQue signifie ce changement ? \nPékin affirme aujourd’hui que l’île de Taïwan lui appartient et menace d’annexer par tous les moyens cette démocratie de facto indépendante\,…Mais au delà de cette menace\, on prend rarement le temps de parler de Taïwan et de sa population de plus de 23 millions d’habitants dont les vies basculeraient dans le cas d’une invasion chinoise. \nTaïwan abrite une société multiculturelle qui\, au travers des siècles\, a subi les colonisations espagnoles\, hollandaises\, japonaises\, et enfin la terrible loi martiale des nationalistes chinois de Chiang-Kai Shek. \nComment se définir alors comme peuple ? Et puis au fond qu’est-ce qu’une “identité nationale” ? \nEn mêlant réflexions culturelles\, historiques\, politiques et géopolitiques\, nous explorerons l’identité taïwanaise. \n  \n—— \nEmma Belmonte : Journaliste et reporter spécialisée sur la Chine et Taïwan\, elle est notamment autrice d’un reportage dans l’archipel Matsu (Taïwan) pour GEO magazine et d’un reportage en Chine pour Figaro Magazine. Elle est analyste spécialisée sur la Chine pour l’Association for International Affairs (AMO) ainsi que l’autrice d’un mémoire de recherche sur les arts de la scène contemporains taïwanais. \nFilip Noubel : Journaliste et expert\, Filip mène une double carrière\, travaillant à la fois pour les médias (Times of Central Asia\, Global Voices\, The Battleground) et pour des think tanks et des organisations internationales (ONU\, International Crisis Group\, Internews\, Institute for War and Peace Reporting\, AMO\, CAPS Unlock\, IIAS). Il est notamment l’auteur de reportages et d’enquêtes de terrain en Chine (10 ans) et à Taïwan (3 ans). \nStellina Chen : Dessinatrice de presse\, membre de Cartooning for Peace\, ses dessins ont été publiés par Le Monde\, France 24\, Courrier International\, Le Temps\, et bien d’autres. En 2020\, elle a publié la bande-dessinée _En quête de racines_ (qui raconte l’histoire de sa famille qui a fui la Chine pour Taiwan pendant la guerre civile) et en 2024 _La cour des grands_ . Elle est également correspondante pour la rédaction chinoise de Radio France Internationale (RFI)\, pour qui elle couvre l’actualité de Taïwan.
URL:https://consciousparis.com/evenement/taiwan-culture-et-identite-dune-democratie-contestee/
LOCATION:12 rue de Normandie
CATEGORIES:Géopolitique, histoire & enjeux sociétaux,SOIRÉES
ORGANIZER;CN="Conscious Paris":MAILTO:info@consciousparis.com
END:VEVENT
BEGIN:VEVENT
DTSTART;TZID=Europe/Paris:20260606T160000
DTEND;TZID=Europe/Paris:20260606T173000
DTSTAMP:20260420T170331
CREATED:20260408T113607Z
LAST-MODIFIED:20260408T113621Z
UID:33490-1780761600-1780767000@consciousparis.com
SUMMARY:L’après-midi des idées — Cyberpunk - Le nouveau système totalitaire\, avec Asma Mhalla
DESCRIPTION:À l’occasion d’une rencontre exceptionnelle\, nous avons le plaisir d’accueillir Asma Mhalla pour une discussion autour de son ouvrage Cyberpunk – Le nouveau système totalitaire. \nDans ce livre incisif\, elle analyse les mutations profondes de nos sociétés à l’ère du numérique\, où les grandes entreprises technologiques redessinent les équilibres de pouvoir traditionnels. Entre surveillance\, influence et souveraineté\, Asma Mhalla propose une lecture éclairante des dynamiques contemporaines\, à la croisée de la technologie et de la politique. \nCette rencontre sera l’occasion d’explorer ces enjeux majeurs\, d’échanger autour des nouvelles formes de pouvoir à l’œuvre\, et d’ouvrir une réflexion sur l’avenir de nos démocraties. \nAsma Mhalla est politologue et essayiste. Elle est l’autrice d’un premier livre remarqué\, Technopolitique. Comment la technologie fait de nous des soldats (Seuil\, 2024).
URL:https://consciousparis.com/evenement/lapres-midi-des-idees-cyberpunk-le-nouveau-systeme-totalitaire-asma-mhalla/
LOCATION:12 rue de Normandie
CATEGORIES:Géopolitique, histoire & enjeux sociétaux,SOIRÉES
ATTACH;FMTTYPE=image/webp:https://consciousparis.com/wp-content/uploads/2026/04/asmamhalla-cyberpunk-consciousparis.webp
ORGANIZER;CN="Conscious Paris":MAILTO:info@consciousparis.com
END:VEVENT
END:VCALENDAR