BEGIN:VCALENDAR
VERSION:2.0
PRODID:-//Conscious Paris - ECPv6.15.20//NONSGML v1.0//EN
CALSCALE:GREGORIAN
METHOD:PUBLISH
X-ORIGINAL-URL:https://consciousparis.com
X-WR-CALDESC:Évènements pour Conscious Paris
REFRESH-INTERVAL;VALUE=DURATION:PT1H
X-Robots-Tag:noindex
X-PUBLISHED-TTL:PT1H
BEGIN:VTIMEZONE
TZID:Europe/Paris
BEGIN:DAYLIGHT
TZOFFSETFROM:+0100
TZOFFSETTO:+0200
TZNAME:CEST
DTSTART:20250330T010000
END:DAYLIGHT
BEGIN:STANDARD
TZOFFSETFROM:+0200
TZOFFSETTO:+0100
TZNAME:CET
DTSTART:20251026T010000
END:STANDARD
BEGIN:DAYLIGHT
TZOFFSETFROM:+0100
TZOFFSETTO:+0200
TZNAME:CEST
DTSTART:20260329T010000
END:DAYLIGHT
BEGIN:STANDARD
TZOFFSETFROM:+0200
TZOFFSETTO:+0100
TZNAME:CET
DTSTART:20261025T010000
END:STANDARD
BEGIN:DAYLIGHT
TZOFFSETFROM:+0100
TZOFFSETTO:+0200
TZNAME:CEST
DTSTART:20270328T010000
END:DAYLIGHT
BEGIN:STANDARD
TZOFFSETFROM:+0200
TZOFFSETTO:+0100
TZNAME:CET
DTSTART:20271031T010000
END:STANDARD
END:VTIMEZONE
BEGIN:VEVENT
DTSTART;TZID=Europe/Paris:20260425T160000
DTEND;TZID=Europe/Paris:20260425T170000
DTSTAMP:20260420T135736
CREATED:20260327T175538Z
LAST-MODIFIED:20260415T184409Z
UID:33434-1777132800-1777136400@consciousparis.com
SUMMARY:L’après-midi des idées — La fin d'un monde\, avec Pierre Haski
DESCRIPTION:À l’occasion de la parution de La fin d’un monde\, nous sommes heureux de vous accueillir pour une après-midi rencontre avec Pierre Haski.  \nAu cours d’un échange\, Pierre Haski reviendra non seulement sur les transformations profondes des équilibres géopolitiques\, mais aussi sur ses expériences personnelles de terrain. Derrière ce constat\, se dessine une question essentielle : quel monde sommes-nous en train de construire ? \n— \n« Je suis né avec la décolonisation de l’Afrique que j’ai sillonnée de long en large ; j’ai grandi avec la guerre froide\, que j’ai vue disparaître au centre de l’Europe ; j’ai été témoin de l’essor inexorable\, majeur\, de la Chine; j’ai parcouru les terres meurtries du Proche-Orient ; et je tente chaque matin\, depuis huit ans\, d’analyser au micro de France Inter la bascule du monde. Cela fait un demi-siècle que j’accompagne\, en tant que journaliste – reporter\, correspondant ou éditorialiste – et pour le meilleur comme le pire\, les transformations de notre planète. Or ce monde est devenu plus difficile à “lire”\, plus déroutant\, plus inquiétant également. Dans ce récit\, je puise dans mes expériences\, mes rencontres\, mon histoire personnelle aussi\, de quoi expliquer ce que nous vivons aujourd’hui : la fin d’un monde\, celui qui est sorti de la Seconde Guerre mondiale avec ses institutions imparfaites et ses règles de droit souvent malmenées. Le monde d’aujourd’hui n’est déjà plus celui d’hier. Celui de demain sera-t-il celui des rapports de force et des systèmes autoritaires\, ou aurons-nous lasagesse d’en bâtir un nouveau\, plus équitable et ouvert ? »
URL:https://consciousparis.com/evenement/lapres-midi-des-idees-la-fin-dun-monde-avec-pierre-haski/
LOCATION:12 rue de Normandie
CATEGORIES:Géopolitique, histoire & enjeux sociétaux,SOIRÉES
ATTACH;FMTTYPE=image/jpeg:https://consciousparis.com/wp-content/uploads/2026/03/Cartes-postales-artistes-6.jpg
ORGANIZER;CN="Conscious Paris":MAILTO:info@consciousparis.com
END:VEVENT
BEGIN:VEVENT
DTSTART;TZID=Europe/Paris:20260428T193000
DTEND;TZID=Europe/Paris:20260428T210000
DTSTAMP:20260420T135737
CREATED:20260416T144037Z
LAST-MODIFIED:20260416T144711Z
UID:33538-1777404600-1777410000@consciousparis.com
SUMMARY:CONCERT • Dernier Motel ouvre l'une de ses chambres
DESCRIPTION:Mardi 28 avril\, le groupe Dernier Motel s’empare de Conscious pour un concert tout à fait particulier au coeur de l’exposition ‘Et je dis à l’ombre\, reste !”. Invité dans un monde surréaliste\, entre David Lynch et Stanley Kubrick\, le public vient partager ses rêves avec\, pour cette fois ci\, trois interprètes sur scène : Frédéric\, Hugo et Jean-Baptiste.  \nIssus du Conservatoire National d’Art Dramatique et du Conservatoire National de Musique\, les garçons de Dernier Motel ont imaginé un concept à la croisée de leurs disciplines. Le concert puise autant dans l’art\, la musique que le théâtre ou le cinéma\, pour donner vie à un décor vintage et fantasmé\, fait de chambres\, de couloirs\, de tapisseries\, de costumes\, rouge à lèvre\, gomina\, tourne – disque d’autostoppeurs\, de fumée\, de rêves et de cauchemars… Le public n’écoute pas seulement une histoire : devenu client du motel\, il participe entièrement à la grande fête de celui-ci.
URL:https://consciousparis.com/evenement/concert-dernier-motel-ouvre-lune-de-ses-chambres/
LOCATION:12 rue de Normandie
CATEGORIES:Arts & architecture,SOIRÉES
ATTACH;FMTTYPE=image/jpeg:https://consciousparis.com/wp-content/uploads/2026/04/IMG_9632.jpg
ORGANIZER;CN="Conscious Paris":MAILTO:info@consciousparis.com
END:VEVENT
BEGIN:VEVENT
DTSTART;TZID=Europe/Paris:20260429T193000
DTEND;TZID=Europe/Paris:20260429T203000
DTSTAMP:20260420T135737
CREATED:20260410T120903Z
LAST-MODIFIED:20260414T171103Z
UID:33499-1777491000-1777494600@consciousparis.com
SUMMARY:Être gay à Paris : histoire d’une émancipation • Avec Frédéric Pennel
DESCRIPTION:Depuis le XVIIe siècle\, être « gay » à Paris n’a pas été de tout repos. Un long chemin sinueux dans les milieux interlopes\, entre tolérance et persécutions. Des frasques de Philippe d’Orléans aux condamnations sur le bûcher\, de l’exil d’Oscar Wilde au Marais arc-en-ciel\, découvrons ce monde souterrain qui a quitté les bas-fond pour gagner la lumière.
URL:https://consciousparis.com/evenement/le-paris-gay-des-bas-fonds-a-la-lumiere-avec-frederic-pennel/
LOCATION:12 rue de Normandie
CATEGORIES:Arts & architecture,SOIRÉES
ATTACH;FMTTYPE=image/webp:https://consciousparis.com/wp-content/uploads/2026/04/Cartes-postales-artistes-12.webp
ORGANIZER;CN="Conscious Paris":MAILTO:info@consciousparis.com
END:VEVENT
END:VCALENDAR